BEGIN:VCALENDAR
VERSION:2.0
PRODID:-//Grid Magazine - ECPv6.15.20//NONSGML v1.0//EN
CALSCALE:GREGORIAN
METHOD:PUBLISH
X-ORIGINAL-URL:https://gridphilly.com
X-WR-CALDESC:Events for Grid Magazine
REFRESH-INTERVAL;VALUE=DURATION:PT1H
X-Robots-Tag:noindex
X-PUBLISHED-TTL:PT1H
BEGIN:VTIMEZONE
TZID:America/New_York
BEGIN:DAYLIGHT
TZOFFSETFROM:-0500
TZOFFSETTO:-0400
TZNAME:EDT
DTSTART:20240310T070000
END:DAYLIGHT
BEGIN:STANDARD
TZOFFSETFROM:-0400
TZOFFSETTO:-0500
TZNAME:EST
DTSTART:20241103T060000
END:STANDARD
BEGIN:DAYLIGHT
TZOFFSETFROM:-0500
TZOFFSETTO:-0400
TZNAME:EDT
DTSTART:20250309T070000
END:DAYLIGHT
BEGIN:STANDARD
TZOFFSETFROM:-0400
TZOFFSETTO:-0500
TZNAME:EST
DTSTART:20251102T060000
END:STANDARD
BEGIN:DAYLIGHT
TZOFFSETFROM:-0500
TZOFFSETTO:-0400
TZNAME:EDT
DTSTART:20260308T070000
END:DAYLIGHT
BEGIN:STANDARD
TZOFFSETFROM:-0400
TZOFFSETTO:-0500
TZNAME:EST
DTSTART:20261101T060000
END:STANDARD
END:VTIMEZONE
BEGIN:VEVENT
DTSTART;TZID=America/New_York:20250304T173000
DTEND;TZID=America/New_York:20250304T183000
DTSTAMP:20260419T132450
CREATED:20250227T185229Z
LAST-MODIFIED:20250227T185229Z
UID:10017416-1741109400-1741113000@gridphilly.com
SUMMARY:Zine Workshop with the Philadelphia Mycology Club
DESCRIPTION:Join the Philadelphia Mycology Club for a free mushroom-themed zine workshop. \nLed by Pixel\, our instructor\, we’ll look at and talk about zines and books on mushrooms and related topics\, do a movement activity to embody the lifecycle of a fungus and a meditation on fungi as a part of our lives\, followed by a discussion to explore the things that come to mind (where do we see fungi in our cultures\, how are they represented and how do they make us feel). We’ll then transition to a zine making session. Paper\, tools\, collage and drawing materials will be provided. \nSpace in this free workshop is limited; please arrive promptly to secure a seat. Wearing a mask is strongly preferred.  \nEmail us if you have any questions or accessibility requests: art@freelibrary.org
URL:https://gridphilly.com/event/zine-workshop-with-the-philadelphia-mycology-club/
LOCATION:Free Library of Philadelphia (Parkway Central Branch)\, 1901 Vine Street\, Philadelphia\, PA\, 19103\, United States
ATTACH;FMTTYPE=image/png:https://gridphilly.com/wp-content/uploads/2025/02/MycologyZine.png
ORGANIZER;CN="Philadelphia Mycology Club":MAILTO:Info@phillymycoclub.com
END:VEVENT
END:VCALENDAR