BEGIN:VCALENDAR
VERSION:2.0
PRODID:-//Grid Magazine - ECPv6.15.20//NONSGML v1.0//EN
CALSCALE:GREGORIAN
METHOD:PUBLISH
X-ORIGINAL-URL:https://gridphilly.com
X-WR-CALDESC:Events for Grid Magazine
REFRESH-INTERVAL;VALUE=DURATION:PT1H
X-Robots-Tag:noindex
X-PUBLISHED-TTL:PT1H
BEGIN:VTIMEZONE
TZID:America/New_York
BEGIN:DAYLIGHT
TZOFFSETFROM:-0500
TZOFFSETTO:-0400
TZNAME:EDT
DTSTART:20240310T070000
END:DAYLIGHT
BEGIN:STANDARD
TZOFFSETFROM:-0400
TZOFFSETTO:-0500
TZNAME:EST
DTSTART:20241103T060000
END:STANDARD
BEGIN:DAYLIGHT
TZOFFSETFROM:-0500
TZOFFSETTO:-0400
TZNAME:EDT
DTSTART:20250309T070000
END:DAYLIGHT
BEGIN:STANDARD
TZOFFSETFROM:-0400
TZOFFSETTO:-0500
TZNAME:EST
DTSTART:20251102T060000
END:STANDARD
BEGIN:DAYLIGHT
TZOFFSETFROM:-0500
TZOFFSETTO:-0400
TZNAME:EDT
DTSTART:20260308T070000
END:DAYLIGHT
BEGIN:STANDARD
TZOFFSETFROM:-0400
TZOFFSETTO:-0500
TZNAME:EST
DTSTART:20261101T060000
END:STANDARD
END:VTIMEZONE
BEGIN:VEVENT
DTSTART;TZID=America/New_York:20250716T183000
DTEND;TZID=America/New_York:20250716T200000
DTSTAMP:20260421T013743
CREATED:20250627T200214Z
LAST-MODIFIED:20250627T200214Z
UID:10019625-1752690600-1752696000@gridphilly.com
SUMMARY:Junior League of Philadelphia New Member Interest Session
DESCRIPTION:The Junior League of Philadelphia is seeking dedicated prospective members who share its mission of promoting women’s empowerment within the community. The JLP will be hosting new member interest sessions throughout the summer where prospective members will hear from current members about JLP’s mission\, key community service initiatives\, and “why” they joined!
URL:https://gridphilly.com/event/junior-league-of-philadelphia-new-member-interest-session-3/
LOCATION:Frankford Hall\, 1210 Frankford Avenue\, Philadelphia\, PA\, 19125\, United States
CATEGORIES:Community Service,Events,Membership,Other,Volunteer Opportunities,Volunteer Service,Weekly & Monthly
ATTACH;FMTTYPE=image/jpeg:https://gridphilly.com/wp-content/uploads/2025/06/Monthly-Events-IG-PostsStories-Meet-the-JLP-2025.jpeg
ORGANIZER;CN="Junior League of Philadelphia":MAILTO:info@jlphiladelphia.org
END:VEVENT
BEGIN:VEVENT
DTSTART;TZID=America/New_York:20250225T173000
DTEND;TZID=America/New_York:20250225T193000
DTSTAMP:20260421T013743
CREATED:20250217T181352Z
LAST-MODIFIED:20250217T181352Z
UID:10017239-1740504600-1740511800@gridphilly.com
SUMMARY:YPE Involvement Happy Hour - Frankford Hall
DESCRIPTION:Join YPE for a recruiting happy hour at Frankford Hall! Meet new board members\, get involved\, and enjoy great company & drinks!\n\n\nYoung Professionals in Energy (YPE) is excited to announce its upcoming involvement happy hour on February 25th\, 2025 at Frankford Hall! This event provides a platform to get involved with the energy community and industry across Greater Philadelphia. YPE serves to engage and connect professionals\, entrepreneurs\, and enthusiasts working across various sectors in the energy industry. \n \nKicking off at 5:30 PM\, this casual gathering invites young energy professionals to connect and get involved. With Frankford Hall’s great drinks and tasty menu\, it’s the ideal spot for conversations and building connections with those interested in joining the board. Express your interest by completing this short form. \n \nRemember to bring your business cards and your enthusiasm for all things energy! All interested energy professionals who would like to get involved with YPE are welcome to attend. \n \nPlease note: While the event itself is free\, attendees are responsible for purchasing their own food and drinks. \n \nSee you at Frankford Hall!
URL:https://gridphilly.com/event/ype-involvement-happy-hour-frankford-hall/
LOCATION:Frankford Hall\, 1210 Frankford Avenue\, Philadelphia\, PA\, 19125\, United States
ATTACH;FMTTYPE=image/jpeg:https://gridphilly.com/wp-content/uploads/2025/02/36e9756a266ad5bcc9e7db3f96bb5ab1.jpg
END:VEVENT
END:VCALENDAR