BEGIN:VCALENDAR
VERSION:2.0
PRODID:-//Grid Magazine - ECPv6.15.20//NONSGML v1.0//EN
CALSCALE:GREGORIAN
METHOD:PUBLISH
X-WR-CALNAME:Grid Magazine
X-ORIGINAL-URL:https://gridphilly.com
X-WR-CALDESC:Events for Grid Magazine
REFRESH-INTERVAL;VALUE=DURATION:PT1H
X-Robots-Tag:noindex
X-PUBLISHED-TTL:PT1H
BEGIN:VTIMEZONE
TZID:America/New_York
BEGIN:DAYLIGHT
TZOFFSETFROM:-0500
TZOFFSETTO:-0400
TZNAME:EDT
DTSTART:20230312T070000
END:DAYLIGHT
BEGIN:STANDARD
TZOFFSETFROM:-0400
TZOFFSETTO:-0500
TZNAME:EST
DTSTART:20231105T060000
END:STANDARD
BEGIN:DAYLIGHT
TZOFFSETFROM:-0500
TZOFFSETTO:-0400
TZNAME:EDT
DTSTART:20240310T070000
END:DAYLIGHT
BEGIN:STANDARD
TZOFFSETFROM:-0400
TZOFFSETTO:-0500
TZNAME:EST
DTSTART:20241103T060000
END:STANDARD
BEGIN:DAYLIGHT
TZOFFSETFROM:-0500
TZOFFSETTO:-0400
TZNAME:EDT
DTSTART:20250309T070000
END:DAYLIGHT
BEGIN:STANDARD
TZOFFSETFROM:-0400
TZOFFSETTO:-0500
TZNAME:EST
DTSTART:20251102T060000
END:STANDARD
END:VTIMEZONE
BEGIN:VEVENT
DTSTART;TZID=America/New_York:20241012T150000
DTEND;TZID=America/New_York:20241013T100000
DTSTAMP:20260421T023837
CREATED:20241007T151836Z
LAST-MODIFIED:20241007T151836Z
UID:10014947-1728745200-1728813600@gridphilly.com
SUMMARY:Coyote Tracks Family Campout Fundraiser
DESCRIPTION:Join Coyote Tracks for an overnight of Camping\, Coals\, and Community! All funds help support our Coyote Tracks Programs in Philadelphia\n\n\nThe goal of this fundraising event is to raise money for Coyote Tracks Youth Programs scholarship fund while providing an excellent camping experience for first time and seasoned campers alike! \n \nPack a picnic\, and come spend the night with your family camping under the stars. We will have coals to cook on\, a couple camping stoves to use\, activities\, and story time. Together we will connect deeper to nature and family together. \nCost is offered via a Tiered System: \n\nTier 1 – $75 / Camper\nTier 2 – $50 / Camper\nTier 3 – $25 / Camper\n\n“If we can only learn to understand the innate beauty of nature’s little things\, to experience the rapture of appreciation\, we will truly know nature for what it is: a kind and gentle teacher that keeps us rooted to the soil even in the sterility of the largest cities.” — Tom Brown Jr.\, ‘The Forgotten Wilderness’ \nWhat: Join Coyote Tracks for an overnight fundraising event of Camping\, Coals\, and Community \nWhere: Fort Washington State Park \nWhen: Saturday\, Oc. 12th 3:00pm – Sunday\, Oct. 13th10:00am \nBring: Tents/overnight needs\, dinner and breakfast picnic foods\, and excitement! Hot water for coffee / tea\, as well as two camping stoves and a gas grill will be available for group usage. A dishes station will be provided. \n \nIf you want to come but don’t have the gear\, please reach out! \n \nSee you there!
URL:https://gridphilly.com/event/coyote-tracks-family-campout-fundraiser/
LOCATION:Fort Washington State Park\, 500 South Bethlehem Pike\, Fort Washington\, PA\, 19034\, United States
ATTACH;FMTTYPE=image/jpeg:https://gridphilly.com/wp-content/uploads/2024/10/f104ffd300d626279075e1e0281f384b.jpg
END:VEVENT
END:VCALENDAR