BEGIN:VCALENDAR
VERSION:2.0
PRODID:-//Grid Magazine - ECPv6.15.20//NONSGML v1.0//EN
CALSCALE:GREGORIAN
METHOD:PUBLISH
X-WR-CALNAME:Grid Magazine
X-ORIGINAL-URL:https://gridphilly.com
X-WR-CALDESC:Events for Grid Magazine
REFRESH-INTERVAL;VALUE=DURATION:PT1H
X-Robots-Tag:noindex
X-PUBLISHED-TTL:PT1H
BEGIN:VTIMEZONE
TZID:America/New_York
BEGIN:DAYLIGHT
TZOFFSETFROM:-0500
TZOFFSETTO:-0400
TZNAME:EDT
DTSTART:20230312T070000
END:DAYLIGHT
BEGIN:STANDARD
TZOFFSETFROM:-0400
TZOFFSETTO:-0500
TZNAME:EST
DTSTART:20231105T060000
END:STANDARD
BEGIN:DAYLIGHT
TZOFFSETFROM:-0500
TZOFFSETTO:-0400
TZNAME:EDT
DTSTART:20240310T070000
END:DAYLIGHT
BEGIN:STANDARD
TZOFFSETFROM:-0400
TZOFFSETTO:-0500
TZNAME:EST
DTSTART:20241103T060000
END:STANDARD
BEGIN:DAYLIGHT
TZOFFSETFROM:-0500
TZOFFSETTO:-0400
TZNAME:EDT
DTSTART:20250309T070000
END:DAYLIGHT
BEGIN:STANDARD
TZOFFSETFROM:-0400
TZOFFSETTO:-0500
TZNAME:EST
DTSTART:20251102T060000
END:STANDARD
END:VTIMEZONE
BEGIN:VEVENT
DTSTART;TZID=America/New_York:20240518T090000
DTEND;TZID=America/New_York:20240518T120000
DTSTAMP:20260421T092324
CREATED:20240410T191909Z
LAST-MODIFIED:20240410T191909Z
UID:10012445-1716022800-1716033600@gridphilly.com
SUMMARY:Wissahickon Women's Workday
DESCRIPTION:Meeting at Forbidden Drive & Bells Mill Road \nThis Saturday we’re shaking things up and running a volunteer service day for women of the Wissahickon! We welcome cis and trans women & girls\, as well as people of other gender identities who feel most aligned with this group. We ask that men interested in volunteering find other ways to enjoy the park on this date and join us for another service day in the future! We’ll be working on trail improvements along the popular Monster Trail (northern terminus of the Yellow Trail) which will be led by an all-female team. This will be an empowering day of community and service!\nNo experience is needed. We provide gloves\, tools and instruction – you just need to show up! Volunteer service Days are excellent\, easy ways to help us take care of Wissahickon Valley Park. Be sure to wear sturdy footwear and long pants\, and bring a water bottle with you. Detailed information and the specific meeting location will be sent by email the day before the event. For more information contact Marisa Miller at miller@fow.org.\nRegister Below!
URL:https://gridphilly.com/event/wissahickon-womens-workday/
LOCATION:Forbidden Drive and Bells Mill Rd.\, Forbidden Drive and Bells Mill Rd. \, Philadelphia\, PA\, 19118\, United States
CATEGORIES:Event
ATTACH;FMTTYPE=image/webp:https://gridphilly.com/wp-content/uploads/2024/04/Wissahickon-Women-scaled-fOBOUz.tmp_.webp
END:VEVENT
END:VCALENDAR