BEGIN:VCALENDAR
VERSION:2.0
PRODID:-//Grid Magazine - ECPv6.15.20//NONSGML v1.0//EN
CALSCALE:GREGORIAN
METHOD:PUBLISH
X-WR-CALNAME:Grid Magazine
X-ORIGINAL-URL:https://gridphilly.com
X-WR-CALDESC:Events for Grid Magazine
REFRESH-INTERVAL;VALUE=DURATION:PT1H
X-Robots-Tag:noindex
X-PUBLISHED-TTL:PT1H
BEGIN:VTIMEZONE
TZID:America/New_York
BEGIN:DAYLIGHT
TZOFFSETFROM:-0500
TZOFFSETTO:-0400
TZNAME:EDT
DTSTART:20220313T070000
END:DAYLIGHT
BEGIN:STANDARD
TZOFFSETFROM:-0400
TZOFFSETTO:-0500
TZNAME:EST
DTSTART:20221106T060000
END:STANDARD
BEGIN:DAYLIGHT
TZOFFSETFROM:-0500
TZOFFSETTO:-0400
TZNAME:EDT
DTSTART:20230312T070000
END:DAYLIGHT
BEGIN:STANDARD
TZOFFSETFROM:-0400
TZOFFSETTO:-0500
TZNAME:EST
DTSTART:20231105T060000
END:STANDARD
BEGIN:DAYLIGHT
TZOFFSETFROM:-0500
TZOFFSETTO:-0400
TZNAME:EDT
DTSTART:20240310T070000
END:DAYLIGHT
BEGIN:STANDARD
TZOFFSETFROM:-0400
TZOFFSETTO:-0500
TZNAME:EST
DTSTART:20241103T060000
END:STANDARD
BEGIN:DAYLIGHT
TZOFFSETFROM:-0500
TZOFFSETTO:-0400
TZNAME:EDT
DTSTART:20250309T070000
END:DAYLIGHT
BEGIN:STANDARD
TZOFFSETFROM:-0400
TZOFFSETTO:-0500
TZNAME:EST
DTSTART:20251102T060000
END:STANDARD
BEGIN:DAYLIGHT
TZOFFSETFROM:-0500
TZOFFSETTO:-0400
TZNAME:EDT
DTSTART:20260308T070000
END:DAYLIGHT
BEGIN:STANDARD
TZOFFSETFROM:-0400
TZOFFSETTO:-0500
TZNAME:EST
DTSTART:20261101T060000
END:STANDARD
BEGIN:DAYLIGHT
TZOFFSETFROM:-0500
TZOFFSETTO:-0400
TZNAME:EDT
DTSTART:20270314T070000
END:DAYLIGHT
BEGIN:STANDARD
TZOFFSETFROM:-0400
TZOFFSETTO:-0500
TZNAME:EST
DTSTART:20271107T060000
END:STANDARD
END:VTIMEZONE
BEGIN:VEVENT
DTSTART;TZID=America/New_York:20260411T150000
DTEND;TZID=America/New_York:20260411T170000
DTSTAMP:20260421T100248
CREATED:20260329T220817Z
LAST-MODIFIED:20260409T023736Z
UID:10030539-1775919600-1775926800@gridphilly.com
SUMMARY:Sis Walks & Talks (Reschedule Rain Date)
DESCRIPTION:Sis Walks & Talks is a sacred space for women to walk\, talk\, and heal together. Through intentional movement and meaningful conversation.\n\n\nSis Walks & Talks is a community-centered experience designed for women to connect\, reflect\, and grow together-physically\, mentally\, and spiritually. It’s more than just a walk; it’s a safe space for meaningful conversations\, sisterhood\, and self-care in nature. \nThis beautiful trail offers a peaceful\, scenic setting where we can enjoy nature\, move our bodies\, ano engage in uplifting discussions. \nWhat to Expect: \n\nA refreshing walk through nature’s beauty\nOpen and supportive conversations\nLight nutritional snack & water\nA welcoming space to connect with like-minded women\n\nWhy Join? \nSis Walks & Talks is all about showing up for yourself and each other. Whether you ‘re looking for a mindful break\, new connections\, or simply time to breathe\, this is your space.
URL:https://gridphilly.com/event/sis-walks-talks-13/
LOCATION:FDR Park\, 1500 Pattison Ave\, Philadelphia\, 19145\, United States
ATTACH;FMTTYPE=image/jpeg:https://gridphilly.com/wp-content/uploads/2025/09/b4c629189bb1e54d137dfc13dafb159c.jpg
END:VEVENT
BEGIN:VEVENT
DTSTART;TZID=America/New_York:20260325T090000
DTEND;TZID=America/New_York:20260325T120000
DTSTAMP:20260421T100248
CREATED:20260314T215427Z
LAST-MODIFIED:20260314T215427Z
UID:10030237-1774429200-1774440000@gridphilly.com
SUMMARY:FDR Community Workday
DESCRIPTION:FDR Community Workday\n\n\nCome volunteer with us for a community workday at the Pattison Lagoon at FDR Park!\n\n\nDate\nWednesday\, March 25 \n\n\n\nTime\n9:00 am – 12:00 pm \n\n\n\nLocation\nFDR Park \n1500 Pattison Avenue &\, S Broad St\, Philadelphia\, PA 19145 \n\n\n\nJoin the Fairmount Park Conservancy team for a volunteer workday around the Pattison Lagoon on Wednesday\, March 25th\, from 9:00 AM – 12:00 PM. \nSince fall 2023\, the Conservancy has been working to clear invasives and plant new native trees\, shrubs\, flowers\, and grasses along the edges of Pattison Lagoon with the help of volunteer groups\, including the Phillies. Join us in caring for and establishing these plantings to support local wildlife and make a lasting impact on the lagoon’s ecosystem. Let’s continue this important work together! \nThis public volunteer event is open to all ages and people of all abilities. Anyone interested is welcome to participate. \nPlease use the Anna C. Verna Playground parking lot. \nVolunteers will be able to select their project\, including: \n*  Tree care\, weeding & mulching \n*  Trash cleanup as needed \nFDR Park is a 348-acre estuary park located in South Philadelphia that serves local neighbors and regional visitors with a variety of active recreational features and unique ecological assets. This work around the Pattison Lagoon is part of the FDR Park Plan – Philly’s largest\, most public-facing investment in climate resilience that builds better\, more diverse access for everyone in the city. Learn more here. \n\nTimeline for Event \n9:00 am: Arrival and Registration\n9:15 am: Welcome Remarks\, Project & Safety Overview \n9:30 am: Begin Projects \n10:00 am: Group Photo\n11:45 am: Call to Stop Work and gather Tools\n11:55 am: Closing Remarks\n12:00 pm: Event Ends \n\nKNOW BEFORE YOU GO: \n\nIn general\, please wear comfortable clothes that you don’t mind getting dirty.\nSturdy\, closed-toe shoes like boots or sneakers are required (no ballet flats\, flip-flops\, or sandals).\nWe strongly recommend wearing long pants that cover your ankles and long sleeves to protect your arms.\nPlease bring a reusable water bottle. We will provide jugs for refilling.\nVolunteers are also required to wear gloves while working. Gloves will be provided\, but you are also welcome to bring your own.\nYou may also want to consider wearing a hat or sunglasses.\n\n\nGETTING THERE/PARKING: Use the entrance closer to the intersection on Pattison Ave and S. Broad St. Then follow the road and turn right to the Playground. \n\n Plenty of free parking is available in the park.\nThe park is easily accessible by the SEPTA Orange/Broad Street subway line\, as well as Bus 17.\nWe recommend using the 20th Street bike lane to access the park via bicycle.\n\n**Please don’t leave valuables or anything visible in your vehicles.**  \n\nINCLEMENT WEATHER PROTOCOL \n\nThis workday will take place in light rain. In the event of heavy rain or other severe conditions\, the workday will be canceled and registrants will be notified.\n\n\nQUESTIONS? Please reach out to eduenas@myphillypark.org \nLooking for more ways to support our work? Play it forward for Philly parks! Fairmount Park Conservancy’s Fair Play Campaign is creating healthy park infrast
URL:https://gridphilly.com/event/fdr-community-workday-2/
LOCATION:FDR Park\, 1500 Pattison Ave\, Philadelphia\, 19145\, United States
ATTACH;FMTTYPE=image/jpeg:https://gridphilly.com/wp-content/uploads/2026/03/FDR-event-pic.jpg
END:VEVENT
BEGIN:VEVENT
DTSTART;TZID=America/New_York:20260318T090000
DTEND;TZID=America/New_York:20260318T120000
DTSTAMP:20260421T100248
CREATED:20260314T214941Z
LAST-MODIFIED:20260314T214941Z
UID:10030235-1773824400-1773835200@gridphilly.com
SUMMARY:FDR Community Workday
DESCRIPTION:FDR Community Workday\n\n\n\nCome volunteer with us for a community workday at the Pattison Lagoon at FDR Park! \n\n\n\nDate\nWednesday\, March 18 \n\n\n\nTime\n9:00 am – 12:00 pm \n\n\n\nLocation\nFDR Park \n1500 Pattison Avenue &\, S Broad St\, Philadelphia\, PA 19145 \nJoin the Fairmount Park Conservancy team for a volunteer workday around the Pattison Lagoon on Wednesday\, March 18th\, from 9:00 AM – 12:00 PM. \nSince fall 2023\, the Conservancy has been working to clear invasives and plant new native trees\, shrubs\, flowers\, and grasses along the edges of Pattison Lagoon with the help of volunteer groups\, including the Phillies. Join us in caring for and establishing these plantings to support local wildlife and make a lasting impact on the lagoon’s ecosystem. Let’s continue this important work together! \nThis public volunteer event is open to all ages and people of all abilities. Anyone interested is welcome to participate. \nPlease use the Anna C. Verna Playground parking lot. \nVolunteers will be able to select their project\, including: \n\nTree care\, weeding & mulching\nTrash cleanup as needed\n\nFDR Park is a 348-acre estuary park located in South Philadelphia that serves local neighbors and regional visitors with a variety of active recreational features and unique ecological assets. This work around the Pattison Lagoon is part of the FDR Park Plan – Philly’s largest\, most public-facing investment in climate resilience that builds better\, more diverse access for everyone in the city. Learn more here. \nTimeline for Event \n9:00 am: Arrival and Registration\n9:15 am: Welcome Remarks\, Project & Safety Overview \n9:30 am: Begin Projects \n10:00 am: Group Photo\n11:45 am: Call to Stop Work and gather Tools\n11:55 am: Closing Remarks\n12:00 pm: Event Ends \nKNOW BEFORE YOU GO: \n\nIn general\, please wear comfortable clothes that you don’t mind getting dirty.\nSturdy\, closed-toe shoes like boots or sneakers are required (no ballet flats\, flip-flops\, or sandals).\nWe strongly recommend wearing long pants that cover your ankles and long sleeves to protect your arms.\nPlease bring a reusable water bottle. We will provide jugs for refilling.\nVolunteers are also required to wear gloves while working. Gloves will be provided\, but you are also welcome to bring your own.\nYou may also want to consider wearing a hat or sunglasses.\n\n\nGETTING THERE/PARKING: Use the entrance closer to the intersection on Pattison Ave and S. Broad St. Then follow the road and turn right to the Playground. \n\nPlenty of free parking is available in the park.\nThe park is easily accessible by the SEPTA Orange/Broad Street subway line\, as well as Bus 17.\nWe recommend using the 20th Street bike lane to access the park via bicycle.\n\n**Please don’t leave valuables or anything visible in your vehicles.**  \n\n INCLEMENT WEATHER PROTOCOL \n\nThis workday will take place in light rain. In the event of heavy rain or other severe conditions\, the workday will be canceled and registrants will be notified.\n\n\nQUESTIONS? Please reach out to eduenas@myphillypark.org
URL:https://gridphilly.com/event/fdr-community-workday/
LOCATION:FDR Park\, 1500 Pattison Ave\, Philadelphia\, 19145\, United States
ATTACH;FMTTYPE=image/jpeg:https://gridphilly.com/wp-content/uploads/2026/03/FDR-event-pic.jpg
END:VEVENT
BEGIN:VEVENT
DTSTART;TZID=America/New_York:20260308T090000
DTEND;TZID=America/New_York:20260308T113000
DTSTAMP:20260421T100248
CREATED:20260304T215814Z
LAST-MODIFIED:20260304T220001Z
UID:10029993-1772960400-1772969400@gridphilly.com
SUMMARY:Birds at FDR Park with BirdPhilly
DESCRIPTION:Get a chance to watch cool birds at one of Philly’s Top 3 birding locations!\n\n\nFDR Park has a few good birding areas\, including the lakes\, woods\, and meadows of the old golf course. We will concentrate on areas that are productive each month. Due to consistent flooding in the park\, please be prepared for muddy and wet areas. Waterproof shoes or mud boots are recommended. Dress for weather. \nMeet at the parking lot east of the gazebo (39.9034994\, -75.1787725)\, not at the gazebo. In case the gates are closed\, please park on 20th Street and walk to the meeting place. \nNo binoculars? No worries! Birding backpacks with binoculars and field guides are now available on loan at all branches of the Free Library of Philadelphia. \nFor questions\, please reach out to birdphillywalks@gmail.com.
URL:https://gridphilly.com/event/birds-at-fdr-park-with-birdphilly/
LOCATION:FDR Park\, 1500 Pattison Ave\, Philadelphia\, 19145\, United States
ATTACH;FMTTYPE=image/jpeg:https://gridphilly.com/wp-content/uploads/2026/03/304bea35cf5031c152fa1ea64c69d3fa.jpg
END:VEVENT
BEGIN:VEVENT
DTSTART;TZID=America/New_York:20251026T080000
DTEND;TZID=America/New_York:20251026T120000
DTSTAMP:20260421T100248
CREATED:20250929T131653Z
LAST-MODIFIED:20250929T131653Z
UID:10022067-1761465600-1761480000@gridphilly.com
SUMMARY:10th Annual Turkey Day Tailgate
DESCRIPTION:Join Philly PR Girl and The O’Hara Home Team for the 10th Annual Turkey Day Tailgate on Sunday\, October 26\, 2025\, from 8 a.m. to 12 p.m. at FDR Park before the Eagles take on the Giants. Guests can enjoy a Thanksgiving-inspired feast\, private luxury trailer access\, seasonal drinks\, games\, and raffles\, all while supporting the HEADstrong Foundation’s Donate A Turkey Dinner initiative.
URL:https://gridphilly.com/event/10th-annual-turkey-day-tailgate/
LOCATION:FDR Park\, 1500 Pattison Ave\, Philadelphia\, 19145\, United States
CATEGORIES:Community Events,Event,Special Event
ATTACH;FMTTYPE=image/png:https://gridphilly.com/wp-content/uploads/2025/09/turkey-day-tailgate.png
END:VEVENT
BEGIN:VEVENT
DTSTART;TZID=America/New_York:20250913T140000
DTEND;TZID=America/New_York:20250913T180000
DTSTAMP:20260421T100248
CREATED:20250905T150246Z
LAST-MODIFIED:20250905T150246Z
UID:10021409-1757772000-1757786400@gridphilly.com
SUMMARY:GLIZZYFEST 2025
DESCRIPTION:Eat Hot Dogs. Fight Hunger.  Join the tailgate party of the summer—prizes\, swag\, and impact for Philly families in need!\n\n\nJoin us on Saturday\, September 13th at FDR Park (Picnic Site 18) for an unforgettable tailgate experience with purpose! In collaboration with three iconic Philly brands—Dye Hard Fan\, PHL Threads\, and The Deli Collective—we’re hosting a high-energy event to raise awareness and support for food-insecure families in the Greater Philadelphia Area. \n\n\n🎉 Tailgate Party Begins at 2:00 PM: Arrive for music\, hot dogs\, giveaways and good vibes! \n \n🌭 Hot Dog Challenge (OPTIONAL): Not your average contest—each participant gets 9 hot dogs to eat. The top 3 eaters based on time will take home epic 1st\, 2nd\, and 3rd place prizes! \n \n🎟 Admission: FREE (BRING 10 CANNED GOODS OR NON-PERISHABLES)\, once you register\, you’re in! Mark your calendar\, share the event\, then grab your exclusive shirt at DyeHardFan! \n \nWhether you’re competing or cheering\, this is your chance to help collect 2\,000 pounds of food\, to celebrate community\, sports\, and giving back—all in one epic afternoon. Grab your shirt\, ticket\, come hungry\, happy and let’s tailgate for a cause! \n \nCan’t make the event but want to make an impact? Make a secure donation to the Cutloose Cares DONORBOX.
URL:https://gridphilly.com/event/glizzyfest-2025/
LOCATION:FDR Park\, 1500 Pattison Ave\, Philadelphia\, 19145\, United States
ATTACH;FMTTYPE=image/jpeg:https://gridphilly.com/wp-content/uploads/2025/09/338ae3cfe8b67299393f57f2e7c71260.jpg
END:VEVENT
BEGIN:VEVENT
DTSTART;TZID=America/New_York:20250907T150000
DTEND;TZID=America/New_York:20250907T170000
DTSTAMP:20260421T100248
CREATED:20250905T143042Z
LAST-MODIFIED:20250905T150249Z
UID:10021344-1757257200-1757264400@gridphilly.com
SUMMARY:Sis Walks & Talks
DESCRIPTION:Sis Walks & Talks is a sacred space for women to walk\, talk\, and heal together. Through intentional movement and meaningful conversation.\n\n\nSis Walks & Talks is a community-centered experience designed for women to connect\, reflect\, and grow together-physically\, mentally\, and spiritually. It’s more than just a walk; it’s a safe space for meaningful conversations\, sisterhood\, and self-care in nature. \nThis beautiful trail offers a peaceful\, scenic setting where we can enjoy nature\, move our bodies\, ano engage in uplifting discussions. \nWhat to Expect: \n\nA refreshing walk through nature’s beauty\nOpen and supportive conversations\nLight nutritional snack & water\nA welcoming space to connect with like-minded women\n\nWhy Join? \nSis Walks & Talks is all about showing up for yourself and each other. Whether you ‘re looking for a mindful break\, new connections\, or simply time to breathe\, this is your space.
URL:https://gridphilly.com/event/sis-walks-talks/
LOCATION:FDR Park\, 1500 Pattison Ave\, Philadelphia\, 19145\, United States
ATTACH;FMTTYPE=image/jpeg:https://gridphilly.com/wp-content/uploads/2025/09/b4c629189bb1e54d137dfc13dafb159c.jpg
END:VEVENT
BEGIN:VEVENT
DTSTART;TZID=America/New_York:20250627T173000
DTEND;TZID=America/New_York:20250627T193000
DTSTAMP:20260421T100248
CREATED:20250605T205828Z
LAST-MODIFIED:20250605T205828Z
UID:10019327-1751045400-1751052600@gridphilly.com
SUMMARY:AMC 20s/30s Pizza Picnic & Yard Games at FDR Park
DESCRIPTION:FDR Park is a 348-acre park located near the Delaware River including outdoor activities such as tennis\, boating\, skateboarding and more.\nJoin us for a laid-back afternoon at this South Philadelphia park! We’ll enjoy a pizza picnic and classic yard games like cornhole and frisbee. It’s a great chance to meet fellow outdoor enthusiasts\, relax by the lakes\, and soak up the park’s natural charm. Whether you’re new to the group or a longtime member\, come hang out and have some fun! \nEnter the park from Pattison Ave & 20th St and follow your GPS to the parking lot at Picnic Area A. Use Google Maps for best results. \nPlease note: This event is weather-dependent. In case of inclement weather\, we’ll notify attendees of any changes or cancellations day of by 4pm.\nPlease note: In order to comply with the Pennsylvania Youth Protection Laws\, all children under the age of 18 must be accompanied by a parent or legal guardian. This policy applies for all events offered by the Delaware Valley Chapter events within the state of Pennsylvania.
URL:https://gridphilly.com/event/amc-20s-30s-pizza-picnic-yard-games-at-fdr-park/
LOCATION:FDR Park\, 1500 Pattison Ave\, Philadelphia\, 19145\, United States
CATEGORIES:Social
ATTACH;FMTTYPE=image/png:https://gridphilly.com/wp-content/uploads/2025/06/fdr-image.png
ORGANIZER;CN="Appalachian Mountain Club (AMC)":MAILTO:lisaakleiman@gmail.com
END:VEVENT
BEGIN:VEVENT
DTSTART;TZID=America/New_York:20241222T090000
DTEND;TZID=America/New_York:20241222T110000
DTSTAMP:20260421T100248
CREATED:20241216T182758Z
LAST-MODIFIED:20241216T182758Z
UID:10016060-1734858000-1734865200@gridphilly.com
SUMMARY:Bird Philly at FDR Park
DESCRIPTION:FDR Park\, 1500 Pattison Avenue &\, S Broad St\, Philadelphia\, PA 19145\, USA\n\n\n\n\nJoin us to explore one of Philly’s Top 3 birding locations. This park has a few good birding areas including the lakes\, woods and meadows of the old golf course. We will concentrate on areas that are productive each month. Due to consistent flooding in the park please be prepared for muddy and wet areas. Water-proof shoes or mud boots are recommended. Dress for weather. \nMeet at the parking lot east of the gazebo (39.9034994\, -75.1787725)\, not at the gazebo. In case the gates are closed\, please park on 20th Street and walk to the meeting place.
URL:https://gridphilly.com/event/bird-philly-at-fdr-park/
LOCATION:FDR Park\, 1500 Pattison Ave\, Philadelphia\, 19145\, United States
ATTACH;FMTTYPE=image/jpeg:https://gridphilly.com/wp-content/uploads/2024/12/Meadows-FDR-Park-5.jpeg
END:VEVENT
BEGIN:VEVENT
DTSTART;TZID=America/New_York:20241109T120000
DTEND;TZID=America/New_York:20241109T140000
DTSTAMP:20260421T100248
CREATED:20241028T162503Z
LAST-MODIFIED:20241028T162918Z
UID:10015382-1731153600-1731160800@gridphilly.com
SUMMARY:Native Seed Saving
DESCRIPTION:Join naturalist Anisa George in gathering seeds from some of the many native plants that can be found in the South Philly Meadows at FDR Park. You can bring home seeds for your own pots and gardens or gather for LandHealth who will cultivate them at our native plant nursery for propagating throughout the city. \nWe will walk a 2 mile loop. All ages are welcome. Please bring your own water bottle and dress for the weather and to protect yourself from poison ivy (also a native plant!) exposure. \nLOCATION\nFDR Park\, Pickle Ball Courts\, Delaware Expy\, Philadelphia\, PA\, 19145
URL:https://gridphilly.com/event/native-seed-saving-2/
LOCATION:FDR Park\, 1500 Pattison Ave\, Philadelphia\, 19145\, United States
CATEGORIES:Community Events,Event,Events,Native Plants,Outdoor Event,Seed Saving
ATTACH;FMTTYPE=image/png:https://gridphilly.com/wp-content/uploads/2024/10/Screen-Shot-2024-10-28-at-12.22.14-PM.png
END:VEVENT
BEGIN:VEVENT
DTSTART;TZID=America/New_York:20231006T100000
DTEND;TZID=America/New_York:20231006T120000
DTSTAMP:20260421T100248
CREATED:20230829T191926Z
LAST-MODIFIED:20231002T143717Z
UID:10006692-1696586400-1696593600@gridphilly.com
SUMMARY:Urban Foraging with Lady Danni
DESCRIPTION:Join Lady Danni on a walk in FDR Park to learn about the beauty and utility of plants you may consider weeds!\n\n\nMany people think you have to go deep into the woods to forage\, but you can find plants that can provide food and medicine anywhere plants will grow\, and that includes lawns and in the cracks of the sidewalk. This walk is to show you the beauty and utility of many of the plants you may consider weeds.  \nJoin Lady Danni on a walk at FDR Park to learn more about the plants that grow in the Philadelphia/Lenapehoking area and how they’re used.  We will meet at 20th and Pattinson Ave. on the edge of FDR Park and walk together. The route may have uneven or wet terrain so please wear supportive closed-toe footwear such as hiking boots or sneakers and be prepared to walk for 2 hours.  \nThis program is free\, though requires pre-registration here.  \nLady Danni (she/her/crone) is a good lady forager\, and crafter of herbals helping people reconnect with the healing power of nature. She explores the edible and medicinal qualities of the “plants formerly known as weeds.” Learn more about her at https://www.landedgentress.com/ \nPlease contact Link at RossL@freelibrary.org with any questions about this program.
URL:https://gridphilly.com/event/urban-foraging-with-lady-danni-5/
LOCATION:FDR Park\, 1500 Pattison Ave\, Philadelphia\, 19145\, United States
ATTACH;FMTTYPE=image/jpeg:https://gridphilly.com/wp-content/uploads/2023/08/a25a21ad971785f6d3ce02cd76acc03a.jpg
END:VEVENT
END:VCALENDAR