BEGIN:VCALENDAR
VERSION:2.0
PRODID:-//Grid Magazine - ECPv6.15.20//NONSGML v1.0//EN
CALSCALE:GREGORIAN
METHOD:PUBLISH
X-ORIGINAL-URL:https://gridphilly.com
X-WR-CALDESC:Events for Grid Magazine
REFRESH-INTERVAL;VALUE=DURATION:PT1H
X-Robots-Tag:noindex
X-PUBLISHED-TTL:PT1H
BEGIN:VTIMEZONE
TZID:America/New_York
BEGIN:DAYLIGHT
TZOFFSETFROM:-0500
TZOFFSETTO:-0400
TZNAME:EDT
DTSTART:20240310T070000
END:DAYLIGHT
BEGIN:STANDARD
TZOFFSETFROM:-0400
TZOFFSETTO:-0500
TZNAME:EST
DTSTART:20241103T060000
END:STANDARD
BEGIN:DAYLIGHT
TZOFFSETFROM:-0500
TZOFFSETTO:-0400
TZNAME:EDT
DTSTART:20250309T070000
END:DAYLIGHT
BEGIN:STANDARD
TZOFFSETFROM:-0400
TZOFFSETTO:-0500
TZNAME:EST
DTSTART:20251102T060000
END:STANDARD
BEGIN:DAYLIGHT
TZOFFSETFROM:-0500
TZOFFSETTO:-0400
TZNAME:EDT
DTSTART:20260308T070000
END:DAYLIGHT
BEGIN:STANDARD
TZOFFSETFROM:-0400
TZOFFSETTO:-0500
TZNAME:EST
DTSTART:20261101T060000
END:STANDARD
BEGIN:DAYLIGHT
TZOFFSETFROM:-0500
TZOFFSETTO:-0400
TZNAME:EDT
DTSTART:20270314T070000
END:DAYLIGHT
BEGIN:STANDARD
TZOFFSETFROM:-0400
TZOFFSETTO:-0500
TZNAME:EST
DTSTART:20271107T060000
END:STANDARD
END:VTIMEZONE
BEGIN:VEVENT
DTSTART;TZID=America/New_York:20260325T160000
DTEND;TZID=America/New_York:20260325T173000
DTSTAMP:20260421T053853
CREATED:20260320T183012Z
LAST-MODIFIED:20260320T183401Z
UID:10030393-1774454400-1774459800@gridphilly.com
SUMMARY:Loving Our Landmark Tours
DESCRIPTION:Special guided tours of the Fairmount Water Works\, a National Historic Landmark.\n\n\nCome at the end of your workday! \nOne of 67 National Historic Landmarks in the city of Philadelphia\, Fairmount Water Works tells the story of the rise of the first successful water supply system in our young nation. From innovative engineering and design to neoclassical architecture\, Fairmount Water Works served as one of our nation’s top-visited tourist attraction while supplying the pristine water of the Schuylkill River to our growing city’s population. Join us on Wednesdays at 4pm throughout the month of March to tour this renowned landmark. \nQuestions? Email us at fairmountww@gmail.com
URL:https://gridphilly.com/event/loving-our-landmark-tours/
LOCATION:Fairmount Water Works Interpretive Center\, 640 Waterworks Drive\, Philadelphia\, PA\, 19130\, United States
ATTACH;FMTTYPE=image/jpeg:https://gridphilly.com/wp-content/uploads/2023/06/16f4ac406105c82b46f4ea4ebeca433b.jpg
END:VEVENT
BEGIN:VEVENT
DTSTART;TZID=America/New_York:20260304T160000
DTEND;TZID=America/New_York:20260304T173000
DTSTAMP:20260421T053853
CREATED:20260223T203144Z
LAST-MODIFIED:20260223T203412Z
UID:10029146-1772640000-1772645400@gridphilly.com
SUMMARY:Landmark Tours
DESCRIPTION:Special guided tours of the Fairmount Water Works\, a National Historic Landmark.\n\n\nCome at the end of your workday! \nOne of 67 National Historic Landmarks in the city of Philadelphia\, Fairmount Water Works tells the story of the rise of the first successful water supply system in our young nation. From innovative engineering and design to neoclassical architecture\, Fairmount Water Works served as one of our nation’s top-visited tourist attraction while supplying the pristine water of the Schuylkill River to our growing city’s population. Join us on Wednesdays at 4pm throughout the month of March to tour this renowned landmark. \nQuestions? Email us at fairmountww@gmail.com
URL:https://gridphilly.com/event/landmark-tours/
LOCATION:Fairmount Water Works Interpretive Center\, 640 Waterworks Drive\, Philadelphia\, PA\, 19130\, United States
ATTACH;FMTTYPE=image/jpeg:https://gridphilly.com/wp-content/uploads/2023/06/16f4ac406105c82b46f4ea4ebeca433b.jpg
END:VEVENT
BEGIN:VEVENT
DTSTART;TZID=America/New_York:20251206T100000
DTEND;TZID=America/New_York:20251206T113000
DTSTAMP:20260421T053853
CREATED:20251124T013120Z
LAST-MODIFIED:20251124T013120Z
UID:10025107-1765015200-1765020600@gridphilly.com
SUMMARY:Watering Committee to  Water Department: History of Fairmount Water Works
DESCRIPTION:Get the ‘behind the scenes’ scoop on Philadelphia’s water supply system\, past and present.\n\n\nJoin us for a guided interpretation of the 1815 engineering marvel that is the Fairmount Water Works\, a National Historic Landmark. Find answers to questions on how the Water Department over centuries has provided water to the people of Philadelphia. We will explore what has been\, and continues to be\, a major tourist attraction exciting visitors such as Lafayette\, Mark Twain and Charles Dickens. We will finish our tour inside viewing our exhibits and ending at our freshwater mussel lab. \nQuestions? Email us at fairmountww@gmail.com
URL:https://gridphilly.com/event/watering-committee-to-water-department-history-of-fairmount-water-works/
LOCATION:Fairmount Water Works Interpretive Center\, 640 Waterworks Drive\, Philadelphia\, PA\, 19130\, United States
ATTACH;FMTTYPE=image/jpeg:https://gridphilly.com/wp-content/uploads/2025/11/01d9d35d85cd0e42b5ed33788c76bafc.jpg
END:VEVENT
BEGIN:VEVENT
DTSTART;TZID=America/New_York:20251129T110000
DTEND;TZID=America/New_York:20251129T123000
DTSTAMP:20260421T053853
CREATED:20251124T013208Z
LAST-MODIFIED:20251124T013208Z
UID:10025108-1764414000-1764419400@gridphilly.com
SUMMARY:Wayfinding by the River!
DESCRIPTION:Join us for an outdoor scavenger hunt-type activity that the whole family can enjoy!\n\n\nCome enjoy a morning of letterboxing\, an intriguing “treasure hunt” style outdoor activity! Each family will receive a passbook\, stamp and a series of water-based clues to find caches hidden both inside and outside at Fairmount Water Works Interpretive Center! Find all the caches\, fill up your passport book with stamps and come see all the hidden treasures Fairmount Water Works Interpretive Center has to offer! Enjoy a cup of tea or hot cocoa after you complete your search across the Fairmount Water Works. \nRegistration is required. \n$5.00 materials fee per couple or whole family
URL:https://gridphilly.com/event/wayfinding-by-the-river/
LOCATION:Fairmount Water Works Interpretive Center\, 640 Waterworks Drive\, Philadelphia\, PA\, 19130\, United States
ATTACH;FMTTYPE=image/jpeg:https://gridphilly.com/wp-content/uploads/2025/11/ba06ef563ed6d76dc5b400500184c3d1.jpg
END:VEVENT
BEGIN:VEVENT
DTSTART;TZID=America/New_York:20250726T110000
DTEND;TZID=America/New_York:20250726T120000
DTSTAMP:20260421T053853
CREATED:20250610T163742Z
LAST-MODIFIED:20250610T163742Z
UID:10019381-1753527600-1753531200@gridphilly.com
SUMMARY:CONFLUENCE: 3rd Annual Art Exhibit at FWWIC (Tour & Discussion)
DESCRIPTION:An informal tour and discussion with curator and artists.
URL:https://gridphilly.com/event/confluence-3rd-annual-art-exhibit-at-fwwic-tour-discussion-3/
LOCATION:Fairmount Water Works Interpretive Center\, 640 Waterworks Drive\, Philadelphia\, PA\, 19130\, United States
ATTACH;FMTTYPE=image/jpeg:https://gridphilly.com/wp-content/uploads/2025/06/5017d6fbe0bc7ca5f623b726ff04245d.jpg
END:VEVENT
BEGIN:VEVENT
DTSTART;TZID=America/New_York:20250712T110000
DTEND;TZID=America/New_York:20250712T120000
DTSTAMP:20260421T053853
CREATED:20250610T163742Z
LAST-MODIFIED:20250707T181822Z
UID:10019380-1752318000-1752321600@gridphilly.com
SUMMARY:CONFLUENCE: 3rd Annual Art Exhibit at FWWIC (Tour & Discussion)
DESCRIPTION:An informal tour and discussion with curator and artists.\n\n\nExperience CONFLUENCE – A Fine Art Exhibition at the Fairmount Water Works Interpretive Center\, May 3 – July 26 \nREGISTER FOR AN INFORMAL TOUR AND DISCUSSION WITH CURATOR AND ARTISTS \nWe welcome visitors to register in advance for personal and engaging tours with Thom Duffy\, Curator on select Saturdays. Tours will also be led by a few contributing artists. \nTours run approximately 45 minutes. \nFWWIC VISITOR HOURS: Wednesday – Saturday (10am – 5pm) \nADMISSION: Free to all. Donations accepted at Visitors’ Desk. \nFor more information about this event click HERE. \n \nThe exhibition is brought to you in part by the Fund for the Water Works and the Ed F. Grusheski Water Literacy Foundation.
URL:https://gridphilly.com/event/confluence-3rd-annual-art-exhibit-at-fwwic-tour-discussion-2/
LOCATION:Fairmount Water Works Interpretive Center\, 640 Waterworks Drive\, Philadelphia\, PA\, 19130\, United States
ATTACH;FMTTYPE=image/jpeg:https://gridphilly.com/wp-content/uploads/2025/06/5017d6fbe0bc7ca5f623b726ff04245d.jpg
END:VEVENT
BEGIN:VEVENT
DTSTART;TZID=America/New_York:20250621T130000
DTEND;TZID=America/New_York:20250621T140000
DTSTAMP:20260421T053853
CREATED:20250610T163738Z
LAST-MODIFIED:20250610T163738Z
UID:10019379-1750510800-1750514400@gridphilly.com
SUMMARY:CONFLUENCE: 3rd Annual Art Exhibit at FWWIC (Tour & Discussion)
DESCRIPTION:An informal tour and discussion with curator and artists.
URL:https://gridphilly.com/event/confluence-3rd-annual-art-exhibit-at-fwwic-tour-discussion/
LOCATION:Fairmount Water Works Interpretive Center\, 640 Waterworks Drive\, Philadelphia\, PA\, 19130\, United States
ATTACH;FMTTYPE=image/jpeg:https://gridphilly.com/wp-content/uploads/2025/06/5017d6fbe0bc7ca5f623b726ff04245d.jpg
END:VEVENT
BEGIN:VEVENT
DTSTART;TZID=America/New_York:20250621T110000
DTEND;TZID=America/New_York:20250621T120000
DTSTAMP:20260421T053853
CREATED:20250617T205545Z
LAST-MODIFIED:20250617T205545Z
UID:10019482-1750503600-1750507200@gridphilly.com
SUMMARY:CONFLUENCE: 3rd Annual Art Exhibit at FWWIC (Tour & Discussion)
DESCRIPTION:An informal tour and discussion with curator and artists.\n\n\nExperience CONFLUENCE – A Fine Art Exhibition at the Fairmount Water Works Interpretive Center\, May 3 – July 26 \nREGISTER FOR AN INFORMAL TOUR AND DISCUSSION WITH CURATOR AND ARTISTS \nWe welcome visitors to register in advance for personal and engaging tours with Thom Duffy\, Curator on select Saturdays. Tours will also be led by a few contributing artists. \nTours run approximately 45 minutes. \nFWWIC VISITOR HOURS: Wednesday – Saturday (10am – 5pm) \nADMISSION: Free to all. Donations accepted at Visitors’ Desk. \nFor more information about this event click HERE. \n \nThe exhibition is brought to you in part by the Fund for the Water Works and the Ed F. Grusheski Water Literacy Foundation.
URL:https://gridphilly.com/event/confluence-3rd-annual-art-exhibit-at-fwwic-tour-discussion-4/
LOCATION:Fairmount Water Works Interpretive Center\, 640 Waterworks Drive\, Philadelphia\, PA\, 19130\, United States
ATTACH;FMTTYPE=image/jpeg:https://gridphilly.com/wp-content/uploads/2025/06/5017d6fbe0bc7ca5f623b726ff04245d.jpg
END:VEVENT
END:VCALENDAR