BEGIN:VCALENDAR
VERSION:2.0
PRODID:-//Grid Magazine - ECPv6.15.20//NONSGML v1.0//EN
CALSCALE:GREGORIAN
METHOD:PUBLISH
X-WR-CALNAME:Grid Magazine
X-ORIGINAL-URL:https://gridphilly.com
X-WR-CALDESC:Events for Grid Magazine
REFRESH-INTERVAL;VALUE=DURATION:PT1H
X-Robots-Tag:noindex
X-PUBLISHED-TTL:PT1H
BEGIN:VTIMEZONE
TZID:America/New_York
BEGIN:DAYLIGHT
TZOFFSETFROM:-0500
TZOFFSETTO:-0400
TZNAME:EDT
DTSTART:20220313T070000
END:DAYLIGHT
BEGIN:STANDARD
TZOFFSETFROM:-0400
TZOFFSETTO:-0500
TZNAME:EST
DTSTART:20221106T060000
END:STANDARD
BEGIN:DAYLIGHT
TZOFFSETFROM:-0500
TZOFFSETTO:-0400
TZNAME:EDT
DTSTART:20230312T070000
END:DAYLIGHT
BEGIN:STANDARD
TZOFFSETFROM:-0400
TZOFFSETTO:-0500
TZNAME:EST
DTSTART:20231105T060000
END:STANDARD
BEGIN:DAYLIGHT
TZOFFSETFROM:-0500
TZOFFSETTO:-0400
TZNAME:EDT
DTSTART:20240310T070000
END:DAYLIGHT
BEGIN:STANDARD
TZOFFSETFROM:-0400
TZOFFSETTO:-0500
TZNAME:EST
DTSTART:20241103T060000
END:STANDARD
BEGIN:DAYLIGHT
TZOFFSETFROM:-0500
TZOFFSETTO:-0400
TZNAME:EDT
DTSTART:20250309T070000
END:DAYLIGHT
BEGIN:STANDARD
TZOFFSETFROM:-0400
TZOFFSETTO:-0500
TZNAME:EST
DTSTART:20251102T060000
END:STANDARD
BEGIN:DAYLIGHT
TZOFFSETFROM:-0500
TZOFFSETTO:-0400
TZNAME:EDT
DTSTART:20260308T070000
END:DAYLIGHT
BEGIN:STANDARD
TZOFFSETFROM:-0400
TZOFFSETTO:-0500
TZNAME:EST
DTSTART:20261101T060000
END:STANDARD
END:VTIMEZONE
BEGIN:VEVENT
DTSTART;TZID=America/New_York:20251213T110000
DTEND;TZID=America/New_York:20251213T160000
DTSTAMP:20260422T164018
CREATED:20251206T035740Z
LAST-MODIFIED:20251206T035740Z
UID:10025391-1765623600-1765641600@gridphilly.com
SUMMARY:2025 WURD Empowerment Experience
DESCRIPTION:Celebrate cooperative economics by supporting local Black vendors and artists at our holiday marketplace!\n\n\nJoin us on Saturday\, December 13 from 11 a.m. to 4 p.m. for WURD’s Empowerment Experience\, a live event and holiday marketplace celebrating Black entrepreneurship\, creativity\, and community growth and hosted by Karen Taylor Bass. This year’s program features two engaging panels focused on culinary innovation and business corridor development. \nThe day will include: \nHoliday marketplace\nShop for jewelry\, clothing\, home decor\, candles\, skin and hair care\, and much more for holiday shopping\, all under one roof. \nA live broadcast\nHosted by multiple WURD Radio hosts \nCompelling panel discussions connected to WURD’s Ready\, Set\, Grow initiative\nMain Street Moves: Thriving in a Business Corridor—moderated by Solomon Jones\, host of Wake Up With WURD. \nA discussion on the role of commercial corridors and drawing tourism and commerce to predominantly Black business districts in 2026 featuring: \n\nKimberly Lloyd — President & CEO\, Ogontz Avenue Revitalization Corporation\, representing the West Oak Lane business corridor\nStan Straughter — Africatown Economic Development Corp.; Chairman\, African and Caribbean Business Council of Greater Philadelphia; Chairman Emeritus\, Mayor’s Commission on African and Caribbean Immigrant Affairs\nAnn Turner — Founder and President of Hair Du Jour Salon and Integrity Hair Care Systems\, representing the 63rd Street business corridor\nJack Eckhardt — Director of Government Banking\, TruMark Federal Credit Union\nNadir Jones — Director of Business Impact & Economic Advancement\, Office of Mayor Cherelle Parker\n\nEntrepreneurship in the Eatery Industry—moderated by Dr. James Peterson\, host of Evening WURDs. \nA deep dive into leadership\, culture and innovation in the culinary space from some of Philadelphia’s most influential chef-entrepreneurs featuring: \n\nOmar Tate — Chef & Co-Founder\, Honeysuckle Projects\nAngie Brown — Culinary Director\, Rex & the Royal\nFelicia Wilson — Restaurateur\, Amina Hospitality Collection\nTanisha Trippett — Brotherly Grub food truck owner\n\nThe Empowerment Experience is brought to you by Keystone First Family of Plans\, Visit Philadelphia\, Comcast\, PECO\, Philadelphia Parking Authority\, Philadelphia College of Osteopathic Medicine Community Wellness Initiative\, Temple Health\, the Philadelphia Water Department\, and Pennie.
URL:https://gridphilly.com/event/2025-wurd-empowerment-experience/
LOCATION:Enon Tabernacle Baptist Church\, 2800 West Cheltenham Avenue\, Philadelphia\, PA\, 19150\, United States
ATTACH;FMTTYPE=image/jpeg:https://gridphilly.com/wp-content/uploads/2025/12/32f12d37da3ca7f27033566058cf77f5.jpg
END:VEVENT
BEGIN:VEVENT
DTSTART;TZID=America/New_York:20231209T110000
DTEND;TZID=America/New_York:20231209T160000
DTSTAMP:20260422T164018
CREATED:20231127T013556Z
LAST-MODIFIED:20231129T203212Z
UID:10008304-1702119600-1702137600@gridphilly.com
SUMMARY:2023 WURD Radio Empowerment Experience
DESCRIPTION:Join us for our 2023 Empowerment Experience!\n\n\nWURD Radio invites you to join us for our free signature holiday event that is expected to draw more than 300+ WURD listeners and friends — The Empowerment Experience. Celebrate with us this year as we acknowledge the Kwanzaa principle of Ujamaa — Cooperative Economics — with Black and Brown artisans\, creators\, merchants and more for a holiday marketplace. Attendees can shop for jewelry\, clothing\, home decor\, candles\, skin and hair care\, and much more for holiday shopping\, all under one roof. The day will include: \n \n\nEmpowering speakers\nHoliday marketplace with Black-owned businesses\nLive-shopping experience\nCommunity resources and more!\n\nContinue to check back for more details and please register to let us know that you are coming! If you are interested in being a vendor\, please email sales@wurdradio.com.
URL:https://gridphilly.com/event/2023-wurd-radio-empowerment-experience/
LOCATION:Enon Tabernacle Baptist Church\, 2800 West Cheltenham Avenue\, Philadelphia\, PA\, 19150\, United States
ATTACH;FMTTYPE=image/jpeg:https://gridphilly.com/wp-content/uploads/2023/11/68693639ed13733f095aad7331b32764.jpg
END:VEVENT
END:VCALENDAR