BEGIN:VCALENDAR
VERSION:2.0
PRODID:-//Grid Magazine - ECPv6.15.20//NONSGML v1.0//EN
CALSCALE:GREGORIAN
METHOD:PUBLISH
X-WR-CALNAME:Grid Magazine
X-ORIGINAL-URL:https://gridphilly.com
X-WR-CALDESC:Events for Grid Magazine
REFRESH-INTERVAL;VALUE=DURATION:PT1H
X-Robots-Tag:noindex
X-PUBLISHED-TTL:PT1H
BEGIN:VTIMEZONE
TZID:America/New_York
BEGIN:DAYLIGHT
TZOFFSETFROM:-0500
TZOFFSETTO:-0400
TZNAME:EDT
DTSTART:20230312T070000
END:DAYLIGHT
BEGIN:STANDARD
TZOFFSETFROM:-0400
TZOFFSETTO:-0500
TZNAME:EST
DTSTART:20231105T060000
END:STANDARD
BEGIN:DAYLIGHT
TZOFFSETFROM:-0500
TZOFFSETTO:-0400
TZNAME:EDT
DTSTART:20240310T070000
END:DAYLIGHT
BEGIN:STANDARD
TZOFFSETFROM:-0400
TZOFFSETTO:-0500
TZNAME:EST
DTSTART:20241103T060000
END:STANDARD
BEGIN:DAYLIGHT
TZOFFSETFROM:-0500
TZOFFSETTO:-0400
TZNAME:EDT
DTSTART:20250309T070000
END:DAYLIGHT
BEGIN:STANDARD
TZOFFSETFROM:-0400
TZOFFSETTO:-0500
TZNAME:EST
DTSTART:20251102T060000
END:STANDARD
END:VTIMEZONE
BEGIN:VEVENT
DTSTART;TZID=America/New_York:20240224T120000
DTEND;TZID=America/New_York:20240224T140000
DTSTAMP:20260424T130129
CREATED:20240214T151513Z
LAST-MODIFIED:20240214T151513Z
UID:10010902-1708776000-1708783200@gridphilly.com
SUMMARY:Trees Rooted In The Civil Rights Movement
DESCRIPTION:Learn how some of America’s oldest trees played pivotal roles from outdoor classrooms to shelters for refuge.\n\n\nTrees sing songs of our ancestors. They tell of relationships forged in war and peace. Learn how some of America’s oldest trees played pivotal roles from outdoor classrooms to shelters for refuge. Share your experience of trees in conversations on gentrification\, education\, and community building. \nAll ages are welcome\, this is a family friendly activity.  \nThis event is free to attend\, but donations to UC Green are always appreciated. \nEvent held will be held Saturday\, February 24 12-2PM in The Dornsife Center: Ryan Hall Room S109 \nFor questions or assistance\, please contact Dominique London @ dlondon@ucgreen.org
URL:https://gridphilly.com/event/trees-rooted-in-the-civil-rights-movement/
LOCATION:Drexel University’s Dornsife Center for Neighborhood Partnerships\, 3509 Spring Garden Street\, Philadelphia\, PA\, 19104\, United States
ATTACH;FMTTYPE=image/jpeg:https://gridphilly.com/wp-content/uploads/2024/02/0ace244a849fdffe73a2252d08c45c8b.jpg
END:VEVENT
END:VCALENDAR