BEGIN:VCALENDAR
VERSION:2.0
PRODID:-//Grid Magazine - ECPv6.15.20//NONSGML v1.0//EN
CALSCALE:GREGORIAN
METHOD:PUBLISH
X-ORIGINAL-URL:https://gridphilly.com
X-WR-CALDESC:Events for Grid Magazine
REFRESH-INTERVAL;VALUE=DURATION:PT1H
X-Robots-Tag:noindex
X-PUBLISHED-TTL:PT1H
BEGIN:VTIMEZONE
TZID:America/New_York
BEGIN:DAYLIGHT
TZOFFSETFROM:-0500
TZOFFSETTO:-0400
TZNAME:EDT
DTSTART:20240310T070000
END:DAYLIGHT
BEGIN:STANDARD
TZOFFSETFROM:-0400
TZOFFSETTO:-0500
TZNAME:EST
DTSTART:20241103T060000
END:STANDARD
BEGIN:DAYLIGHT
TZOFFSETFROM:-0500
TZOFFSETTO:-0400
TZNAME:EDT
DTSTART:20250309T070000
END:DAYLIGHT
BEGIN:STANDARD
TZOFFSETFROM:-0400
TZOFFSETTO:-0500
TZNAME:EST
DTSTART:20251102T060000
END:STANDARD
BEGIN:DAYLIGHT
TZOFFSETFROM:-0500
TZOFFSETTO:-0400
TZNAME:EDT
DTSTART:20260308T070000
END:DAYLIGHT
BEGIN:STANDARD
TZOFFSETFROM:-0400
TZOFFSETTO:-0500
TZNAME:EST
DTSTART:20261101T060000
END:STANDARD
END:VTIMEZONE
BEGIN:VEVENT
DTSTART;TZID=America/New_York:20250914T150000
DTEND;TZID=America/New_York:20250914T170000
DTSTAMP:20260421T100545
CREATED:20250905T151136Z
LAST-MODIFIED:20250905T151136Z
UID:10021428-1757862000-1757869200@gridphilly.com
SUMMARY:Sis Walks & Talks
DESCRIPTION:Sis Walks & Talks is a sacred space for women to walk\, talk\, and heal together. Through intentional movement and meaningful conversation.\n\n\nSis Walks & Talks is a community-centered experience designed for women to connect\, reflect\, and grow together-physically\, mentally\, and spiritually. It’s more than just a walk; it’s a safe space for meaningful conversations\, sisterhood\, and self-care in nature. \nThis beautiful trail offers a peaceful\, scenic setting where we can enjoy nature\, move our bodies\, ano engage in uplifting discussions. \nWhat to Expect: \n\nA refreshing walk through nature’s beauty\nOpen and supportive conversations\nLight nutritional snack & water\nA welcoming space to connect with like-minded women\n\nWhy Join? \nSis Walks & Talks is all about showing up for yourself and each other. Whether you ‘re looking for a mindful break\, new connections\, or simply time to breathe\, this is your space.
URL:https://gridphilly.com/event/sis-walks-talks-2/
LOCATION:Cynwyd Heritage Trail\, Cynwyd Heritage Trail\, Bala Cynwyd\, PA\, United States
ATTACH;FMTTYPE=image/jpeg:https://gridphilly.com/wp-content/uploads/2025/09/b4c629189bb1e54d137dfc13dafb159c.jpg
END:VEVENT
END:VCALENDAR