BEGIN:VCALENDAR
VERSION:2.0
PRODID:-//Grid Magazine - ECPv6.15.20//NONSGML v1.0//EN
CALSCALE:GREGORIAN
METHOD:PUBLISH
X-WR-CALNAME:Grid Magazine
X-ORIGINAL-URL:https://gridphilly.com
X-WR-CALDESC:Events for Grid Magazine
REFRESH-INTERVAL;VALUE=DURATION:PT1H
X-Robots-Tag:noindex
X-PUBLISHED-TTL:PT1H
BEGIN:VTIMEZONE
TZID:America/New_York
BEGIN:DAYLIGHT
TZOFFSETFROM:-0500
TZOFFSETTO:-0400
TZNAME:EDT
DTSTART:20250309T070000
END:DAYLIGHT
BEGIN:STANDARD
TZOFFSETFROM:-0400
TZOFFSETTO:-0500
TZNAME:EST
DTSTART:20251102T060000
END:STANDARD
BEGIN:DAYLIGHT
TZOFFSETFROM:-0500
TZOFFSETTO:-0400
TZNAME:EDT
DTSTART:20260308T070000
END:DAYLIGHT
BEGIN:STANDARD
TZOFFSETFROM:-0400
TZOFFSETTO:-0500
TZNAME:EST
DTSTART:20261101T060000
END:STANDARD
BEGIN:DAYLIGHT
TZOFFSETFROM:-0500
TZOFFSETTO:-0400
TZNAME:EDT
DTSTART:20270314T070000
END:DAYLIGHT
BEGIN:STANDARD
TZOFFSETFROM:-0400
TZOFFSETTO:-0500
TZNAME:EST
DTSTART:20271107T060000
END:STANDARD
END:VTIMEZONE
BEGIN:VEVENT
DTSTART;TZID=America/New_York:20260424T180000
DTEND;TZID=America/New_York:20260424T190000
DTSTAMP:20260422T075601
CREATED:20260421T165008Z
LAST-MODIFIED:20260421T165008Z
UID:10032441-1777053600-1777057200@gridphilly.com
SUMMARY:City Nature Challenge Evening Walk
DESCRIPTION:Help us document the biodiversity at Crossways Preserve using iNaturalist. City Nature Challenge is a global celebration of biodiversity in and around urban areas. Over 3.3 million observations and over 73\,000 species were identified by 102\,945 participants in 2025. \nWe will work to document as many trees\, plants\, animals and insects we can find at Crossways. \nParticipants should bring an electronic device with iNaturalist downloaded and a free account already set-up or a camera. Dress for the weather and be prepared for muddy and wet trails \nFor those unfamiliar with iNaturalist\, see this video on our YouTube channel: https://www.youtube.com/watch?v=VjlWTDR_tSA \nAccess Information\nParticipants will need to walk approximately 1 mile along an uneven natural trail. Participants will need to take photographs from a variety of levels\, and should be prepared to go slightly off trail as well. Restrooms are not available. \nEVENT DETAILS\n\n\nLocation \nCrossways Preserve \n\n\nPublic Transit \nSEPTA Bus Route 94 \n\n\nContact \nkristy@wisshaickontrails.org \n\n\nGoogle Maps \nDirections
URL:https://gridphilly.com/event/city-nature-challenge-evening-walk/
LOCATION:Crossways Preserve
ATTACH;FMTTYPE=image/png:https://gridphilly.com/wp-content/uploads/2026/04/Screenshot-2026-04-21-at-12.47.00-PM-e1776790197721.png
END:VEVENT
END:VCALENDAR