BEGIN:VCALENDAR
VERSION:2.0
PRODID:-//Grid Magazine - ECPv6.15.20//NONSGML v1.0//EN
CALSCALE:GREGORIAN
METHOD:PUBLISH
X-WR-CALNAME:Grid Magazine
X-ORIGINAL-URL:https://gridphilly.com
X-WR-CALDESC:Events for Grid Magazine
REFRESH-INTERVAL;VALUE=DURATION:PT1H
X-Robots-Tag:noindex
X-PUBLISHED-TTL:PT1H
BEGIN:VTIMEZONE
TZID:America/New_York
BEGIN:DAYLIGHT
TZOFFSETFROM:-0500
TZOFFSETTO:-0400
TZNAME:EDT
DTSTART:20230312T070000
END:DAYLIGHT
BEGIN:STANDARD
TZOFFSETFROM:-0400
TZOFFSETTO:-0500
TZNAME:EST
DTSTART:20231105T060000
END:STANDARD
BEGIN:DAYLIGHT
TZOFFSETFROM:-0500
TZOFFSETTO:-0400
TZNAME:EDT
DTSTART:20240310T070000
END:DAYLIGHT
BEGIN:STANDARD
TZOFFSETFROM:-0400
TZOFFSETTO:-0500
TZNAME:EST
DTSTART:20241103T060000
END:STANDARD
BEGIN:DAYLIGHT
TZOFFSETFROM:-0500
TZOFFSETTO:-0400
TZNAME:EDT
DTSTART:20250309T070000
END:DAYLIGHT
BEGIN:STANDARD
TZOFFSETFROM:-0400
TZOFFSETTO:-0500
TZNAME:EST
DTSTART:20251102T060000
END:STANDARD
BEGIN:DAYLIGHT
TZOFFSETFROM:-0500
TZOFFSETTO:-0400
TZNAME:EDT
DTSTART:20260308T070000
END:DAYLIGHT
BEGIN:STANDARD
TZOFFSETFROM:-0400
TZOFFSETTO:-0500
TZNAME:EST
DTSTART:20261101T060000
END:STANDARD
END:VTIMEZONE
BEGIN:VEVENT
DTSTART;TZID=America/New_York:20250712T100000
DTEND;TZID=America/New_York:20250712T120000
DTSTAMP:20260419T205311
CREATED:20250707T163650Z
LAST-MODIFIED:20250707T164222Z
UID:10019839-1752314400-1752321600@gridphilly.com
SUMMARY:VU PHL & Cradles to Crayons
DESCRIPTION:VU PHL is partnering with Cradles to Crayons to transform donations into curated orders for children!\n\n\nCradles to Crayons connects you to new and gently used donations—beautiful and loved outfits and essentials from the community—that you and VU will quality check\, sort\, package\, and prepare to go to kids in our communities through our incredible network of Service Partners. \nWhat we will be doing: \nIn partnership with Cradles to Crayons\, up to 30 VU volunteers will sort\, organize\, and curate orders for specific children in the Giving Factory. Please arrive 10 minutes early for check-in. \nNotes ahead of the event! \nVU will add you to the Cradles to Crayons event system. Once added\, you’ll automatically receive a waiver via the email you provided during registration. Please be sure to sign the waiver prior to your shift. \nIf you have items to donate\, you can bring them to the event! Check out the link below: \nhttps://www.cradlestocrayons.org/philadelphia/take-action/donate-goods/items-we-accept/ \nParking & Transportation \n\nParking: There is a dedicated parking lot – we highly suggest carpooling!\n\n\nNearby bus routes: We recommend using the trip planner to make it easier to find frequent options\nRegional Rail: Queen Lane Station\, Allegheny\, Wayne Junction\n\n \nA note about cancellations: \nIf your schedule changes and you can no longer make it\, please email volunteeringuntappedphl@gmail.com ASAP to let us know. This way\, your spot can be given to someone else on the waitlist. THANK YOU!
URL:https://gridphilly.com/event/vu-phl-cradles-to-crayons-2/
LOCATION:Cradles to Crayons\, 4700 Wissahickon Avenue\, Suite 142\, Philadelphia\, PA\, 19144\, United States
ATTACH;FMTTYPE=image/jpeg:https://gridphilly.com/wp-content/uploads/2025/07/e00b5cfc40b7f429c6e734f0b27324b0.jpg
END:VEVENT
BEGIN:VEVENT
DTSTART;TZID=America/New_York:20240309T100000
DTEND;TZID=America/New_York:20240309T120000
DTSTAMP:20260419T205311
CREATED:20240219T212032Z
LAST-MODIFIED:20240219T212032Z
UID:10011007-1709978400-1709985600@gridphilly.com
SUMMARY:VU PHL & Cradles to Crayons
DESCRIPTION:VU PHL is partnering with Cradles to Crayons to transform donations into curated orders for children!\n\n\nCradles to Crayons connects you to new and gently used donations—beautiful and loved outfits and essentials from the community—that you and VU\, will quality check\, sort\, package\, and prepare to go to kids in our communities through our incredible network of Service Partners. \n \nWhat we will be doing on Saturday\, March 9th\, 10AM – 12 PM: \nVU in partnership with Cradles to Crayons\, will sort\, organize\, and curate orders for specific children in the Giving Factory. \n \nNotes ahead of the event! \nVU will add you to Cradles to Crayons’s event system. From there\, you will automatically receive the waiver in the email you used to register. Please sign the waiver prior to the shift. \nIf you have items to donate\, you can bring them to the event! Check out the link below: \nhttps://www.cradlestocrayons.org/philadelphia/take-action/donate-goods/items-we-accept/ \nParking & Transportation \n\nParking: There is a dedicated parking lot – we highly suggest carpooling!\n\n\nNearby buses routes: we recommend using the trip planner to make it easier frequent options\nRegional Rail: Queen Lane Station\, Allegheny\, Wayne Junction\n\n \nA note about cancellations: \nI f your schedule changes and you can no longer make it\, please email volunteeringuntappedphl@gmail.com ASAP to let us know. This way your spot can be given to someone else on the waitlist. THANK YOU!
URL:https://gridphilly.com/event/vu-phl-cradles-to-crayons/
LOCATION:Cradles to Crayons\, 4700 Wissahickon Avenue\, Suite 142\, Philadelphia\, PA\, 19144\, United States
ATTACH;FMTTYPE=image/jpeg:https://gridphilly.com/wp-content/uploads/2024/02/6403cbfb2dc335b92c23ff2dcec6a3fe.jpg
END:VEVENT
END:VCALENDAR