BEGIN:VCALENDAR
VERSION:2.0
PRODID:-//Grid Magazine - ECPv6.15.20//NONSGML v1.0//EN
CALSCALE:GREGORIAN
METHOD:PUBLISH
X-WR-CALNAME:Grid Magazine
X-ORIGINAL-URL:https://gridphilly.com
X-WR-CALDESC:Events for Grid Magazine
REFRESH-INTERVAL;VALUE=DURATION:PT1H
X-Robots-Tag:noindex
X-PUBLISHED-TTL:PT1H
BEGIN:VTIMEZONE
TZID:America/New_York
BEGIN:DAYLIGHT
TZOFFSETFROM:-0500
TZOFFSETTO:-0400
TZNAME:EDT
DTSTART:20240310T070000
END:DAYLIGHT
BEGIN:STANDARD
TZOFFSETFROM:-0400
TZOFFSETTO:-0500
TZNAME:EST
DTSTART:20241103T060000
END:STANDARD
BEGIN:DAYLIGHT
TZOFFSETFROM:-0500
TZOFFSETTO:-0400
TZNAME:EDT
DTSTART:20250309T070000
END:DAYLIGHT
BEGIN:STANDARD
TZOFFSETFROM:-0400
TZOFFSETTO:-0500
TZNAME:EST
DTSTART:20251102T060000
END:STANDARD
BEGIN:DAYLIGHT
TZOFFSETFROM:-0500
TZOFFSETTO:-0400
TZNAME:EDT
DTSTART:20260308T070000
END:DAYLIGHT
BEGIN:STANDARD
TZOFFSETFROM:-0400
TZOFFSETTO:-0500
TZNAME:EST
DTSTART:20261101T060000
END:STANDARD
END:VTIMEZONE
BEGIN:VEVENT
DTSTART;TZID=America/New_York:20250907T120000
DTEND;TZID=America/New_York:20250907T150000
DTSTAMP:20260422T083802
CREATED:20250822T160534Z
LAST-MODIFIED:20250822T160534Z
UID:10020639-1757246400-1757257200@gridphilly.com
SUMMARY:Trip Along a Tributary: The Cresheim Trail with Lisa Donahue and Jon McCabe
DESCRIPTION:Meeting at the St. Martins Lane Trailhead (see map here)\nThere is street parking on St. Martins Lane near our meeting location.\nPlease note there will not be bathroom access during the hike.\nCome along on a trip up and down the Cresheim Trail as we explore the Cresheim Creek area of the Wissahickon. We will encounter some ruins\, discuss the watershed\, and learn some history of this part of the park.\nChildren 12 years of age and older are welcome when accompanied by an adult\, but please\, no dogs except for service animals.\nDistance: 4 miles\nLevel: Difficult (many inclines and declines\, uneven surfaces)\nRegistration is required for all hikes so that participants can be informed of weather or other emergency cancellations.\nUnless otherwise specified\, Trail Ambassador Walks may be on rocky\, rugged trails that may be wet and slippery. Wear sturdy shoes or boots with socks. Walks are cancelled in heavy rain or icy conditions. Service animals are always welcome. For more information contact Marisa Miller at miller@fow.org. Visit www.fow.org for updates.\nRegister below!
URL:https://gridphilly.com/event/trip-along-a-tributary-the-cresheim-trail-with-lisa-donahue-and-jon-mccabe/
LOCATION:Corner of St. Martins Lane and Huron Street\, St. Martins Lane and Huron Street\, Philadelphia\, 19118
ATTACH;FMTTYPE=image/jpeg:https://gridphilly.com/wp-content/uploads/2024/09/cresheim-brad-maule-qfO2AA.tmp_.jpg
END:VEVENT
BEGIN:VEVENT
DTSTART;TZID=America/New_York:20250614T083000
DTEND;TZID=America/New_York:20250614T103000
DTSTAMP:20260422T083802
CREATED:20250527T173757Z
LAST-MODIFIED:20250527T173757Z
UID:10019177-1749889800-1749897000@gridphilly.com
SUMMARY:The Fingerspan Bridge: A Favorite Fitness Hike with Shuchi Rodgers and Debbie Hoellein
DESCRIPTION:Meeting at St. Martins Lane and Huron Street\nJoin us for a dynamic fitness hike through some of the Wissahickon’s most beautiful and varied landscapes! We’ll start along Cresheim Creek\, exploring different kinds of terrain\, and visit highlights like the Fingerspan Bridge by Jody Pinto\, the Frog Pond\, and more. This 2-hour hike has become a favorite go-to adventure in the Wissahickon—it is challenging\, scenic\, and deeply rewarding. This hike is appropriate for adults ages 18+\, and service dogs are welcome.\nPlease note: this is a difficult hike designed for fitness enthusiasts ready for a fun\, heart-pumping journey through the woods.\nDistance: 4 miles\nLevel: Difficult (many inclines and declines\, uneven surfaces)\nRegistration is required for all hikes so that participants can be informed of weather or other emergency cancellations. \nUnless otherwise specified\, Trail Ambassador Walks may be on rocky\, rugged trails that may be wet and slippery. Wear sturdy shoes or boots with socks. Walks are cancelled in heavy rain. Service animals are always welcome. For more information contact Marisa Miller at miller@fow.org. Visit www.fow.org for updates.\nRegister below!
URL:https://gridphilly.com/event/the-fingerspan-bridge-a-favorite-fitness-hike-with-shuchi-rodgers-and-debbie-hoellein/
LOCATION:Corner of St. Martins Lane and Huron Street\, St. Martins Lane and Huron Street\, Philadelphia\, 19118
CATEGORIES:Event
ATTACH;FMTTYPE=image/jpeg:https://gridphilly.com/wp-content/uploads/2025/05/Fingerspan-iIQxHQ.jpg
END:VEVENT
END:VCALENDAR