BEGIN:VCALENDAR
VERSION:2.0
PRODID:-//Grid Magazine - ECPv6.15.20//NONSGML v1.0//EN
CALSCALE:GREGORIAN
METHOD:PUBLISH
X-ORIGINAL-URL:https://gridphilly.com
X-WR-CALDESC:Events for Grid Magazine
REFRESH-INTERVAL;VALUE=DURATION:PT1H
X-Robots-Tag:noindex
X-PUBLISHED-TTL:PT1H
BEGIN:VTIMEZONE
TZID:America/New_York
BEGIN:DAYLIGHT
TZOFFSETFROM:-0500
TZOFFSETTO:-0400
TZNAME:EDT
DTSTART:20250309T070000
END:DAYLIGHT
BEGIN:STANDARD
TZOFFSETFROM:-0400
TZOFFSETTO:-0500
TZNAME:EST
DTSTART:20251102T060000
END:STANDARD
BEGIN:DAYLIGHT
TZOFFSETFROM:-0500
TZOFFSETTO:-0400
TZNAME:EDT
DTSTART:20260308T070000
END:DAYLIGHT
BEGIN:STANDARD
TZOFFSETFROM:-0400
TZOFFSETTO:-0500
TZNAME:EST
DTSTART:20261101T060000
END:STANDARD
BEGIN:DAYLIGHT
TZOFFSETFROM:-0500
TZOFFSETTO:-0400
TZNAME:EDT
DTSTART:20270314T070000
END:DAYLIGHT
BEGIN:STANDARD
TZOFFSETFROM:-0400
TZOFFSETTO:-0500
TZNAME:EST
DTSTART:20271107T060000
END:STANDARD
END:VTIMEZONE
BEGIN:VEVENT
DTSTART;TZID=America/New_York:20260407T180000
DTEND;TZID=America/New_York:20260407T200000
DTSTAMP:20260425T222441
CREATED:20260320T125352Z
LAST-MODIFIED:20260320T125352Z
UID:10030370-1775584800-1775592000@gridphilly.com
SUMMARY:Community Dinner with the Rail Park
DESCRIPTION:Join Friends of the Rail Park for a Community First Plan focus group meeting and help shape the future of the Rail Park and surrounding neighborhoods. These small-group conversations bring residents\, stakeholders\, and community members together to share experiences\, identify priorities\, and discuss opportunities related to housing\, economic development\, arts & culture\, and the environment. \nThe Community First Plan centers community voices to guide equitable development\, minimize displacement\, and ensure future investment reflects the needs of local neighborhoods. Participants will take part in interactive activities and discussions. \nFood will be provided\, and participants will receive gift cards as a thank-you for their time.
URL:https://gridphilly.com/event/community-dinner-with-the-rail-park/
LOCATION:Congregation Rodeph Shalom\, 615 North Broad Street\, Philadelphia\, PA\, 19123\, United States
ATTACH;FMTTYPE=image/png:https://gridphilly.com/wp-content/uploads/2026/03/4.7-Flyer-2.png
END:VEVENT
END:VCALENDAR