BEGIN:VCALENDAR
VERSION:2.0
PRODID:-//Grid Magazine - ECPv6.15.20//NONSGML v1.0//EN
CALSCALE:GREGORIAN
METHOD:PUBLISH
X-ORIGINAL-URL:https://gridphilly.com
X-WR-CALDESC:Events for Grid Magazine
REFRESH-INTERVAL;VALUE=DURATION:PT1H
X-Robots-Tag:noindex
X-PUBLISHED-TTL:PT1H
BEGIN:VTIMEZONE
TZID:America/New_York
BEGIN:DAYLIGHT
TZOFFSETFROM:-0500
TZOFFSETTO:-0400
TZNAME:EDT
DTSTART:20240310T070000
END:DAYLIGHT
BEGIN:STANDARD
TZOFFSETFROM:-0400
TZOFFSETTO:-0500
TZNAME:EST
DTSTART:20241103T060000
END:STANDARD
BEGIN:DAYLIGHT
TZOFFSETFROM:-0500
TZOFFSETTO:-0400
TZNAME:EDT
DTSTART:20250309T070000
END:DAYLIGHT
BEGIN:STANDARD
TZOFFSETFROM:-0400
TZOFFSETTO:-0500
TZNAME:EST
DTSTART:20251102T060000
END:STANDARD
BEGIN:DAYLIGHT
TZOFFSETFROM:-0500
TZOFFSETTO:-0400
TZNAME:EDT
DTSTART:20260308T070000
END:DAYLIGHT
BEGIN:STANDARD
TZOFFSETFROM:-0400
TZOFFSETTO:-0500
TZNAME:EST
DTSTART:20261101T060000
END:STANDARD
END:VTIMEZONE
BEGIN:VEVENT
DTSTART;TZID=America/New_York:20251228T120000
DTEND;TZID=America/New_York:20251228T140000
DTSTAMP:20260425T074307
CREATED:20251222T195702Z
LAST-MODIFIED:20251222T195702Z
UID:10027661-1766923200-1766930400@gridphilly.com
SUMMARY:LO Philly | Hiking Juntos: Cobbs Creek Park 2
DESCRIPTION:Join us on Sunday\, Dec 28th at 12PM for a hike at the Cobbs Creek Park while connecting with new friends and old!\n\n\nÚnete a nosotros el domingo 28 de diciembre a las 12 pm para una caminata en el Cobbs Creek Park mientras conectas con nuevos amigos y viejos. \n \nWe will meet by the Cobbs Creek Rec center on 280 Cobbs Creek Pkwy\, Philadelphia\, PA 19139 \n \n12PM Meet-up time \n1230PM Hike starts. Don’ be late! \n\n\nIMPORTANT INFORMATION PLEASE READ BEFORE REGISTERING: \nAfter registering\, please look for a waiver to complete in your email (from Community Initiatives\, not Latino Outdoors). \nIf you cannot attend\, please let us know as soon as possible by emailing us via eventbrite. \nPlease provide the age of every participant when registering and register each person individually with their names and age. This is required.
URL:https://gridphilly.com/event/lo-philly-hiking-juntos-cobbs-creek-park-2/
LOCATION:Cobbs Creek Recreation Center\, 280 Cobbs Creek Parkway\, Philadelphia\, PA\, 19139\, United States
ATTACH;FMTTYPE=image/jpeg:https://gridphilly.com/wp-content/uploads/2025/12/2c3518a4232ed6ac9159f016a4cf050c.jpg
END:VEVENT
END:VCALENDAR