BEGIN:VCALENDAR
VERSION:2.0
PRODID:-//Grid Magazine - ECPv6.15.20//NONSGML v1.0//EN
CALSCALE:GREGORIAN
METHOD:PUBLISH
X-ORIGINAL-URL:https://gridphilly.com
X-WR-CALDESC:Events for Grid Magazine
REFRESH-INTERVAL;VALUE=DURATION:PT1H
X-Robots-Tag:noindex
X-PUBLISHED-TTL:PT1H
BEGIN:VTIMEZONE
TZID:America/New_York
BEGIN:DAYLIGHT
TZOFFSETFROM:-0500
TZOFFSETTO:-0400
TZNAME:EDT
DTSTART:20250309T070000
END:DAYLIGHT
BEGIN:STANDARD
TZOFFSETFROM:-0400
TZOFFSETTO:-0500
TZNAME:EST
DTSTART:20251102T060000
END:STANDARD
BEGIN:DAYLIGHT
TZOFFSETFROM:-0500
TZOFFSETTO:-0400
TZNAME:EDT
DTSTART:20260308T070000
END:DAYLIGHT
BEGIN:STANDARD
TZOFFSETFROM:-0400
TZOFFSETTO:-0500
TZNAME:EST
DTSTART:20261101T060000
END:STANDARD
BEGIN:DAYLIGHT
TZOFFSETFROM:-0500
TZOFFSETTO:-0400
TZNAME:EDT
DTSTART:20270314T070000
END:DAYLIGHT
BEGIN:STANDARD
TZOFFSETFROM:-0400
TZOFFSETTO:-0500
TZNAME:EST
DTSTART:20271107T060000
END:STANDARD
END:VTIMEZONE
BEGIN:VEVENT
DTSTART;TZID=America/New_York:20260405T140000
DTEND;TZID=America/New_York:20260405T150000
DTSTAMP:20260424T152147
CREATED:20260326T191619Z
LAST-MODIFIED:20260326T191619Z
UID:10030503-1775397600-1775401200@gridphilly.com
SUMMARY:Cobbs Creek Park Cleanup with Philly Mycology Club - April 2026 Edition
DESCRIPTION:Join the Philadelphia Mycology Club for some community oriented land stewardship in Cobbs Creek Park! Meet in the parking lot at Thomas Ave along Cobbs Creek Parkway at 2pm. We will provide everything you need. Everyone is invited! For questions\, you can reach out to us at admin@phillymycoclub.com. Join us on the first Sunday of every month at the same time and location for our community volunteer event! \nBy registering for this event you grant the Philadelphia Mycology Club to use photographs and/or video of you taken at the event in publications\, online\, and in other communications related to the Philadelphia Mycology Club.
URL:https://gridphilly.com/event/cobbs-creek-park-cleanup-with-philly-mycology-club-april-2026-edition/
LOCATION:Cobbs Creek Parkway
ATTACH;FMTTYPE=image/jpeg:https://gridphilly.com/wp-content/uploads/2026/03/CobbsCreekCleanup.jpg
ORGANIZER;CN="Philadelphia Mycology Club":MAILTO:Info@phillymycoclub.com
END:VEVENT
BEGIN:VEVENT
DTSTART;TZID=America/New_York:20260201T140000
DTEND;TZID=America/New_York:20260201T150000
DTSTAMP:20260424T152147
CREATED:20260112T152544Z
LAST-MODIFIED:20260112T152544Z
UID:10028300-1769954400-1769958000@gridphilly.com
SUMMARY:Cobbs Creek Park Cleanup with Philly Mycology Club-- February 2026 Edition
DESCRIPTION:Join the Philadelphia Mycology Club for some community oriented land stewardship in Cobbs Creek Park! Meet in the parking lot at Thomas Ave along Cobbs Creek Parkway at 2pm. We will provide everything you need. Everyone is invited! For questions\, you can reach out to us at admin@phillymycoclub.com. Join us on the first Sunday of every month at the same time and location for our community volunteer event! \nBy registering for this event you grant the Philadelphia Mycology Club to use photographs and/or video of you taken at the event in publications\, online\, and in other communications related to the Philadelphia Mycology Club.
URL:https://gridphilly.com/event/cobbs-creek-park-cleanup-with-philly-mycology-club-february-2026-edition/
LOCATION:Cobbs Creek Parkway
ATTACH;FMTTYPE=image/png:https://gridphilly.com/wp-content/uploads/2026/01/Screen-Shot-2026-01-12-at-10.24.58-AM.png
ORGANIZER;CN="Philadelphia Mycology Club":MAILTO:Info@phillymycoclub.com
END:VEVENT
END:VCALENDAR