BEGIN:VCALENDAR
VERSION:2.0
PRODID:-//Grid Magazine - ECPv6.15.20//NONSGML v1.0//EN
CALSCALE:GREGORIAN
METHOD:PUBLISH
X-WR-CALNAME:Grid Magazine
X-ORIGINAL-URL:https://gridphilly.com
X-WR-CALDESC:Events for Grid Magazine
REFRESH-INTERVAL;VALUE=DURATION:PT1H
X-Robots-Tag:noindex
X-PUBLISHED-TTL:PT1H
BEGIN:VTIMEZONE
TZID:America/New_York
BEGIN:DAYLIGHT
TZOFFSETFROM:-0500
TZOFFSETTO:-0400
TZNAME:EDT
DTSTART:20220313T070000
END:DAYLIGHT
BEGIN:STANDARD
TZOFFSETFROM:-0400
TZOFFSETTO:-0500
TZNAME:EST
DTSTART:20221106T060000
END:STANDARD
BEGIN:DAYLIGHT
TZOFFSETFROM:-0500
TZOFFSETTO:-0400
TZNAME:EDT
DTSTART:20230312T070000
END:DAYLIGHT
BEGIN:STANDARD
TZOFFSETFROM:-0400
TZOFFSETTO:-0500
TZNAME:EST
DTSTART:20231105T060000
END:STANDARD
BEGIN:DAYLIGHT
TZOFFSETFROM:-0500
TZOFFSETTO:-0400
TZNAME:EDT
DTSTART:20240310T070000
END:DAYLIGHT
BEGIN:STANDARD
TZOFFSETFROM:-0400
TZOFFSETTO:-0500
TZNAME:EST
DTSTART:20241103T060000
END:STANDARD
BEGIN:DAYLIGHT
TZOFFSETFROM:-0500
TZOFFSETTO:-0400
TZNAME:EDT
DTSTART:20250309T070000
END:DAYLIGHT
BEGIN:STANDARD
TZOFFSETFROM:-0400
TZOFFSETTO:-0500
TZNAME:EST
DTSTART:20251102T060000
END:STANDARD
END:VTIMEZONE
BEGIN:VEVENT
DTSTART;TZID=America/New_York:20240602T140000
DTEND;TZID=America/New_York:20240602T160000
DTSTAMP:20260420T010027
CREATED:20240513T203823Z
LAST-MODIFIED:20240513T203823Z
UID:10012824-1717336800-1717344000@gridphilly.com
SUMMARY:Philly Mycology Club  Cobbs Creek Park Cleanup -- May Edition
DESCRIPTION:Join the Philadelphia Mycology Club for some community oriented land stewardship in Cobbs Creek Park! \nMeet in the parking lot at Thomas Ave along Cobbs Creek Parkway at 2pm. We will provide everything you need. \nEveryone is invited! For questions\, you can reach out to us at info@phillymycoclub.com. \nJoin us on the first Sunday of every month at the same time and location for our community volunteer event! \nBy registering for this event you grant the Philadelphia Mycology Club to use photographs and/or video of you taken at the event in publications\, online\, and in other communications related to the Philadelphia Mycology Club.
URL:https://gridphilly.com/event/philly-mycology-club-cobbs-creek-park-cleanup-may-edition/
LOCATION:Cobbs Creek Parkway & Thomas Avenue\, Cobbs Creek Parkway & Thomas Ave\, Philadelphia\, PA\, 19143\, United States
ATTACH;FMTTYPE=image/jpeg:https://gridphilly.com/wp-content/uploads/2024/05/trash.jpg
END:VEVENT
BEGIN:VEVENT
DTSTART;TZID=America/New_York:20240204T140000
DTEND;TZID=America/New_York:20240204T160000
DTSTAMP:20260420T010027
CREATED:20240112T175432Z
LAST-MODIFIED:20240112T175432Z
UID:10010538-1707055200-1707062400@gridphilly.com
SUMMARY:Cobbs Creek Park Cleanup with the Philadelphia Mycology Club
DESCRIPTION:Join the Philadelphia Mycology Club for some community oriented land stewardship in Cobbs Creek Park! \nMeet in the parking lot at Thomas Ave along Cobbs Creek Parkway at 2pm. We will provide everything you need. \nEveryone is invited! For questions\, you can reach out to us at info@phillymycoclub.com. \nJoin us on the first Sunday of every month at the same time and location for our community volunteer event!
URL:https://gridphilly.com/event/cobbs-creek-park-cleanup-with-the-philadelphia-mycology-club/
LOCATION:Cobbs Creek Parkway & Thomas Avenue\, Cobbs Creek Parkway & Thomas Ave\, Philadelphia\, PA\, 19143\, United States
CATEGORIES:Clean-ups,Community Events,Community Service,Event,Family-friendly,Foraging,Free,Free Community Events,Land Stewardship,LGBTQIA+,Nature & Community Science,Neighborhood,Outdoor Event,Stewardship,Volunteer Opportunities,Volunteer Service,Weekly & Monthly
ATTACH;FMTTYPE=image/jpeg:https://gridphilly.com/wp-content/uploads/2024/01/FB_IMG_1705023563532.jpg
ORGANIZER;CN="Philadelphia Mycology Club":MAILTO:Info@phillymycoclub.com
END:VEVENT
BEGIN:VEVENT
DTSTART;TZID=America/New_York:20230909T100000
DTEND;TZID=America/New_York:20230909T140000
DTSTAMP:20260420T010027
CREATED:20230907T171107Z
LAST-MODIFIED:20230907T171107Z
UID:10006768-1694253600-1694268000@gridphilly.com
SUMMARY:Summer Festival at Whitby Park
DESCRIPTION:The Cobbs Creek Park Ambassadors invite neighbors to come enjoy free food\, music\, and outdoor fun in the park! We will have bounce houses\, a native plant giveaway\, expert-led birding and mushroom walks\, water testing demonstrations\, and more.
URL:https://gridphilly.com/event/summer-festival-at-whitby-park/
LOCATION:Cobbs Creek Parkway & Thomas Avenue\, Cobbs Creek Parkway & Thomas Ave\, Philadelphia\, PA\, 19143\, United States
CATEGORIES:Family-friendly,Festival,Food,Foraging,Free,Health in Nature,Native Plants,Nature Walks
ATTACH;FMTTYPE=image/jpeg:https://gridphilly.com/wp-content/uploads/2023/09/IMG_6304.jpeg
END:VEVENT
END:VCALENDAR