BEGIN:VCALENDAR
VERSION:2.0
PRODID:-//Grid Magazine - ECPv6.15.20//NONSGML v1.0//EN
CALSCALE:GREGORIAN
METHOD:PUBLISH
X-WR-CALNAME:Grid Magazine
X-ORIGINAL-URL:https://gridphilly.com
X-WR-CALDESC:Events for Grid Magazine
REFRESH-INTERVAL;VALUE=DURATION:PT1H
X-Robots-Tag:noindex
X-PUBLISHED-TTL:PT1H
BEGIN:VTIMEZONE
TZID:America/New_York
BEGIN:DAYLIGHT
TZOFFSETFROM:-0500
TZOFFSETTO:-0400
TZNAME:EDT
DTSTART:20230312T070000
END:DAYLIGHT
BEGIN:STANDARD
TZOFFSETFROM:-0400
TZOFFSETTO:-0500
TZNAME:EST
DTSTART:20231105T060000
END:STANDARD
BEGIN:DAYLIGHT
TZOFFSETFROM:-0500
TZOFFSETTO:-0400
TZNAME:EDT
DTSTART:20240310T070000
END:DAYLIGHT
BEGIN:STANDARD
TZOFFSETFROM:-0400
TZOFFSETTO:-0500
TZNAME:EST
DTSTART:20241103T060000
END:STANDARD
BEGIN:DAYLIGHT
TZOFFSETFROM:-0500
TZOFFSETTO:-0400
TZNAME:EDT
DTSTART:20250309T070000
END:DAYLIGHT
BEGIN:STANDARD
TZOFFSETFROM:-0400
TZOFFSETTO:-0500
TZNAME:EST
DTSTART:20251102T060000
END:STANDARD
BEGIN:DAYLIGHT
TZOFFSETFROM:-0500
TZOFFSETTO:-0400
TZNAME:EDT
DTSTART:20260308T070000
END:DAYLIGHT
BEGIN:STANDARD
TZOFFSETFROM:-0400
TZOFFSETTO:-0500
TZNAME:EST
DTSTART:20261101T060000
END:STANDARD
BEGIN:DAYLIGHT
TZOFFSETFROM:-0500
TZOFFSETTO:-0400
TZNAME:EDT
DTSTART:20270314T070000
END:DAYLIGHT
BEGIN:STANDARD
TZOFFSETFROM:-0400
TZOFFSETTO:-0500
TZNAME:EST
DTSTART:20271107T060000
END:STANDARD
END:VTIMEZONE
BEGIN:VEVENT
DTSTART;TZID=America/New_York:20260416T173000
DTEND;TZID=America/New_York:20260416T193000
DTSTAMP:20260421T040138
CREATED:20260413T011830Z
LAST-MODIFIED:20260413T011830Z
UID:10032218-1776360600-1776367800@gridphilly.com
SUMMARY:Poetry Circle & Connect: The Peace of Wild Things
DESCRIPTION:For as long as there has existed the written word\, people have written about the natural world. To explore their connection with and deepen their understanding of it. To express an appreciation for its beauty and to raise awareness about issues that threaten it. To reflect on their place within the larger ecosystem that includes us all. \nJoin us on the overlook hill at ChesLen Preserve (weather permitting) to celebrate National Poetry Month with an open share of nature-inspired poems. Share your own poems\, the poems of others you appreciate\, or simply listen.   \nThis event will be one for conversation and connection\, not critique; it is not intended as a workshop.   \nWe’ll gather at the Lenfest Center parking lot before walking to our space.  \nWhen despair for the world grows in me\nand I wake in the night at the least sound\nin fear of what my life and my children’s lives may be\,\nI go and lie down where the wood drake\nrests in his beauty on the water\, and the great heron feeds.\nI come into the peace of wild things\nwho do not tax their lives with forethought\nof grief. I come into the presence of still water.\nAnd I feel above me the day-blind stars\nwaiting with their light. For a time\nI rest in the grace of the world\, and am free.  \n– Wendell Berry  
URL:https://gridphilly.com/event/poetry-circle-connect-the-peace-of-wild-things/
LOCATION:ChesLen Preserve\, 1199 Cannery Road\, Coatesville\, Pennsylvania\, 19320
CATEGORIES:arts & entertainment,explore the natural world,general,NextGen
ATTACH;FMTTYPE=image/jpeg:https://gridphilly.com/wp-content/uploads/2026/04/IMG_5501-medium-e1741274137709-x2og3h.jpg
END:VEVENT
BEGIN:VEVENT
DTSTART;TZID=America/New_York:20260411T150000
DTEND;TZID=America/New_York:20260411T190000
DTSTAMP:20260421T040138
CREATED:20260324T012902Z
LAST-MODIFIED:20260324T013153Z
UID:10030449-1775919600-1775934000@gridphilly.com
SUMMARY:Pints on the Preserve
DESCRIPTION:East Branch Brewing Company will be pouring suds at the Lenfest Center pavilion. Enjoy refreshments with a take-your-breath-away view. \n \nPair your pint with a… \n…hike! ChesLen Preserve includes nearly 1\,300 acres and more than 14 miles of trails to explore. \n…picnic! Bring a picnic to enjoy with your favorite pint. \n…fun time with friends! Bring a chair or picnic blanket and enjoy a get together with friends and family on the Lenfest Center’s back deck or the covered pavilion. \n*Small snacks will be available for CASH-ONLY purchase.* \nJoin us on the 2nd Saturday of the month\, from April through November.
URL:https://gridphilly.com/event/pints-on-the-preserve-5/
LOCATION:ChesLen Preserve\, 1199 Cannery Road\, Coatesville\, Pennsylvania\, 19320
CATEGORIES:general,pints on the preserve
ATTACH;FMTTYPE=image/jpeg:https://gridphilly.com/wp-content/uploads/2026/03/Sunrise-at-Lenfest-Center-Sean-Quinn-4-6-16_Small-e1741274074713-XMAwgt.jpg
END:VEVENT
BEGIN:VEVENT
DTSTART;TZID=America/New_York:20260403T100000
DTEND;TZID=America/New_York:20260403T120000
DTSTAMP:20260421T040138
CREATED:20260326T004910Z
LAST-MODIFIED:20260326T005419Z
UID:10030458-1775210400-1775217600@gridphilly.com
SUMMARY:Ollie Owl’s Wild Bird Egg Hunt
DESCRIPTION:Kids\, bring your favorite adult and spend the morning with some outdoor playtime at Ollie Owl’s NaturePlayGround. \nChickens aren’t the only birds who lay eggs. In fact\, all birds lay eggs—even owls\, like Ollie. \nVisit Ollie Owl’s NaturePlayGround at ChesLen Preserve for a self-guided\, egg-cellent scavenger hunt. Look for nests and eggs along the trails and the playground space. Peer closely and see if you can figure out what birds they belong to. Enjoy a snack and craft to fit the theme. \nFamilies with young children (ages 18 months to 5 years) are invited to attend these nature discovery events designed to inspire a sense of wonder about the natural world. After all\, today’s children are tomorrow’s conservationists. Families are welcome to stay after the event to enjoy a picnic from home. \nThis event is made possible with generous support from\nThe Kulicke Fund.
URL:https://gridphilly.com/event/ollie-owls-wild-bird-egg-hunt/
LOCATION:ChesLen Preserve\, 1199 Cannery Road\, Coatesville\, Pennsylvania\, 19320
CATEGORIES:arts & entertainment,family and kid friendly,general,NextGen
ATTACH;FMTTYPE=image/jpeg:https://gridphilly.com/wp-content/uploads/2026/03/IMG_6952-jtuY08.jpg
END:VEVENT
BEGIN:VEVENT
DTSTART;TZID=America/New_York:20260111T090000
DTEND;TZID=America/New_York:20260111T113000
DTSTAMP:20260421T040138
CREATED:20251226T133827Z
LAST-MODIFIED:20251226T140134Z
UID:10027726-1768122000-1768131000@gridphilly.com
SUMMARY:Volunteer – Give Back to Nature
DESCRIPTION:Love nature and want to lend her a helping hand? Grab gloves and join fellow volunteers in nurturing nature. Good fun (and dirt) is guaranteed! Natural Lands cares for more than 23\,000 acres and 120 miles of trails\, and we couldn’t do it without volunteers like you. \nVolunteering with Natural Lands is a great way to learn more about the natural world\, give your time to a great cause\, and connect with enthusiastic\, like-minded people. \nThe health and safety of staff and volunteers is our highest priority during this volunteer event. Please review “before you go” details. \nCapacity is limited for this small-group event. If you sign-up\, please show up. If you need to cancel\, please let us know so another volunteer can attend. All are welcome\, ages 12 and up. Minors ages 12-17 must be accompanied by an adult and registered in the same transaction with their guardians.
URL:https://gridphilly.com/event/volunteer-give-back-to-nature-8/
LOCATION:ChesLen Preserve\, 1199 Cannery Road\, Coatesville\, Pennsylvania\, 19320
CATEGORIES:Volunteer
ATTACH;FMTTYPE=image/jpeg:https://gridphilly.com/wp-content/uploads/2025/12/Volunteers-Tree-Planting-Diabase-2023-1104-by-Debbie-Beer-3-1-scaled-4-e1743711716275-HICImp.jpg
END:VEVENT
BEGIN:VEVENT
DTSTART;TZID=America/New_York:20251108T150000
DTEND;TZID=America/New_York:20251108T170000
DTSTAMP:20260421T040138
CREATED:20251027T140624Z
LAST-MODIFIED:20251027T140624Z
UID:10023747-1762614000-1762621200@gridphilly.com
SUMMARY:Family Edition – Pints on the Preserve
DESCRIPTION:3:00 – 5:00 pm: Natural Lands’ Next Gen Council invites families to meet up for a few hours of fun and exploration. All activities are free\, but registration is requested. \nActivities at the pavilion \n\nMake crafts to take home.\nEnjoy lounging\, lawn games\, and outdoor fun.\nSmall snacks will be available for CASH-ONLY purchase.\nPints for the grown-ups (cash or credit card).\n\nActivities in Ollie Owl’s NaturePlayGround \n\nSearch for clues for the Ollie Owl Scavenger Hunt.\nClimb logs\, build stick teepees\, hunt for bugs\, explore small streams\, and get a little dirty\, tired\, and inspired.\nFree play is encouraged and is a great way for kids to gain an appreciation for nature.\nOllie Owl’s NaturePlayGround is designed for children ages 4 to 12 years old\, but older kids and adults have fun\, too. Children must be accompanied by a parent or guardian.\n\nKiddos are encouraged to explore at their own pace\, so stay and play as little or long as you like in this drop-in event. \nThis event is made possible with generous support from\nThe Kulicke Fund.
URL:https://gridphilly.com/event/family-edition-pints-on-the-preserve-2/
LOCATION:ChesLen Preserve\, 1199 Cannery Road\, Coatesville\, Pennsylvania\, 19320
CATEGORIES:family and kid friendly,general,NextGen,pints on the preserve
ATTACH;FMTTYPE=image/jpeg:https://gridphilly.com/wp-content/uploads/2025/10/TaprootPhotographyStoneleigh_Medium-e1743711256179-qeUEWx.jpg
END:VEVENT
BEGIN:VEVENT
DTSTART;TZID=America/New_York:20250620T190000
DTEND;TZID=America/New_York:20250620T220000
DTSTAMP:20260421T040138
CREATED:20250528T170745Z
LAST-MODIFIED:20250528T170745Z
UID:10019233-1750446000-1750456800@gridphilly.com
SUMMARY:Friday Night Lights
DESCRIPTION:Live music\, wine and beer\, s’mores toasting\, star gazing\, and sunset socializing at one of the most beautiful settings in all of Chester County. Friday Night Lights is the must-not-miss event of the summer. \nThis June\, join us for live music under the evening sky. We’re thrilled to welcome David Wax Museum and Pawnshop Roses to the stage. \n \nNatural beauty: Immerse yourself in the stunning natural surroundings of the preserve. Feel the gentle breeze\, watch the sunset\, and connect with the beauty of the great outdoors. \nCozy seating: Bring your own blankets or lawn chairs to create a comfy space to kick back and enjoy the music. \nFood and Drink: Local craft beer and wine\, and yummy food truck fare to purchase: \n\nLocal craft beer from East Branch Brewing Company and Animated Brewing Company\nLocal cider and wine from Dressler Estate\nYummy food truck fare from Buddy’s Burgers\, Breasts\, and Fries (featuring veggie burgers)\, Delco Steaks (featuring veggie & vegan options)\, and KOI on the Go (Asian/Latin fusion with vegetarian options\, plus coffee & desserts)\nSupporting a great cause\n\nStar gazing on the hilltop with local astronomy clubs: Delaware Astronomical Society\, ChesMont Astronomical Society\, and Bucks-Mont Astronomy Association. \nIt’s music without walls\, y’all! Check out the fun in this video. \nJoin Natural Lands’ NextGen Council and other folks in their 20s\, 30s\, and 40s for Friday Night Lights.  Check out our NextGen ticket options below. \nPremium Ticket holders enjoy all the perks of the regular ticket experience plus the following: \n\nPremium parking\nExpress entry\nDrink ticket
URL:https://gridphilly.com/event/friday-night-lights-3/
LOCATION:ChesLen Preserve\, 1199 Cannery Road\, Coatesville\, Pennsylvania\, 19320
CATEGORIES:general,member perks,music without walls,NextGen
ATTACH;FMTTYPE=image/jpeg:https://gridphilly.com/wp-content/uploads/2025/05/FNLgraphic-2025-iwvhkX.jpg
END:VEVENT
BEGIN:VEVENT
DTSTART;TZID=America/New_York:20250503T140000
DTEND;TZID=America/New_York:20250503T180000
DTSTAMP:20260421T040138
CREATED:20250428T173139Z
LAST-MODIFIED:20250428T173139Z
UID:10018705-1746280800-1746295200@gridphilly.com
SUMMARY:Members Appreciation Day
DESCRIPTION:Land for life. Nature for all. It’s the heart of our mission. \nBut we can’t succeed in delivering on it—saving open space\, caring for nature\, and connecting people to the outdoors and each other—without our membership community. \nYou take care of us all year long. We want to thank you! \nMingle with other Natural Lands members for an afternoon of festive food and beverages\, guided hikes and strolls\, and family-friendly activities at a stunning 1\,282-acre preserve. \nGuests are welcome!  Share your passion for protected open space by bringing friends and family along to experience the joy of nature and community. \nMember-supported Natural Lands. Together we have an impact. Today. And forever. \nRSVP by Thursday\, May 1st \nRain date: Sunday\, May 4\, 2025
URL:https://gridphilly.com/event/members-appreciation-day/
LOCATION:ChesLen Preserve\, 1199 Cannery Road\, Coatesville\, Pennsylvania\, 19320
CATEGORIES:general,member perks,members-only
ATTACH;FMTTYPE=image/jpeg:https://gridphilly.com/wp-content/uploads/2025/04/MembersDay-EventImage2025-wuO0w1.tmp_.jpg
END:VEVENT
BEGIN:VEVENT
DTSTART;TZID=America/New_York:20250503T140000
DTEND;TZID=America/New_York:20250503T180000
DTSTAMP:20260421T040138
CREATED:20250418T162137Z
LAST-MODIFIED:20250418T162137Z
UID:10018404-1746280800-1746295200@gridphilly.com
SUMMARY:Natural Lands' Members Appreciation Day
DESCRIPTION:Land for life. Nature for all. It’s the heart of our mission. \nBut we can’t succeed in delivering on it—saving open space\, caring for nature\, and connecting people to the outdoors and each other—without our membership community. \nYou take care of us all year long. We want to thank you! \nMingle with other Natural Lands members for an afternoon of festive food and beverages\, guided hikes and strolls\, and family-friendly activities at a stunning 1\,282-acre preserve. \nGuests are welcome! Share your passion for protected open space by bringing friends and family along to experience the joy of nature and community. \nMember-supported Natural Lands. Together we have an impact. Today. And forever.
URL:https://gridphilly.com/event/natural-lands-members-appreciation-day/
LOCATION:ChesLen Preserve\, 1199 Cannery Road\, Coatesville\, Pennsylvania\, 19320
ATTACH;FMTTYPE=image/jpeg:https://gridphilly.com/wp-content/uploads/2025/04/MembersDay-EventImage2025.jpg
ORGANIZER;CN="Natural Lands":MAILTO:thansen@natlands.org
END:VEVENT
BEGIN:VEVENT
DTSTART;TZID=America/New_York:20241109T140000
DTEND;TZID=America/New_York:20241109T160000
DTSTAMP:20260421T040138
CREATED:20241028T163347Z
LAST-MODIFIED:20241028T163347Z
UID:10015385-1731160800-1731168000@gridphilly.com
SUMMARY:Family Edition – Pints on the Preserve
DESCRIPTION:This is part of our Pints on the Preserve event from 2:00 – 5:30 pm. \n2:00 – 4:00pm: Natural Lands’ Next Gen Council invites families to meet up for a few hours of fun and exploration. All activities are free\, but registration is requested.  \nActivities at the pavilion  \n\nMake crafts to take home. \nRoast some marshmallows. \nEnjoy lounging\, lawn games\, and outdoor fun. \nSmall snacks will be available for CASH-ONLY purchase. \nPints for the grown-ups! (cash or credit card).\n\nActivities in Ollie Owl’s NaturePlayGround  \n\nSearch for clues for the Ollie Owl Scavenger Hunt\nClimb logs\, build stick teepees\, hunt for bugs\, explore small streams\, and get a little dirty\, tired\, and inspired.\nFree play is encouraged and is a great way for kids to gain an appreciation for nature.\nOllie Owl’s NaturePlayGround is designed for children ages 4 to 12 years old\, but older kids and adults have fun too. Children must be accompanied by a parent or guardian.\nKiddos are encouraged to explore at their own pace\, so stay and play as little or long as you like in this drop-in event.
URL:https://gridphilly.com/event/family-edition-pints-on-the-preserve/
LOCATION:ChesLen Preserve\, 1199 Cannery Road\, Coatesville\, Pennsylvania\, 19320
CATEGORIES:Family and Kids,General Events,NextGen
ATTACH;FMTTYPE=image/jpeg:https://gridphilly.com/wp-content/uploads/2024/10/TaprootPhotographyStoneleigh_Medium-JOeLYW.tmp_.jpg
END:VEVENT
BEGIN:VEVENT
DTSTART;TZID=America/New_York:20241012T140000
DTEND;TZID=America/New_York:20241012T153000
DTSTAMP:20260421T040138
CREATED:20241007T153002Z
LAST-MODIFIED:20241007T153002Z
UID:10014963-1728741600-1728747000@gridphilly.com
SUMMARY:Rejuvenate & Connect with NextGen
DESCRIPTION:Join us for a fun adventure in nature during our Rejuvenate & Connect walk at ChesLen Preserve. Open to all; folks in their 20s\, 30s\, and 40s are especially encouraged to join us. Kids are welcome. \nExplore local habitats with NextGen Council members Marion Leary and Eduardo Dueñas alongside fellow nature enthusiasts. Discover the beauty of our surroundings and learn about the diverse flora and fauna that inhabit them. \nAs we hike along scenic trails\, we will discuss the health benefits of being in nature. Using principles from forest therapy\, we will take time to enjoy the rejuvenating benefits of being outdoors. The walk will be easy to moderate and mostly in the shade. \nAfterwards\, enjoy a pint at our Pints on the Preserve.
URL:https://gridphilly.com/event/rejuvenate-connect-with-nextgen/
LOCATION:ChesLen Preserve\, 1199 Cannery Road\, Coatesville\, Pennsylvania\, 19320
CATEGORIES:General Events,NextGen
ATTACH;FMTTYPE=image/jpeg:https://gridphilly.com/wp-content/uploads/2024/07/image004-medium-pbeKR5.tmp_.jpg
END:VEVENT
BEGIN:VEVENT
DTSTART;TZID=America/New_York:20240914T140000
DTEND;TZID=America/New_York:20240914T190000
DTSTAMP:20260421T040139
CREATED:20240909T133756Z
LAST-MODIFIED:20240909T144553Z
UID:10014473-1726322400-1726340400@gridphilly.com
SUMMARY:Pints on the Preserve
DESCRIPTION:East Branch Brewing Company will be pouring suds at the Lenfest Center pavilion. Enjoy refreshments with a take-your-breath-away view. \n \nPair your pint with a… \n\n…hike! ChesLen Preserve includes nearly 1\,300 acres and more than 14 miles of trails to explore.\n…picnic! Bring a picnic to enjoy with your favorite pint.\n…fun time with friends! Bring a chair or picnic blanket and enjoy a get together with friends and family on the Lenfest Center’s back deck or the covered pavilion.\n…take a hike and watch plein air painters with Gregory Blue and Studio Incamminati. Sign up for this exclusive workshop to learn the art of “outdoor” painting with renowned local artist.\n\n*Small snacks will be available for CASH-ONLY purchase.*
URL:https://gridphilly.com/event/pints-on-the-preserve-4/
LOCATION:ChesLen Preserve\, 1199 Cannery Road\, Coatesville\, Pennsylvania\, 19320
CATEGORIES:General Events
ATTACH;FMTTYPE=image/jpeg:https://gridphilly.com/wp-content/uploads/2022/08/Sunrise-at-Lenfest-Center-Sean-Quinn-4-6-16_Small-9EXJer.tmp_.jpg
END:VEVENT
BEGIN:VEVENT
DTSTART;TZID=America/New_York:20240712T190000
DTEND;TZID=America/New_York:20240712T220000
DTSTAMP:20260421T040139
CREATED:20240709T183402Z
LAST-MODIFIED:20240709T183402Z
UID:10013582-1720810800-1720821600@gridphilly.com
SUMMARY:Friday Night Lights
DESCRIPTION:It’s no wonder our annual Friday Night Lights event sells out every year! Live music\, wine and beer\, s’mores toasting\, star gazing\, and sunset socializing at one of the most beautiful settings in all of Chester County… What’s not to love? \nTwo Rocking Bands: The Big Takeover and Pawnshop Roses \n \nNatural Beauty: Immerse yourself in the stunning natural surroundings of the preserve. Feel the gentle breeze\, watch the sunset\, and connect with the beauty of the great outdoors. Bring a chair or picnic blanket and enjoy a get together with friends and family near the Lenfest Center\, boasting beautiful panoramic views of rolling hills and stunning sunset. \nCozy Seating: Bring your own blankets or lawn chairs to create a comfy space to kick back and enjoy the music. \nWorried about rain? If cancelled\, we will offer refunds to this event or gratefully accept your purchase as donation\, whichever you prefer. Your donation will help Natural Lands save open space\, care for nature\, and connect people to the outdoors. \nHappy Feeling: Supporting a great cause. \nFood and Drink: Local craft beer and wine\, and yummy food truck fare to purchase \n\n\n\n\n\nLocal craft beer from East Branch Brewing Company\nLocal cider and wine from Dressler Estate\nYummy food truck fare from Brothers Food Truck\, Burrito Feliz Philly\, Dia Doce Cupcakes\, and Jay’s Joint.\n\n\n\n\n\nStar gazing with local astronomy clubs: ChesMont Astronomical Society\, Chester County Astronomical Society\, Delaware Astronomical Society\, and Delaware Valley Amateur Astronomers. \nIt’s music without walls\, y’all! Don’t miss the fun. \n\nTicket sales are limited so purchase in advance! Online sales will close Friday\, July 12\, at 12:00 pm. General admission walk-in tickets may be available for $55 (plus processing fees) if the event is not sold out.\nGates open at 6:00 pm\nNo outside food or drinks are permitted. There will be a variety of vendors to choose from.\n\nIn your 20s\, 30s\, or 40s? Check out our NextGen ticket options. \n \nPremium Tickets\nClick here to buy.\nPremium ticket holders enjoy all the perks of the regular ticket experience plus the following: \n\nPremium Parking\nExpress Entry\nDrink ticket\n\nFriday Night Lights is one of our music. without walls series. Check out the other ones here: \nNew date: June 22 – Field Jam at Stroud Preserve\nJuly – Friday Night Lights at ChesLen Preserve\nSeptember – Beats & Brews at Binky Lee Preserve
URL:https://gridphilly.com/event/friday-night-lights-2/
LOCATION:ChesLen Preserve\, 1199 Cannery Road\, Coatesville\, Pennsylvania\, 19320
CATEGORIES:General Events,NextGen
ATTACH;FMTTYPE=image/jpeg:https://gridphilly.com/wp-content/uploads/2023/06/FNLeventimage-2022-e1647876530855-aBFWh7.tmp_.jpg
END:VEVENT
BEGIN:VEVENT
DTSTART;TZID=America/New_York:20240712T170000
DTEND;TZID=America/New_York:20240712T183000
DTSTAMP:20260421T040139
CREATED:20240709T183338Z
LAST-MODIFIED:20240709T183338Z
UID:10013581-1720803600-1720809000@gridphilly.com
SUMMARY:NextGen Wellness & Habitat Walk
DESCRIPTION:Join us for a fun adventure in nature during our Wellness & Habitat Walk at ChesLen Preserve. Open to all\, and folks in their 20s\, 30s\, and 40s are especially encouraged to join us. Kids are welcome. \nExplore local habitats with NextGen Council members Marion Leary and Eduardo Dueñas\, alongside fellow nature enthusiasts. Discover the beauty of our surroundings and learn about the diverse flora and fauna that inhabit them. \nAs we hike along scenic trails\, we will discuss the health benefits of being in nature – using principles from forest therapy we will take time to enjoy the rejuvenating benefits of being outdoors. The walking is easy to moderate and mostly in the shade. \nThis walk will end just in time for participants to head on over to the Friday Night Lights concert – feel free to join us just for the walk only or stick around to enjoy the concert. Tickets to the concert are required – please register here or you can purchase at the door\, for an extra at the door fee. \nParking: Lenfest Center\nDogs on leash are welcome on the walk but are not allowed at the concert.
URL:https://gridphilly.com/event/nextgen-wellness-habitat-walk/
LOCATION:ChesLen Preserve\, 1199 Cannery Road\, Coatesville\, Pennsylvania\, 19320
CATEGORIES:General Events,NextGen
ATTACH;FMTTYPE=image/jpeg:https://gridphilly.com/wp-content/uploads/2024/07/image004-medium-pbeKR5.tmp_.jpg
END:VEVENT
BEGIN:VEVENT
DTSTART;TZID=America/New_York:20240301T100000
DTEND;TZID=America/New_York:20240301T113000
DTSTAMP:20260421T040139
CREATED:20240222T185605Z
LAST-MODIFIED:20240222T185605Z
UID:10011083-1709287200-1709292600@gridphilly.com
SUMMARY:First Friday Hike
DESCRIPTION:Join Force of Nature® volunteer David Deville for a guided hike at ChesLen Preserve. Together\, we’ll get to know other outdoor-loving friends during one of the best seasons at the preserve. Whether you’re a seasoned hiker or a beginner\, the trails offer a mix of challenges and rewards for all levels.  \nWe’ll make a few stops along the way to point out preserve highlights and the land management strategies we use to enhance wildlife habitat and facilitate public use.  
URL:https://gridphilly.com/event/first-friday-hike/
LOCATION:ChesLen Preserve\, 1199 Cannery Road\, Coatesville\, Pennsylvania\, 19320
CATEGORIES:General Events,Nature Walks
ATTACH;FMTTYPE=image/jpeg:https://gridphilly.com/wp-content/uploads/2024/02/ChesLen.Trail_.TylerCameron-medium-BCMEfv.tmp_.jpg
END:VEVENT
BEGIN:VEVENT
DTSTART;TZID=America/New_York:20240217T083000
DTEND;TZID=America/New_York:20240217T110000
DTSTAMP:20260421T040139
CREATED:20240125T174536Z
LAST-MODIFIED:20240125T174536Z
UID:10010666-1708158600-1708167600@gridphilly.com
SUMMARY:Explore – Bird Count on the Preserve
DESCRIPTION:Join people from all over the world and head outdoors to count birds. The annual Great Backyard Bird Count depends on everyone—from beginners to experts—to tally up the birds they spot\, then scientists use the data to track the health of bird populations. Join Mike Niven\, volunteer Team Leader for Natural Lands’ crew of volunteer bird surveyors\, for a morning walk around ChesLen. \nConnect and explore with Natural Lands. This is our ‘onsite’ program for the Great Backyard Bird Count; learn more about the Great Backyard Bird Count with our ‘online’ program. If you can’t make the online program\, don’t worry; we will send you the recording before this walk.
URL:https://gridphilly.com/event/explore-bird-count-on-the-preserve/
LOCATION:ChesLen Preserve\, 1199 Cannery Road\, Coatesville\, Pennsylvania\, 19320
CATEGORIES:Birding,General Events
ATTACH;FMTTYPE=image/jpeg:https://gridphilly.com/wp-content/uploads/2024/01/MEBUS-AmericanRobinGivingPond0309-2-hALjIg.tmp_.jpg
END:VEVENT
END:VCALENDAR