BEGIN:VCALENDAR
VERSION:2.0
PRODID:-//Grid Magazine - ECPv6.15.20//NONSGML v1.0//EN
CALSCALE:GREGORIAN
METHOD:PUBLISH
X-WR-CALNAME:Grid Magazine
X-ORIGINAL-URL:https://gridphilly.com
X-WR-CALDESC:Events for Grid Magazine
REFRESH-INTERVAL;VALUE=DURATION:PT1H
X-Robots-Tag:noindex
X-PUBLISHED-TTL:PT1H
BEGIN:VTIMEZONE
TZID:America/New_York
BEGIN:DAYLIGHT
TZOFFSETFROM:-0500
TZOFFSETTO:-0400
TZNAME:EDT
DTSTART:20230312T070000
END:DAYLIGHT
BEGIN:STANDARD
TZOFFSETFROM:-0400
TZOFFSETTO:-0500
TZNAME:EST
DTSTART:20231105T060000
END:STANDARD
BEGIN:DAYLIGHT
TZOFFSETFROM:-0500
TZOFFSETTO:-0400
TZNAME:EDT
DTSTART:20240310T070000
END:DAYLIGHT
BEGIN:STANDARD
TZOFFSETFROM:-0400
TZOFFSETTO:-0500
TZNAME:EST
DTSTART:20241103T060000
END:STANDARD
BEGIN:DAYLIGHT
TZOFFSETFROM:-0500
TZOFFSETTO:-0400
TZNAME:EDT
DTSTART:20250309T070000
END:DAYLIGHT
BEGIN:STANDARD
TZOFFSETFROM:-0400
TZOFFSETTO:-0500
TZNAME:EST
DTSTART:20251102T060000
END:STANDARD
BEGIN:DAYLIGHT
TZOFFSETFROM:-0500
TZOFFSETTO:-0400
TZNAME:EDT
DTSTART:20260308T070000
END:DAYLIGHT
BEGIN:STANDARD
TZOFFSETFROM:-0400
TZOFFSETTO:-0500
TZNAME:EST
DTSTART:20261101T060000
END:STANDARD
END:VTIMEZONE
BEGIN:VEVENT
DTSTART;TZID=America/New_York:20251203T193000
DTEND;TZID=America/New_York:20251203T210000
DTSTAMP:20260420T223416
CREATED:20251121T185533Z
LAST-MODIFIED:20251121T185533Z
UID:10024977-1764790200-1764795600@gridphilly.com
SUMMARY:JAZZ VOCALIST PAUL JOST IN CHELTENHAM
DESCRIPTION:Pianist Dave Posmontier hosts “Jazz at the Center” \nPlease join us on December 3\, 2025\, as we welcome vocalist Paul Jost at the \nCheltenham Center for the Arts \n439 Ashbourne Rd\, Cheltenham\, PA 19102 \nHosted by pianist Dave Posmontier \nDoors at 7pm. The concert starts at 7:30 pm and ends at 9:00 pm. \nTickets: $15 in advance\, $20 at the door. Students are FREE! \nAbout Paul Jost:\nWhen describing the unique vocalist and arranger Paul Jost\, two words come to mind “passionate storyteller”. Paul is a multi-instrumentalist\, composer and arranger but it is his work as a vocalist that makes him a standout. Both critics and contemporaries alike say he is one of the best male jazz vocalists since Mark Murphy.
URL:https://gridphilly.com/event/jazz-vocalist-paul-jost-in-cheltenham/
LOCATION:Cheltenham Center for the Arts\, 439 Ashbourne Road\, Cheltenham\, PA\, 19012\, United States
CATEGORIES:Arts & Performance
ATTACH;FMTTYPE=image/png:https://gridphilly.com/wp-content/uploads/2025/11/Screen-Shot-2025-11-19-at-1.26.39-PM.png
ORGANIZER;CN="Jazz Bridge":MAILTO:info@jazzbridge.org
END:VEVENT
BEGIN:VEVENT
DTSTART;TZID=America/New_York:20240922T120000
DTEND;TZID=America/New_York:20240922T130000
DTSTAMP:20260420T223416
CREATED:20240912T163846Z
LAST-MODIFIED:20240912T165054Z
UID:10014415-1727006400-1727010000@gridphilly.com
SUMMARY:Creative Conversations with Guest Artist Deborah Zuchman
DESCRIPTION:Creative Conversations is a series of wonderful opportunities to meet with artists wi\nwork in various mediums and talk about the joys\, struggles\, questions\, inspirations\, and technical issues artists deal with throughout their artistic journey. This series is not designed as a lecture. It is a conversation in which to share your work\, thoughts\, and aspirations and receive sensitive\, constructive feedback that will reveal your strengths and open new pathways to your practice. It is a relaxed and safe setting to come together to talk and share ideas. We hope our CC series will add another supportive layer to your creative process and look forward to seeing you at our monthly series.\nThis months’ guest is Deborah Zuchman\, a Philadelphia based painter. In the studio\, Deborah paints “inspirational’ landscapes from her imagination as well as making collages incorporating her own painted papers in a an array of beautiful colors resulting in an interesting and surprising effects made with brush and palette knife.\nThe subject matter and approach ranges from abstract to representational\nDeborah received a Bachelor’s Degree in Art Education from Temple University and a Master’s Degree in Painting from the Goddard Graduate Program of Norwich University. She was an Art Demonstration Teacher and taught in the Philadelphia Public Schools for thirty-five years. She also worked for nine years as a Project Manager for the Philadelphia Mural Arts Program.\nPre-Registration Required. www.cheltenhamarts.org
URL:https://gridphilly.com/event/from-puerto-rico-to-pennsylvania-history-challenges-and-amor-boricua/
LOCATION:Cheltenham Center for the Arts\, 439 Ashbourne Road\, Cheltenham\, PA\, 19012\, United States
ATTACH;FMTTYPE=image/jpeg:https://gridphilly.com/wp-content/uploads/2024/09/CreativeConversations.jpeg
END:VEVENT
END:VCALENDAR