BEGIN:VCALENDAR
VERSION:2.0
PRODID:-//Grid Magazine - ECPv6.15.20//NONSGML v1.0//EN
CALSCALE:GREGORIAN
METHOD:PUBLISH
X-WR-CALNAME:Grid Magazine
X-ORIGINAL-URL:https://gridphilly.com
X-WR-CALDESC:Events for Grid Magazine
REFRESH-INTERVAL;VALUE=DURATION:PT1H
X-Robots-Tag:noindex
X-PUBLISHED-TTL:PT1H
BEGIN:VTIMEZONE
TZID:America/New_York
BEGIN:DAYLIGHT
TZOFFSETFROM:-0500
TZOFFSETTO:-0400
TZNAME:EDT
DTSTART:20240310T070000
END:DAYLIGHT
BEGIN:STANDARD
TZOFFSETFROM:-0400
TZOFFSETTO:-0500
TZNAME:EST
DTSTART:20241103T060000
END:STANDARD
BEGIN:DAYLIGHT
TZOFFSETFROM:-0500
TZOFFSETTO:-0400
TZNAME:EDT
DTSTART:20250309T070000
END:DAYLIGHT
BEGIN:STANDARD
TZOFFSETFROM:-0400
TZOFFSETTO:-0500
TZNAME:EST
DTSTART:20251102T060000
END:STANDARD
BEGIN:DAYLIGHT
TZOFFSETFROM:-0500
TZOFFSETTO:-0400
TZNAME:EDT
DTSTART:20260308T070000
END:DAYLIGHT
BEGIN:STANDARD
TZOFFSETFROM:-0400
TZOFFSETTO:-0500
TZNAME:EST
DTSTART:20261101T060000
END:STANDARD
END:VTIMEZONE
BEGIN:VEVENT
DTSTART;TZID=America/New_York:20250813T183000
DTEND;TZID=America/New_York:20250813T200000
DTSTAMP:20260421T050605
CREATED:20250807T171506Z
LAST-MODIFIED:20250807T171506Z
UID:10020382-1755109800-1755115200@gridphilly.com
SUMMARY:From Scraps to Super Soil: Ultimate Composting Workshop 8/13/25 Cherry Hill
DESCRIPTION:Join us for a fun and informative event where you’ll learn how to fight food waste and create a thriving garden\, all from your kitchen scrap\n\n\nJoin us for a fun and informative event where you’ll learn how to fight food waste and create a thriving garden\, all from your own kitchen scraps \nWhat to expect: \n· Interactive presentation: Our presenter will break down the science of composting in a way that’s engaging and easy to understand. \n· Unlock the benefits: Discover how composting reduces landfill waste\, improves soil health\, and helps you grow vibrant plants! \n· Hands-on demo: Get your hands dirty (in a good way!) as we demonstrate the composting process step-by-step. \n· Q&A session: No question is too big or too small! Our presenter will answer all your composting concerns. \n· Free Composting Bin! Every attendee will receive a composting bin to take home and start their composting journey. \nWho should attend: \n· Residents who want to reduce their environmental impact. \n· Gardeners who crave healthy\, nutrient-rich soil. \n· Anyone curious about composting and its amazing benefits. \nWednesday August 13th\, 2025\, 6:30 PM to 8:00 PM\, The Camden County Parks Building \, 1301 Park Blvd. Cherry Hill
URL:https://gridphilly.com/event/from-scraps-to-super-soil-ultimate-composting-workshop-8-13-25-cherry-hill/
LOCATION:Camden County Parks Department\, 1301 Park Boulevard\, Cherry Hill Township\, NJ\, 08002\, United States
ATTACH;FMTTYPE=image/jpeg:https://gridphilly.com/wp-content/uploads/2025/07/6f9e5c601b367207c50954736aaaa2a6.jpg
END:VEVENT
END:VCALENDAR