BEGIN:VCALENDAR
VERSION:2.0
PRODID:-//Grid Magazine - ECPv6.15.20//NONSGML v1.0//EN
CALSCALE:GREGORIAN
METHOD:PUBLISH
X-WR-CALNAME:Grid Magazine
X-ORIGINAL-URL:https://gridphilly.com
X-WR-CALDESC:Events for Grid Magazine
REFRESH-INTERVAL;VALUE=DURATION:PT1H
X-Robots-Tag:noindex
X-PUBLISHED-TTL:PT1H
BEGIN:VTIMEZONE
TZID:America/New_York
BEGIN:DAYLIGHT
TZOFFSETFROM:-0500
TZOFFSETTO:-0400
TZNAME:EDT
DTSTART:20220313T070000
END:DAYLIGHT
BEGIN:STANDARD
TZOFFSETFROM:-0400
TZOFFSETTO:-0500
TZNAME:EST
DTSTART:20221106T060000
END:STANDARD
BEGIN:DAYLIGHT
TZOFFSETFROM:-0500
TZOFFSETTO:-0400
TZNAME:EDT
DTSTART:20230312T070000
END:DAYLIGHT
BEGIN:STANDARD
TZOFFSETFROM:-0400
TZOFFSETTO:-0500
TZNAME:EST
DTSTART:20231105T060000
END:STANDARD
BEGIN:DAYLIGHT
TZOFFSETFROM:-0500
TZOFFSETTO:-0400
TZNAME:EDT
DTSTART:20240310T070000
END:DAYLIGHT
BEGIN:STANDARD
TZOFFSETFROM:-0400
TZOFFSETTO:-0500
TZNAME:EST
DTSTART:20241103T060000
END:STANDARD
BEGIN:DAYLIGHT
TZOFFSETFROM:-0500
TZOFFSETTO:-0400
TZNAME:EDT
DTSTART:20250309T070000
END:DAYLIGHT
BEGIN:STANDARD
TZOFFSETFROM:-0400
TZOFFSETTO:-0500
TZNAME:EST
DTSTART:20251102T060000
END:STANDARD
END:VTIMEZONE
BEGIN:VEVENT
DTSTART;TZID=America/New_York:20240709T100000
DTEND;TZID=America/New_York:20240709T111500
DTSTAMP:20260422T135126
CREATED:20240617T153945Z
LAST-MODIFIED:20240617T153945Z
UID:10013348-1720519200-1720523700@gridphilly.com
SUMMARY:Children’s Summer Gardening Series Present by Camden County Cert Gardeners
DESCRIPTION:Children’s Summer Gardening Series Presented by Camden County Certified Gardener- 3 events that build on each other in a series\, attend all.\n\n\nChildren’s Summer Gardening Series \nPresented by \nCamden County Certified Gardeners \nDo you have a curious child age 5-8? Are they excited about nature and have a thirst to learn more?  Kids and adults are invited to join the fun in this series of three engaging\, nature-inspired sessions. Your registration enrolls you in all three. The central theme is continued throughout each session. \n \n\nTuesday July 9: Winged Wonders: All about butterflies\nTuesday July 16: One Bean\, Two Bean: Learn about seed and soil\nTuesday July 23: Grow It\, Eat It: Why not try it?\n\n \nPlease note: \n• First come\, first served – class size is limited.• Offered to children ages 5 -8. An adult must accompany and stay with each child for the duration of all events.• Each ticket is for 1 child\, so purchase accordingly if you have multiple children.• $15 gives you entry to all 3 workshops/dates.• Rain or shine.• No refunds\, your registration is considered a donation if you can’t make one of the sessions\, and it is designed for child to attend all 3.
URL:https://gridphilly.com/event/childrens-summer-gardening-series-present-by-camden-county-cert-gardeners/
LOCATION:Camden County Office of Sustainability\, 508 Lakeland Road\, Gloucester Township\, NJ\, 08012\, United States
END:VEVENT
BEGIN:VEVENT
DTSTART;TZID=America/New_York:20231001T090000
DTEND;TZID=America/New_York:20231001T150000
DTSTAMP:20260422T135126
CREATED:20230926T170541Z
LAST-MODIFIED:20230927T002634Z
UID:10007112-1696150800-1696172400@gridphilly.com
SUMMARY:Camden County Seed Saving Summit
DESCRIPTION:The Camden County Certified Gardeners and Camden County Seed Library invite you for a day to learn about seeds.\n\n\nCamden County Seed Saving Summit \nJoin us for a fun and informative day at the Camden County Seed Saving Summit! This is a hybrid event\, with the in-person experience to be held at the Camden County Office of Sustainability. Whether you’re a seasoned gardener or just starting out\, this summit is perfect for anyone interested in learning about seed saving and sustainable gardening practices. When you register for the event\, you can designate how you will attend. \nFrom novice to expert\, all levels of seed saving interest are encouraged to attend. \nThe summit starts the day with an introduction to the ASE\, the African Seed Exchange Project at Middleton Place. The ASE informs more positive public history conversations about food customs and folkways as common threads for social interaction. An extension of the ASE is here in South Jersey\, Coastal Cousins in Atlantic County\, New Jersey. Greg Freelon\, the founder and executive director\, will be joining the discussion. \nCommunity seed saving and the work they do securing local culturally appropriate seeds will follow. And the morning session will conclude with how to save seeds\, including a discussion of a new product called Drying Beads. \nThe afternoon session kicks off with pollinator-friendly plants for your landscape\, including native plants. The day concludes with an introduction to plant breeding\, and how you can start to create new varieties and seeds from breeding plants in your own growing area. \nIf you attend in person\, lunch is brown bag or you can visit one of the local eateries. \nDon’t miss out on this unique event that celebrates the importance of preserving our plant heritage and promoting biodiversity. Mark your calendars and join us at the Camden County Seed Saving Summit!
URL:https://gridphilly.com/event/camden-county-seed-saving-summit/
LOCATION:Camden County Office of Sustainability\, 508 Lakeland Road\, Gloucester Township\, NJ\, 08012\, United States
ATTACH;FMTTYPE=image/jpeg:https://gridphilly.com/wp-content/uploads/2023/09/ae4d1e1d0b365f6e12f6faa57d2580c8.jpg
END:VEVENT
END:VCALENDAR