BEGIN:VCALENDAR
VERSION:2.0
PRODID:-//Grid Magazine - ECPv6.15.20//NONSGML v1.0//EN
CALSCALE:GREGORIAN
METHOD:PUBLISH
X-WR-CALNAME:Grid Magazine
X-ORIGINAL-URL:https://gridphilly.com
X-WR-CALDESC:Events for Grid Magazine
REFRESH-INTERVAL;VALUE=DURATION:PT1H
X-Robots-Tag:noindex
X-PUBLISHED-TTL:PT1H
BEGIN:VTIMEZONE
TZID:America/New_York
BEGIN:DAYLIGHT
TZOFFSETFROM:-0500
TZOFFSETTO:-0400
TZNAME:EDT
DTSTART:20240310T070000
END:DAYLIGHT
BEGIN:STANDARD
TZOFFSETFROM:-0400
TZOFFSETTO:-0500
TZNAME:EST
DTSTART:20241103T060000
END:STANDARD
BEGIN:DAYLIGHT
TZOFFSETFROM:-0500
TZOFFSETTO:-0400
TZNAME:EDT
DTSTART:20250309T070000
END:DAYLIGHT
BEGIN:STANDARD
TZOFFSETFROM:-0400
TZOFFSETTO:-0500
TZNAME:EST
DTSTART:20251102T060000
END:STANDARD
BEGIN:DAYLIGHT
TZOFFSETFROM:-0500
TZOFFSETTO:-0400
TZNAME:EDT
DTSTART:20260308T070000
END:DAYLIGHT
BEGIN:STANDARD
TZOFFSETFROM:-0400
TZOFFSETTO:-0500
TZNAME:EST
DTSTART:20261101T060000
END:STANDARD
END:VTIMEZONE
BEGIN:VEVENT
DTSTART;TZID=America/New_York:20251108T100000
DTEND;TZID=America/New_York:20251108T120000
DTSTAMP:20260421T183221
CREATED:20251105T193617Z
LAST-MODIFIED:20251105T194359Z
UID:10024263-1762596000-1762603200@gridphilly.com
SUMMARY:VU @ Love Your Park Day - Glendinning Rock Garden
DESCRIPTION:Join us Nov. 8th! Working with Love Your Park to do some cleaning around the Glendinning Rock Garden\n\n\nJoin the Volunteering Untapped Team on Saturday\,Nov 8th\, for our event! \nOur partner this month is Love Your Park. They are a collaboration between Fairmount Park Conservancy\, Philadelphia Parks & Recreation\, and Philadelphia’s Park Friends Network. They work together to support communities in activating Philly’s neighborhood parks and watershed natural areas\, with a special focus on inviting Philadelphians to get involved by volunteering. Their mission is to change the culture of littering\, building connections\, and restoring trust and beauty to our city\, one block at a time. \nWhat will we be doing on Saturday\, Nov. 8th? \n\nTrash pickup along stairs\, trails\, and rock features\nLeaf bagging from the stone steps\nClipping any overgrowth from trails\n\n \nNotes ahead of the event! \n\nWear clothes that are comfortable and suitable for the weather\, since this event takes place outside and inside\nPlease wear closed toed shoes\nA waiver will be sent out with the reminder email for you to sign once you have placed a reservation on Eventbrite!\n\n \nParking & Transportation \nParking will generally be street parking. There is also a small lot outside the Lemon Hill Mansion. Right now\, streets in and around the park are being repaved\, which could impact availability. Additionally\, Lemon Hill is easy to access from the Schuylkill Trail\, the Girard Ave trolley\, and routes 48\, 49\, and 32 for anyone not driving. \n \nAfterjawn \nJoin us after the event at a local bar to wind down and hang out! \nA note about cancellations: If your schedule changes and you can no longer make it\, please email volunteeringuntappedphl@gmail.com ASAP to let us know. This way your spot can be given to someone else on the waitlist. THANK YOU!
URL:https://gridphilly.com/event/vu-love-your-park-day-glendinning-rock-garden/
LOCATION:Brewery Hill Drive\, Brewery Hill Drive\, Philadelphia\, PA\, United States
ATTACH;FMTTYPE=image/jpeg:https://gridphilly.com/wp-content/uploads/2025/11/e1cd1b670562adbfeb40f362e03bf646.jpg
END:VEVENT
END:VCALENDAR