BEGIN:VCALENDAR
VERSION:2.0
PRODID:-//Grid Magazine - ECPv6.15.20//NONSGML v1.0//EN
CALSCALE:GREGORIAN
METHOD:PUBLISH
X-WR-CALNAME:Grid Magazine
X-ORIGINAL-URL:https://gridphilly.com
X-WR-CALDESC:Events for Grid Magazine
REFRESH-INTERVAL;VALUE=DURATION:PT1H
X-Robots-Tag:noindex
X-PUBLISHED-TTL:PT1H
BEGIN:VTIMEZONE
TZID:America/New_York
BEGIN:DAYLIGHT
TZOFFSETFROM:-0500
TZOFFSETTO:-0400
TZNAME:EDT
DTSTART:20230312T070000
END:DAYLIGHT
BEGIN:STANDARD
TZOFFSETFROM:-0400
TZOFFSETTO:-0500
TZNAME:EST
DTSTART:20231105T060000
END:STANDARD
BEGIN:DAYLIGHT
TZOFFSETFROM:-0500
TZOFFSETTO:-0400
TZNAME:EDT
DTSTART:20240310T070000
END:DAYLIGHT
BEGIN:STANDARD
TZOFFSETFROM:-0400
TZOFFSETTO:-0500
TZNAME:EST
DTSTART:20241103T060000
END:STANDARD
BEGIN:DAYLIGHT
TZOFFSETFROM:-0500
TZOFFSETTO:-0400
TZNAME:EDT
DTSTART:20250309T070000
END:DAYLIGHT
BEGIN:STANDARD
TZOFFSETFROM:-0400
TZOFFSETTO:-0500
TZNAME:EST
DTSTART:20251102T060000
END:STANDARD
BEGIN:DAYLIGHT
TZOFFSETFROM:-0500
TZOFFSETTO:-0400
TZNAME:EDT
DTSTART:20260308T070000
END:DAYLIGHT
BEGIN:STANDARD
TZOFFSETFROM:-0400
TZOFFSETTO:-0500
TZNAME:EST
DTSTART:20261101T060000
END:STANDARD
END:VTIMEZONE
BEGIN:VEVENT
DTSTART;TZID=America/New_York:20251102T120000
DTEND;TZID=America/New_York:20251102T170000
DTSTAMP:20260421T051849
CREATED:20251027T135114Z
LAST-MODIFIED:20251027T205532Z
UID:10023728-1762084800-1762102800@gridphilly.com
SUMMARY:Philly Flannel Fest 2025
DESCRIPTION:Get ready for a day of  fall themed  fun with food and cocktails\, live music\, and activities for the whole family at the Philly Flannel Fest\n\n\nGrab your coziest flannel and FALL into the fun at The Philly Flannel Fest! 🍂\nJoin us for a day filled with fall delights that’ll leave you feeling cozy and warm inside.\n \nAll guests are encouraged to wear a flannel shirt\, jacket\, or coat as we work to break last years record of the largest gathering of people wearing flannels at one event.\nWhat to expect: \n🍻Sip on the best brews\, savor tasty wines\, and discover the warmth of well-crafted spirits. Must be 21 years old to drink. ID will be checked upon arrival. Please Drink responsibly. \n🍎Feast on your favorite fare from local food trucks\, with flavors that celebrate fall in every bite. \n🛍️Shop with local small businesses for gifts and goods inside the Live More Marketplace at Philly Flannel Fest. \n \nThis event is rain or shine and is happenng indoor and outdoors at the beautiful Braid Mill located in Germantown. \nBraid Mill is fabric factory that has been wonderfully converted into an eventspace\, art studio\, and workspace. \n \nVending Opportinity: Please fill out one of the forms below:\nFood/Beverage Vendors please complete this application : Food Vendor Application \n______________________________________________________________________________________________________ \nMicro business vendors please complete this application: Micro & Small Business Vendor Application \n______________________________________________________________________________________________________ \nIf your company has more than 2 employees and is interested in vending\, please fill out the corporate exhibitor form. \n\n\nFollow us on Instagram  to stay updated: @PhillyFlannelFest\n\nPhotos from Philly Flannel Fest 2023 & 2024 ⬇️
URL:https://gridphilly.com/event/philly-flannel-fest-2025/
LOCATION:Braid Mill\, 346 East Walnut Lane\, Philadelphia\, PA\, 19144\, United States
ATTACH;FMTTYPE=image/jpeg:https://gridphilly.com/wp-content/uploads/2023/11/d9f536ca8488278645e3dd5cc6355aa6.jpg
END:VEVENT
BEGIN:VEVENT
DTSTART;TZID=America/New_York:20241103T120000
DTEND;TZID=America/New_York:20241103T170000
DTSTAMP:20260421T051849
CREATED:20241028T135412Z
LAST-MODIFIED:20241028T135412Z
UID:10015370-1730635200-1730653200@gridphilly.com
SUMMARY:Philly Flannel Fest 2024
DESCRIPTION:Get ready for a day of  fall themed  fun with food and cocktails\, live music\, and activities for the whole family at the Philly Flannel Fest\n\n\nGrab your coziest flannel and FALL into the fun at The Philly Flannel Fest! 🍂\nJoin us for a day filled with fall delights that’ll leave you feeling cozy and warm inside.\n \nAll guests are encouraged to wear a flannel shirt\, jacket\, or coat as we work to break last years record of the largest gathering of people wearing flannels at one event.\nWhat to expect: \n🍻Sip on the best brews\, savor tasty wines\, and discover the warmth of well-crafted spirits. Must be 21 years old to drink. ID will be checked upon arrival. Please Drink responsibly. \n🍎Feast on your favorite fare from local food trucks\, with flavors that celebrate fall in every bite. \n🛍️Shop with local small businesses for gifts and goods inside the Live More Marketplace at Philly Flannel Fest.  \n \nThis event is rain or shine and is happenng indoor and outdoors at the beautiful Braid Mill located in Germantown.  \nBraid Mill is fabric factory that has been wonderfully converted into an eventspace\, art studio\, and workspace.  \n \nVending Opportinity:\nIf your small business is interested in being a vendor\, please fill out this form. \nIf your company has more than 3 employees and is interested in vending\, please fill out the corporate exhibitor form. \n\n\nFollow us on Instagram ⬅️ and stay updated!\n\nPhotos from Philly Flannel Fest 2023 ⬇️
URL:https://gridphilly.com/event/philly-flannel-fest-2024/
LOCATION:Braid Mill\, 346 East Walnut Lane\, Philadelphia\, PA\, 19144\, United States
ATTACH;FMTTYPE=image/jpeg:https://gridphilly.com/wp-content/uploads/2023/11/d9f536ca8488278645e3dd5cc6355aa6.jpg
END:VEVENT
END:VCALENDAR