BEGIN:VCALENDAR
VERSION:2.0
PRODID:-//Grid Magazine - ECPv6.15.20//NONSGML v1.0//EN
CALSCALE:GREGORIAN
METHOD:PUBLISH
X-WR-CALNAME:Grid Magazine
X-ORIGINAL-URL:https://gridphilly.com
X-WR-CALDESC:Events for Grid Magazine
REFRESH-INTERVAL;VALUE=DURATION:PT1H
X-Robots-Tag:noindex
X-PUBLISHED-TTL:PT1H
BEGIN:VTIMEZONE
TZID:America/New_York
BEGIN:DAYLIGHT
TZOFFSETFROM:-0500
TZOFFSETTO:-0400
TZNAME:EDT
DTSTART:20240310T070000
END:DAYLIGHT
BEGIN:STANDARD
TZOFFSETFROM:-0400
TZOFFSETTO:-0500
TZNAME:EST
DTSTART:20241103T060000
END:STANDARD
BEGIN:DAYLIGHT
TZOFFSETFROM:-0500
TZOFFSETTO:-0400
TZNAME:EDT
DTSTART:20250309T070000
END:DAYLIGHT
BEGIN:STANDARD
TZOFFSETFROM:-0400
TZOFFSETTO:-0500
TZNAME:EST
DTSTART:20251102T060000
END:STANDARD
BEGIN:DAYLIGHT
TZOFFSETFROM:-0500
TZOFFSETTO:-0400
TZNAME:EDT
DTSTART:20260308T070000
END:DAYLIGHT
BEGIN:STANDARD
TZOFFSETFROM:-0400
TZOFFSETTO:-0500
TZNAME:EST
DTSTART:20261101T060000
END:STANDARD
END:VTIMEZONE
BEGIN:VEVENT
DTSTART;TZID=America/New_York:20250222T120000
DTEND;TZID=America/New_York:20250222T160000
DTSTAMP:20260422T145233
CREATED:20250204T195525Z
LAST-MODIFIED:20250204T195525Z
UID:10016972-1740225600-1740240000@gridphilly.com
SUMMARY:Black History Culture Fair - Celebrating Black Authors
DESCRIPTION:Join us at the BGCC\, where we have a lineup of authors\, vendors\, and delicious food. Admission is free\, and all are welcome!\n\n\nThis event is FREE to attend  \n \nBlack History Culture Fair – Celebrating Black Authors\nThis event is a part of BGCC’s 95th Anniversary Celebration \nJoin us at the Boys & Girls Club of Chester\, where we have a lineup of authors\, vendors\, and delicious food. Admission is free\, and all are welcome to join. \nRSVP online today!  \n \nAccepting vendors and authors on a first come\, first served basis. \nAll slots for food vendors have been filled \nVendor & Author Fee: $25 \nLink to register to vend: www.boysgirlsclubchester.com/vendorregistrationform
URL:https://gridphilly.com/event/black-history-culture-fair-celebrating-black-authors/
LOCATION:Boys & Girls Club of Chester PA\, 201 East 7th Street\, Chester\, PA\, 19013\, United States
ATTACH;FMTTYPE=image/jpeg:https://gridphilly.com/wp-content/uploads/2025/02/627047da9035bb2fe7e0d381218c6d38.jpg
END:VEVENT
END:VCALENDAR