BEGIN:VCALENDAR
VERSION:2.0
PRODID:-//Grid Magazine - ECPv6.15.20//NONSGML v1.0//EN
CALSCALE:GREGORIAN
METHOD:PUBLISH
X-ORIGINAL-URL:https://gridphilly.com
X-WR-CALDESC:Events for Grid Magazine
REFRESH-INTERVAL;VALUE=DURATION:PT1H
X-Robots-Tag:noindex
X-PUBLISHED-TTL:PT1H
BEGIN:VTIMEZONE
TZID:America/New_York
BEGIN:DAYLIGHT
TZOFFSETFROM:-0500
TZOFFSETTO:-0400
TZNAME:EDT
DTSTART:20220313T070000
END:DAYLIGHT
BEGIN:STANDARD
TZOFFSETFROM:-0400
TZOFFSETTO:-0500
TZNAME:EST
DTSTART:20221106T060000
END:STANDARD
BEGIN:DAYLIGHT
TZOFFSETFROM:-0500
TZOFFSETTO:-0400
TZNAME:EDT
DTSTART:20230312T070000
END:DAYLIGHT
BEGIN:STANDARD
TZOFFSETFROM:-0400
TZOFFSETTO:-0500
TZNAME:EST
DTSTART:20231105T060000
END:STANDARD
BEGIN:DAYLIGHT
TZOFFSETFROM:-0500
TZOFFSETTO:-0400
TZNAME:EDT
DTSTART:20240310T070000
END:DAYLIGHT
BEGIN:STANDARD
TZOFFSETFROM:-0400
TZOFFSETTO:-0500
TZNAME:EST
DTSTART:20241103T060000
END:STANDARD
BEGIN:DAYLIGHT
TZOFFSETFROM:-0500
TZOFFSETTO:-0400
TZNAME:EDT
DTSTART:20250309T070000
END:DAYLIGHT
BEGIN:STANDARD
TZOFFSETFROM:-0400
TZOFFSETTO:-0500
TZNAME:EST
DTSTART:20251102T060000
END:STANDARD
END:VTIMEZONE
BEGIN:VEVENT
DTSTART;TZID=America/New_York:20240817T090000
DTEND;TZID=America/New_York:20240817T120000
DTSTAMP:20260424T114619
CREATED:20240803T170843Z
LAST-MODIFIED:20240803T170843Z
UID:10013829-1723885200-1723896000@gridphilly.com
SUMMARY:Tree Planting along Mill Creek - Riparian Buffer and Reforestation - 2024
DESCRIPTION:Along Mill Creek in Bristol Township\, PA we are installing a riparian buffer to help lessen storm water. Planting native trees and shrubs.\n\n\nAlong Black Ditch\, a tributary of Mill Creek in Levittown\, Bristol Township PA we are installing a riparian buffer to help lessen storm water. We will be removing invasive shrubs then planting native trees and native berrying shrubs to spread the good native plants by feeding birds. \nMore about this project \n \nDates of volunteer events:\nTree source: Keystone 10 Million Trees\n3 acres \, \n\n200 trees\, 50 shrubs (were planted in the spring 2023)\n75 trees\, 25 shrubs (were planted in falll 2023)\n\nWith the help of Penn State Master Watershed Stewards\, we treated an acre of knotweed with herbicide to enable native reforestation in the coming years. \n\n(Fall 2024 Site Prep and Tree Planting)\nTree source: Keystone 10 Million Trees\n \n\n3-16-24 Saturday (9 am – 12 )\n4-6-24 Saturday (9 am – 12 )\n5-18-24 Saturday (9 am – 12 )\n6-15-24 Saturday (9 am – 12 )\n7-20-24 Saturday (9 am – 12 )\n8-17-24 Saturday (9 am – 12 )\n9-21-24 Saturday (9 am – 12 )\n10-19-24 Saturday (9 am – 12 )\n\n\n\n\nGoogle Map location of the tree planting: \nhttps://www.google.com/maps/d/viewer?mid=1MarK4pkIm5Rs8f6MuZbpXhI8a4R1ZJg&ll=40.12606035213172%2C-74.86625270000002&z=19
URL:https://gridphilly.com/event/tree-planting-along-mill-creek-riparian-buffer-and-reforestation-2024-4/
LOCATION:Black Ditch Creek / Mill Creek (Levittown\, PA)\, Bristol Oxford Valley Rd and Mill Creek\, Service Road access - (Across the street from Clover) after Black Ditch bridge on right\, Levittown\, PA\, 19057\, United States
ATTACH;FMTTYPE=image/jpeg:https://gridphilly.com/wp-content/uploads/2024/03/b96a65a28d2285490ad73ee800baa6ce.jpg
END:VEVENT
BEGIN:VEVENT
DTSTART;TZID=America/New_York:20240720T090000
DTEND;TZID=America/New_York:20240720T120000
DTSTAMP:20260424T114619
CREATED:20240716T172829Z
LAST-MODIFIED:20240716T192526Z
UID:10013629-1721466000-1721476800@gridphilly.com
SUMMARY:Tree Planting along Mill Creek - Riparian Buffer and Reforestation - 2024
DESCRIPTION:Along Mill Creek in Bristol Township\, PA we are installing a riparian buffer to help lessen storm water. Planting native trees and shrubs.\n\n\nAlong Black Ditch\, a tributary of Mill Creek in Levittown\, Bristol Township PA we are installing a riparian buffer to help lessen storm water. We will be removing invasive shrubs then planting native trees and native berrying shrubs to spread the good native plants by feeding birds. \nMore about this project \n \nDates of volunteer events:\nTree source: Keystone 10 Million Trees\n3 acres \, \n\n200 trees\, 50 shrubs (were planted in the spring 2023)\n75 trees\, 25 shrubs (were planted in falll 2023)\n\nWith the help of Penn State Master Watershed Stewards\, we treated an acre of knotweed with herbicide to enable native reforestation in the coming years. \n\n(Fall 2024 Site Prep and Tree Planting)\nTree source: Keystone 10 Million Trees\n \n\n3-16-24 Saturday (9 am – 12 )\n4-6-24 Saturday (9 am – 12 )\n5-18-24 Saturday (9 am – 12 )\n6-15-24 Saturday (9 am – 12 )\n7-20-24 Saturday (9 am – 12 )\n8-17-24 Saturday (9 am – 12 )\n9-21-24 Saturday (9 am – 12 )\n10-19-24 Saturday (9 am – 12 )\n\n\n\n\nGoogle Map location of the tree planting: \nhttps://www.google.com/maps/d/viewer?mid=1MarK4pkIm5Rs8f6MuZbpXhI8a4R1ZJg&ll=40.12606035213172%2C-74.86625270000002&z=19
URL:https://gridphilly.com/event/tree-planting-along-mill-creek-riparian-buffer-and-reforestation-2024-3/
LOCATION:Black Ditch Creek / Mill Creek (Levittown\, PA)\, Bristol Oxford Valley Rd and Mill Creek\, Service Road access - (Across the street from Clover) after Black Ditch bridge on right\, Levittown\, PA\, 19057\, United States
ATTACH;FMTTYPE=image/jpeg:https://gridphilly.com/wp-content/uploads/2024/03/b96a65a28d2285490ad73ee800baa6ce.jpg
END:VEVENT
BEGIN:VEVENT
DTSTART;TZID=America/New_York:20240406T090000
DTEND;TZID=America/New_York:20240406T120000
DTSTAMP:20260424T114619
CREATED:20240401T134438Z
LAST-MODIFIED:20240401T134438Z
UID:10012234-1712394000-1712404800@gridphilly.com
SUMMARY:Tree Planting along Mill Creek - Riparian Buffer and Reforestation - 2024
DESCRIPTION:Along Mill Creek in Bristol Township\, PA we are installing a riparian buffer to help lessen storm water. Planting native trees and shrubs.\n\n\nAlong Black Ditch\, a tributary of Mill Creek in Levittown\, Bristol Township PA we are installing a riparian buffer to help lessen storm water. We will be removing invasive shrubs then planting native trees and native berrying shrubs to spread the good native plants by feeding birds. \nMore about this project \n \nDates of volunteer events:\nTree source: Keystone 10 Million Trees\n3 acres \, \n\n200 trees\, 50 shrubs (were planted in the spring 2023)\n75 trees\, 25 shrubs (were planted in falll 2023)\n\nWith the help of Penn State Master Watershed Stewards\, we treated an acre of knotweed with herbicide to enable native reforestation in the coming years. \n\n(Fall 2024 Site Prep and Tree Planting)\nTree source: Keystone 10 Million Trees\n \n\n3-16-24 Saturday (9 am – 12 )\n4-6-24 Saturday (9 am – 12 )\n5-18-24 Saturday (9 am – 12 )\n6-15-24 Saturday (9 am – 12 )\n7-20-24 Saturday (9 am – 12 )\n8-17-24 Saturday (9 am – 12 )\n9-21-24 Saturday (9 am – 12 )\n10-19-24 Saturday (9 am – 12 )\n\n\n\n\nGoogle Map location of the tree planting: \nhttps://www.google.com/maps/d/viewer?mid=1MarK4pkIm5Rs8f6MuZbpXhI8a4R1ZJg&ll=40.12606035213172%2C-74.86625270000002&z=19
URL:https://gridphilly.com/event/tree-planting-along-mill-creek-riparian-buffer-and-reforestation-2024-2/
LOCATION:Black Ditch Creek / Mill Creek (Levittown\, PA)\, Bristol Oxford Valley Rd and Mill Creek\, Service Road access - (Across the street from Clover) after Black Ditch bridge on right\, Levittown\, PA\, 19057\, United States
ATTACH;FMTTYPE=image/jpeg:https://gridphilly.com/wp-content/uploads/2024/03/b96a65a28d2285490ad73ee800baa6ce.jpg
END:VEVENT
BEGIN:VEVENT
DTSTART;TZID=America/New_York:20240316T090000
DTEND;TZID=America/New_York:20240316T120000
DTSTAMP:20260424T114619
CREATED:20240307T204637Z
LAST-MODIFIED:20240307T204637Z
UID:10011821-1710579600-1710590400@gridphilly.com
SUMMARY:Tree Planting along Mill Creek - Riparian Buffer and Reforestation - 2024
DESCRIPTION:Along Mill Creek in Bristol Township\, PA we are installing a riparian buffer to help lessen storm water. Planting native trees and shrubs.\n\n\nAlong Black Ditch\, a tributary of Mill Creek in Levittown\, Bristol Township PA we are installing a riparian buffer to help lessen storm water. We will be removing invasive shrubs then planting native trees and native berrying shrubs to spread the good native plants by feeding birds. \nMore about this project \n \nDates of volunteer events:\nTree source: Keystone 10 Million Trees\n3 acres \, \n\n200 trees\, 50 shrubs (were planted in the spring 2023)\n75 trees\, 25 shrubs (were planted in falll 2023)\n\nWith the help of Penn State Master Watershed Stewards\, we treated an acre of knotweed with herbicide to enable native reforestation in the coming years. \n\n(Fall 2024 Site Prep and Tree Planting)\nTree source: Keystone 10 Million Trees\n \n\n3-16-24 Saturday (9 am – 12 )\n4-6-24 Saturday (9 am – 12 )\n4-20-24 Saturday (9 am – 12 ) (1pm – 4pm)\n4-21-24 Sunday (9 am – 12 ) (1pm – 4pm)\n5-18-24 Saturday (9 am – 12 )\n6-15-24 Saturday (9 am – 12 )\n7-20-24 Saturday (9 am – 12 )\n8-17-24 Saturday (9 am – 12 )\n9-21-24 Saturday (9 am – 12 )\n10-19-24 Saturday (9 am – 12 )\n\n\n\n\nGoogle Map location of the tree planting: \nhttps://www.google.com/maps/d/viewer?mid=1MarK4pkIm5Rs8f6MuZbpXhI8a4R1ZJg&ll=40.12606035213172%2C-74.86625270000002&z=19
URL:https://gridphilly.com/event/tree-planting-along-mill-creek-riparian-buffer-and-reforestation-2024/
LOCATION:Black Ditch Creek / Mill Creek (Levittown\, PA)\, Bristol Oxford Valley Rd and Mill Creek\, Service Road access - (Across the street from Clover) after Black Ditch bridge on right\, Levittown\, PA\, 19057\, United States
ATTACH;FMTTYPE=image/jpeg:https://gridphilly.com/wp-content/uploads/2024/03/b96a65a28d2285490ad73ee800baa6ce.jpg
END:VEVENT
BEGIN:VEVENT
DTSTART;TZID=America/New_York:20231006T090000
DTEND;TZID=America/New_York:20231006T120000
DTSTAMP:20260424T114619
CREATED:20230922T171123Z
LAST-MODIFIED:20230922T171123Z
UID:10007072-1696582800-1696593600@gridphilly.com
SUMMARY:Tree Planting along Mill Creek - Riparian Buffer and Reforestation - 2023
DESCRIPTION:Along Mill Creek in Bristol Township\, PA we are installing a riparian buffer to help lessen storm water. Planting native trees and shrubs.\n\n\nAlong Black Ditch\, a tributary of Mill Creek in Levittown\, Bristol Township PA we are installing a riparian buffer to help lessen storm water. We will be removing invasive shrubs then planting native trees and native berrying shrubs to spread the good native plants by feeding birds. \nPhoto Gallery History of this Mill Creek Project  \nDates of volunteer events:\n(Spring 2023 Site Prep and Tree Planting) \n3﻿ acres \, 200 trees\, 50 shrubs \nTree source: Keystone 10 Million Trees\n\n2-25-2023 Saturday (9 am – 12 ) and (1 pm – 4 pm)\n3-3-2023 Friday (9 am – 12 ) and (1 pm – 4 pm)\n3-4-2023 Saturday (9 am – 12 ) and (1 pm – 4 pm)\n4-14-2023 Friday (9 am – 12 ) and (1 pm – 4 pm)\n4-15-23 Saturday (9 am – 12 ) and (1 pm – 4 pm)\n4-16-23 Sunday (9 am – 12 ) and (1 pm – 4 pm)\n4-21-23 Friday (9 am – 12 ) and (1 pm – 4 pm)\n4-22-23 Saturday (9 am – 12 ) and (1 pm – 4 pm)\n4-23-23 Sunday (9 am – 12 ) and (1 pm – 4 pm)\n\n(Tree Tending and Invasive Knotweed Removal) \n\n5-5-23 Friday (9 am – 12 ) and (1 pm – 4 pm)\n6-9-23 Friday (9 am – 12 ) and (1 pm – 4 pm)\n7-9-23 Sunday (9 am – 12 ) and (1 pm – 4 pm)\n7-14-23 Friday (9 am – 12 ) and (1 pm – 4 pm)\n7-16-23 Sunday (9 am – 12 ) and (1 pm – 4 pm)\n7-23-23 Sunday (9 am – 12 ) and (1 pm – 4 pm)\n8-11-23 Friday (9 am – 12 ) and (1 pm – 4 pm)\n9-8-23 Friday (9 am – 12 ) and (1 pm – 4 pm)\n\n(Fall 2023 Site Prep and Tree Planting)\nTree source: Keystone 10 Million Trees\n3﻿ acres  – (an additional 75 Native trees will be planted) \n\n10-6-23 Friday (9 am – 12 ) and (1 pm – 4 pm)\n10-7-23 Saturday (9 am – 12 ) and (1 pm – 4 pm)\n10-13-23 Friday (9 am – 12 ) and (1 pm – 4 pm)\n10-14-23 Saturday (9 am – 12 ) and (1 pm – 4 pm)\n10-20-23 Friday (9 am – 12 ) and (1 pm – 4 pm)\n\n(Tree Tending) \n\n11-4-23 Saturday (1 pm – 4 pm)\n11-10-23 Friday  (9 am – 12 ) \n11-17-23 Friday  (1 pm – 4 pm)\n\n\n\n\nGoogle Map location of the tree planting: \nhttps://www.google.com/maps/d/viewer?mid=1MarK4pkIm5Rs8f6MuZbpXhI8a4R1ZJg&ll=40.12606035213172%2C-74.86625270000002&z=19
URL:https://gridphilly.com/event/tree-planting-along-mill-creek-riparian-buffer-and-reforestation-2023-3/
LOCATION:Black Ditch Creek / Mill Creek (Levittown\, PA)\, Bristol Oxford Valley Rd and Mill Creek\, Service Road access - (Across the street from Clover) after Black Ditch bridge on right\, Levittown\, PA\, 19057\, United States
ATTACH;FMTTYPE=image/jpeg:https://gridphilly.com/wp-content/uploads/2023/05/52d1d57d4882b15b2a214717fe2d93cc.jpg
END:VEVENT
END:VCALENDAR