BEGIN:VCALENDAR
VERSION:2.0
PRODID:-//Grid Magazine - ECPv6.15.20//NONSGML v1.0//EN
CALSCALE:GREGORIAN
METHOD:PUBLISH
X-ORIGINAL-URL:https://gridphilly.com
X-WR-CALDESC:Events for Grid Magazine
REFRESH-INTERVAL;VALUE=DURATION:PT1H
X-Robots-Tag:noindex
X-PUBLISHED-TTL:PT1H
BEGIN:VTIMEZONE
TZID:America/New_York
BEGIN:DAYLIGHT
TZOFFSETFROM:-0500
TZOFFSETTO:-0400
TZNAME:EDT
DTSTART:20230312T070000
END:DAYLIGHT
BEGIN:STANDARD
TZOFFSETFROM:-0400
TZOFFSETTO:-0500
TZNAME:EST
DTSTART:20231105T060000
END:STANDARD
BEGIN:DAYLIGHT
TZOFFSETFROM:-0500
TZOFFSETTO:-0400
TZNAME:EDT
DTSTART:20240310T070000
END:DAYLIGHT
BEGIN:STANDARD
TZOFFSETFROM:-0400
TZOFFSETTO:-0500
TZNAME:EST
DTSTART:20241103T060000
END:STANDARD
BEGIN:DAYLIGHT
TZOFFSETFROM:-0500
TZOFFSETTO:-0400
TZNAME:EDT
DTSTART:20250309T070000
END:DAYLIGHT
BEGIN:STANDARD
TZOFFSETFROM:-0400
TZOFFSETTO:-0500
TZNAME:EST
DTSTART:20251102T060000
END:STANDARD
BEGIN:DAYLIGHT
TZOFFSETFROM:-0500
TZOFFSETTO:-0400
TZNAME:EDT
DTSTART:20260308T070000
END:DAYLIGHT
BEGIN:STANDARD
TZOFFSETFROM:-0400
TZOFFSETTO:-0500
TZNAME:EST
DTSTART:20261101T060000
END:STANDARD
BEGIN:DAYLIGHT
TZOFFSETFROM:-0500
TZOFFSETTO:-0400
TZNAME:EDT
DTSTART:20270314T070000
END:DAYLIGHT
BEGIN:STANDARD
TZOFFSETFROM:-0400
TZOFFSETTO:-0500
TZNAME:EST
DTSTART:20271107T060000
END:STANDARD
END:VTIMEZONE
BEGIN:VEVENT
DTSTART;TZID=America/New_York:20260131T120000
DTEND;TZID=America/New_York:20260131T170000
DTSTAMP:20260420T014542
CREATED:20251213T220311Z
LAST-MODIFIED:20251213T220311Z
UID:10027283-1769860800-1769878800@gridphilly.com
SUMMARY:Dry Vibes: Philly’s Largest Wellness & Non-Alc Event
DESCRIPTION:Dry Vibes\, Philly’s largest alcohol-free social and wellness event\, returns on Saturday\, January 31\, 2026 at Billy Penn Studios in Philadelphia. Hosted by Gem Life + Bar\, this elevated\, alcohol-free experience brings together creators\, founders\, wellness practitioners\, and conscious consumers for a full-body wellness celebration featuring a signature open zero-proof bar\, tastings from dozens of non-alcoholic and better-for-you brands\, a curated wellness marketplace\, live entertainment\, DJ sets\, and interactive experiences. Special guests include Brandon Novak (mental health and recovery advocate)\, Arlan Hamilton (founder of Backstage Capital)\, and Laura Taylor (founder of Mingle Mocktails)\, with additional celebrity appearances to be announced. Tickets are available via Eventbrite with Early Bird pricing through December 15\, and vendor/sponsorship opportunities can be found at gemlifecollective.com.
URL:https://gridphilly.com/event/dry-vibes-phillys-largest-wellness-non-alc-event/
LOCATION:Billy Penn Studios\, North 5th Street\, Philadelphia\, PA\, USA\, 1516 North 5th Street\, Philadelphia\, PA\, 19122\, United States
CATEGORIES:Health & Wellness
ATTACH;FMTTYPE=image/jpeg:https://gridphilly.com/wp-content/uploads/2025/12/6-scaled.jpeg
END:VEVENT
BEGIN:VEVENT
DTSTART;TZID=America/New_York:20240621T100000
DTEND;TZID=America/New_York:20240623T170000
DTSTAMP:20260420T014542
CREATED:20240603T173927Z
LAST-MODIFIED:20240603T173927Z
UID:10013229-1718964000-1719162000@gridphilly.com
SUMMARY:Higher Conference
DESCRIPTION:The first and only conference for women of color navigating the healing plant and wellness industry!\n\n\nHigher Conference\nWelcome to the Higher Conference! Join us at Billy Penn Studios on North 5th Street in Philadelphia\, PA\, USA for an event like no other. Get ready for inspiring speakers\, engaging workshops\, and networking opportunities that will take your knowledge to the next level. Don’t miss out on this incredible chance to learn\, grow\, and connect with like-minded individuals. See you there!
URL:https://gridphilly.com/event/higher-conference/
LOCATION:Billy Penn Studios\, North 5th Street\, Philadelphia\, PA\, USA\, 1516 North 5th Street\, Philadelphia\, PA\, 19122\, United States
ATTACH;FMTTYPE=image/jpeg:https://gridphilly.com/wp-content/uploads/2024/06/dba5cd6c835dbbbc469bbeeb98c47658.jpg
END:VEVENT
END:VCALENDAR