BEGIN:VCALENDAR
VERSION:2.0
PRODID:-//Grid Magazine - ECPv6.15.20//NONSGML v1.0//EN
CALSCALE:GREGORIAN
METHOD:PUBLISH
X-WR-CALNAME:Grid Magazine
X-ORIGINAL-URL:https://gridphilly.com
X-WR-CALDESC:Events for Grid Magazine
REFRESH-INTERVAL;VALUE=DURATION:PT1H
X-Robots-Tag:noindex
X-PUBLISHED-TTL:PT1H
BEGIN:VTIMEZONE
TZID:America/New_York
BEGIN:DAYLIGHT
TZOFFSETFROM:-0500
TZOFFSETTO:-0400
TZNAME:EDT
DTSTART:20230312T070000
END:DAYLIGHT
BEGIN:STANDARD
TZOFFSETFROM:-0400
TZOFFSETTO:-0500
TZNAME:EST
DTSTART:20231105T060000
END:STANDARD
BEGIN:DAYLIGHT
TZOFFSETFROM:-0500
TZOFFSETTO:-0400
TZNAME:EDT
DTSTART:20240310T070000
END:DAYLIGHT
BEGIN:STANDARD
TZOFFSETFROM:-0400
TZOFFSETTO:-0500
TZNAME:EST
DTSTART:20241103T060000
END:STANDARD
BEGIN:DAYLIGHT
TZOFFSETFROM:-0500
TZOFFSETTO:-0400
TZNAME:EDT
DTSTART:20250309T070000
END:DAYLIGHT
BEGIN:STANDARD
TZOFFSETFROM:-0400
TZOFFSETTO:-0500
TZNAME:EST
DTSTART:20251102T060000
END:STANDARD
END:VTIMEZONE
BEGIN:VEVENT
DTSTART;TZID=America/New_York:20240520T113000
DTEND;TZID=America/New_York:20240520T173000
DTSTAMP:20260421T044536
CREATED:20240402T180644Z
LAST-MODIFIED:20240402T180644Z
UID:10012274-1716204600-1716226200@gridphilly.com
SUMMARY:Fore Fresh Water Golf Invitational
DESCRIPTION:When: Monday\, May 20\, 2024\, Shotgun start at 11:30 a.m. Cocktail reception at 4:30 p.m.Where: Bidermann Golf Course\, Wilmington\, Delaware.\nHit the Links With Us as We Tee Off “Fore” Fresh Water\nYour participation helps support Stroud Water Research Center’s freshwater research\, environmental education\, and watershed restoration.\nGolfer packages are available for foursomes and individual players.\nSponsorships allow you to maximize your exposure to a targeted demographic while enjoying a day of golf.\nNon-golfers can support the golf outing by purchasing non-golfer sponsorships or attending the cocktail reception.\nGolfer Packages\nGolfer Sponsorships\nNon-Golfer Sponsorships\nThank You to Our Sponsors!\nEagle Sponsor\nMr. and Mrs. Michael Moran\nPutting Green Sponsor\nBeverage Sponsor\nSWAG Sponsors\nHole Sponsors \nJohnston Family Charitable Foundation
URL:https://gridphilly.com/event/fore-fresh-water-golf-invitational-3/
LOCATION:Bidermann Golf Course\, 601 Adams Dam Road\, Wilmington\, DE\, 19807\, United States
CATEGORIES:Special Event
ATTACH;FMTTYPE=image/jpeg:https://gridphilly.com/wp-content/uploads/2023/02/2022-golf-outing-constellation-foursome-eYrbn8.tmp_.jpg
END:VEVENT
END:VCALENDAR