BEGIN:VCALENDAR
VERSION:2.0
PRODID:-//Grid Magazine - ECPv6.15.20//NONSGML v1.0//EN
CALSCALE:GREGORIAN
METHOD:PUBLISH
X-ORIGINAL-URL:https://gridphilly.com
X-WR-CALDESC:Events for Grid Magazine
REFRESH-INTERVAL;VALUE=DURATION:PT1H
X-Robots-Tag:noindex
X-PUBLISHED-TTL:PT1H
BEGIN:VTIMEZONE
TZID:America/New_York
BEGIN:DAYLIGHT
TZOFFSETFROM:-0500
TZOFFSETTO:-0400
TZNAME:EDT
DTSTART:20230312T070000
END:DAYLIGHT
BEGIN:STANDARD
TZOFFSETFROM:-0400
TZOFFSETTO:-0500
TZNAME:EST
DTSTART:20231105T060000
END:STANDARD
BEGIN:DAYLIGHT
TZOFFSETFROM:-0500
TZOFFSETTO:-0400
TZNAME:EDT
DTSTART:20240310T070000
END:DAYLIGHT
BEGIN:STANDARD
TZOFFSETFROM:-0400
TZOFFSETTO:-0500
TZNAME:EST
DTSTART:20241103T060000
END:STANDARD
BEGIN:DAYLIGHT
TZOFFSETFROM:-0500
TZOFFSETTO:-0400
TZNAME:EDT
DTSTART:20250309T070000
END:DAYLIGHT
BEGIN:STANDARD
TZOFFSETFROM:-0400
TZOFFSETTO:-0500
TZNAME:EST
DTSTART:20251102T060000
END:STANDARD
BEGIN:DAYLIGHT
TZOFFSETFROM:-0500
TZOFFSETTO:-0400
TZNAME:EDT
DTSTART:20260308T070000
END:DAYLIGHT
BEGIN:STANDARD
TZOFFSETFROM:-0400
TZOFFSETTO:-0500
TZNAME:EST
DTSTART:20261101T060000
END:STANDARD
BEGIN:DAYLIGHT
TZOFFSETFROM:-0500
TZOFFSETTO:-0400
TZNAME:EDT
DTSTART:20270314T070000
END:DAYLIGHT
BEGIN:STANDARD
TZOFFSETFROM:-0400
TZOFFSETTO:-0500
TZNAME:EST
DTSTART:20271107T060000
END:STANDARD
END:VTIMEZONE
BEGIN:VTIMEZONE
TZID:America/New_York
BEGIN:DAYLIGHT
TZOFFSETFROM:-0500
TZOFFSETTO:-0400
TZNAME:EDT
DTSTART:20220313T070000
END:DAYLIGHT
BEGIN:STANDARD
TZOFFSETFROM:-0400
TZOFFSETTO:-0500
TZNAME:EST
DTSTART:20221106T060000
END:STANDARD
BEGIN:DAYLIGHT
TZOFFSETFROM:-0500
TZOFFSETTO:-0400
TZNAME:EDT
DTSTART:20230312T070000
END:DAYLIGHT
BEGIN:STANDARD
TZOFFSETFROM:-0400
TZOFFSETTO:-0500
TZNAME:EST
DTSTART:20231105T060000
END:STANDARD
BEGIN:DAYLIGHT
TZOFFSETFROM:-0500
TZOFFSETTO:-0400
TZNAME:EDT
DTSTART:20240310T070000
END:DAYLIGHT
BEGIN:STANDARD
TZOFFSETFROM:-0400
TZOFFSETTO:-0500
TZNAME:EST
DTSTART:20241103T060000
END:STANDARD
BEGIN:DAYLIGHT
TZOFFSETFROM:-0500
TZOFFSETTO:-0400
TZNAME:EDT
DTSTART:20250309T070000
END:DAYLIGHT
BEGIN:STANDARD
TZOFFSETFROM:-0400
TZOFFSETTO:-0500
TZNAME:EST
DTSTART:20251102T060000
END:STANDARD
BEGIN:DAYLIGHT
TZOFFSETFROM:-0500
TZOFFSETTO:-0400
TZNAME:EDT
DTSTART:20260308T070000
END:DAYLIGHT
BEGIN:STANDARD
TZOFFSETFROM:-0400
TZOFFSETTO:-0500
TZNAME:EST
DTSTART:20261101T060000
END:STANDARD
END:VTIMEZONE
BEGIN:VEVENT
DTSTART;TZID=America/New_York:20260307T120000
DTEND;TZID=America/New_York:20260307T140000
DTSTAMP:20260424T125906
CREATED:20260211T203526Z
LAST-MODIFIED:20260211T203902Z
UID:10028930-1772884800-1772892000@gridphilly.com
SUMMARY:Seed Jewelry Workshop
DESCRIPTION:In case of inclement weather\, this workshop will be rescheduled to 3/28. \nJoin artist Eric César Morales for an art-making workshop! Participants will learn to weave intricate jewelry with seeds harvested from around Philadelphia\, including the grounds of Bartram’s Garden\, as well as seeds collected from Latin America and the Pacific. We will learn about the historical and cultural significance of each type of seed\, including their roles in art\, music\, food\, medicine\, and folktales.  \nParticipants will design and weave their own bracelets out of seeds! All materials are provided\, and interested participants will have the chance to hand-drill a few of their own seeds. Designed for all ages and experience levels\, this workshop welcomes everyone—from children to seniors—to engage creatively with nature\, culture\, and craft!
URL:https://gridphilly.com/event/seed-jewelry-workshop/
LOCATION:Bartram’s Garden Barn
CATEGORIES:Artists' Workshop Series,Classes & Workshops,Eligible for SW/ACCESS Discount,Family Activities,Make + Take Series
ATTACH;FMTTYPE=image/webp:https://gridphilly.com/wp-content/uploads/2026/02/Process-Elaborate-Necklace-hauUEe.webp
END:VEVENT
BEGIN:VEVENT
DTSTART;TZID=America/New_York:20250215T130000
DTEND;TZID=America/New_York:20250215T160000
DTSTAMP:20260424T125906
CREATED:20250204T195142Z
LAST-MODIFIED:20250204T195142Z
UID:10016969-1739624400-1739635200@gridphilly.com
SUMMARY:SOLD OUT Community Quilting in Partnership with Tiny Farm Wagon and The Museum of Black Joy
DESCRIPTION:Join us for a fun and creative afternoon of community quilting as a part of the Mother Tongue series\, which celebrates healing and liberation through Black art. \nBring your own fabric scraps or use some of ours to create a unique quilt square that can be the start of something beautiful or a stand-alone piece for your lap or table. \nNo quilting experience necessary and all skill levels are welcomed! This event is free and a great opportunity to meet new people\, share stories\, and celebrate the healing power of Black culture. Don’t miss out on this chance to connect with community through the art of quilting. \nWe’ll also have a session the following week on February 22! Sign up for one or both.
URL:https://gridphilly.com/event/sold-out-community-quilting-in-partnership-with-tiny-farm-wagon-and-the-museum-of-black-joy/
LOCATION:Bartram’s Garden Barn
CATEGORIES:Artists' Workshop Series,Classes & Workshops,Family Activities,Free Community Events,Make + Take Series
ATTACH;FMTTYPE=image/png:https://gridphilly.com/wp-content/uploads/2025/02/Community-Quilting-flyer-2025-rWPTvb.tmp_.png
END:VEVENT
BEGIN:VEVENT
DTSTART;TZID=America/New_York:20241010T160000
DTEND;TZID=America/New_York:20241010T180000
DTSTAMP:20260424T125906
CREATED:20240930T182346Z
LAST-MODIFIED:20240930T182346Z
UID:10014870-1728576000-1728583200@gridphilly.com
SUMMARY:Another Space\, Another Time
DESCRIPTION:Ars Nova Workshop invites you to Another Space\, Another Time- a partnership between Ars Nova Workshop\, Spirits Up!\, and Bartram’s Garden exploring music\, movement\, and mindfulness. \nThis program is a space led by yoga teacher Sudan Green\, a certified movement and mindfulness teacher dedicated to making these practices more accessible to communities that need them most. It is an ode to the ancestors like Milford Graves who gathered communities around whole wellness- movement\, mindfulness\, and expression. In addition to yoga training\, the class will feature music and special guests to bring in added elements of alternative healing. \nCost is free/pay what you wish. Please register in advance. \nWebsite: www.spirits.life\, arsnovaworkshop.org/
URL:https://gridphilly.com/event/another-space-another-time-8/
LOCATION:Bartram’s Garden Barn
CATEGORIES:Arts & Performance,Classes & Workshops,Free Community Events,Series,Yoga & Meditation
ATTACH;FMTTYPE=image/jpeg:https://gridphilly.com/wp-content/uploads/2024/06/spiritsup-Rxessu.tmp_.jpg
END:VEVENT
BEGIN:VEVENT
DTSTART;TZID=America/New_York:20240912T160000
DTEND;TZID=America/New_York:20240912T180000
DTSTAMP:20260424T125906
CREATED:20240904T140718Z
LAST-MODIFIED:20240904T140718Z
UID:10014399-1726156800-1726164000@gridphilly.com
SUMMARY:Another Space\, Another Time
DESCRIPTION:Ars Nova Workshop invites you to Another Space\, Another Time- a partnership between Ars Nova Workshop\, Spirits Up!\, and Bartram’s Garden exploring music\, movement\, and mindfulness. \nThis program is a space led by yoga teacher Sudan Green\, a certified movement and mindfulness teacher dedicated to making these practices more accessible to communities that need them most. It is an ode to the ancestors like Milford Graves who gathered communities around whole wellness- movement\, mindfulness\, and expression. In addition to yoga training\, the class will feature music and special guests to bring in added elements of alternative healing. \nCost is free/pay what you wish. Please register in advance. \nWebsite: www.spirits.life\, arsnovaworkshop.org/
URL:https://gridphilly.com/event/another-space-another-time-7/
LOCATION:Bartram’s Garden Barn
CATEGORIES:Arts & Performance,Classes & Workshops,Free Community Events,Series,Yoga & Meditation
ATTACH;FMTTYPE=image/jpeg:https://gridphilly.com/wp-content/uploads/2024/06/spiritsup-Rxessu.tmp_.jpg
END:VEVENT
BEGIN:VEVENT
DTSTART;TZID=America/New_York:20240822T160000
DTEND;TZID=America/New_York:20240822T180000
DTSTAMP:20260424T125906
CREATED:20240803T164018Z
LAST-MODIFIED:20240803T164018Z
UID:10013792-1724342400-1724349600@gridphilly.com
SUMMARY:Another Space\, Another Time
DESCRIPTION:Ars Nova Workshop invites you to Another Space\, Another Time- a partnership between Ars Nova Workshop\, Spirits Up!\, and Bartram’s Garden exploring music\, movement\, and mindfulness. \nThis program is a space led by yoga teacher Sudan Green\, a certified movement and mindfulness teacher dedicated to making these practices more accessible to communities that need them most. It is an ode to the ancestors like Milford Graves who gathered communities around whole wellness- movement\, mindfulness\, and expression. In addition to yoga training\, the class will feature music and special guests to bring in added elements of alternative healing. \nCost is free/pay what you wish. Please register in advance. \nWebsite: www.spirits.life\, arsnovaworkshop.org/
URL:https://gridphilly.com/event/another-space-another-time-6/
LOCATION:Bartram’s Garden Barn
CATEGORIES:Arts & Performance,Classes & Workshops,Free Community Events,Series,Yoga & Meditation
ATTACH;FMTTYPE=image/jpeg:https://gridphilly.com/wp-content/uploads/2024/06/spiritsup-Rxessu.tmp_.jpg
END:VEVENT
BEGIN:VEVENT
DTSTART;TZID=America/New_York:20240808T160000
DTEND;TZID=America/New_York:20240808T180000
DTSTAMP:20260424T125906
CREATED:20240803T163430Z
LAST-MODIFIED:20240803T163430Z
UID:10013783-1723132800-1723140000@gridphilly.com
SUMMARY:Another Space\, Another Time
DESCRIPTION:Ars Nova Workshop invites you to Another Space\, Another Time- a partnership between Ars Nova Workshop\, Spirits Up!\, and Bartram’s Garden exploring music\, movement\, and mindfulness. \nThis program is a space led by yoga teacher Sudan Green\, a certified movement and mindfulness teacher dedicated to making these practices more accessible to communities that need them most. It is an ode to the ancestors like Milford Graves who gathered communities around whole wellness- movement\, mindfulness\, and expression. In addition to yoga training\, the class will feature music and special guests to bring in added elements of alternative healing. \nCost is free/pay what you wish. Please register in advance. \nWebsite: www.spirits.life\, arsnovaworkshop.org/
URL:https://gridphilly.com/event/another-space-another-time-5/
LOCATION:Bartram’s Garden Barn
CATEGORIES:Arts & Performance,Classes & Workshops,Free Community Events,Series,Yoga & Meditation
ATTACH;FMTTYPE=image/jpeg:https://gridphilly.com/wp-content/uploads/2024/06/spiritsup-Rxessu.tmp_.jpg
END:VEVENT
BEGIN:VEVENT
DTSTART;TZID=America/New_York:20240725T160000
DTEND;TZID=America/New_York:20240725T180000
DTSTAMP:20260424T125906
CREATED:20240716T174241Z
LAST-MODIFIED:20240716T192531Z
UID:10013643-1721923200-1721930400@gridphilly.com
SUMMARY:Another Space\, Another Time
DESCRIPTION:Ars Nova Workshop invites you to Another Space\, Another Time- a partnership between Ars Nova Workshop\, Spirits Up!\, and Bartram’s Garden exploring music\, movement\, and mindfulness. \nThis program is a space led by yoga teacher Sudan Green\, a certified movement and mindfulness teacher dedicated to making these practices more accessible to communities that need them most. It is an ode to the ancestors like Milford Graves who gathered communities around whole wellness- movement\, mindfulness\, and expression. In addition to yoga training\, the class will feature music and special guests to bring in added elements of alternative healing. \nCost is free/pay what you wish. Please register in advance. \nWebsite: www.spirits.life\, arsnovaworkshop.org/
URL:https://gridphilly.com/event/another-space-another-time-4/
LOCATION:Bartram’s Garden Barn
CATEGORIES:Arts & Performance,Classes & Workshops,Free Community Events,Series,Yoga & Meditation
ATTACH;FMTTYPE=image/jpeg:https://gridphilly.com/wp-content/uploads/2024/06/spiritsup-Rxessu.tmp_.jpg
END:VEVENT
BEGIN:VEVENT
DTSTART;TZID=America/New_York:20240722T151500
DTEND;TZID=America/New_York:20240722T160000
DTSTAMP:20260424T125906
CREATED:20240716T174042Z
LAST-MODIFIED:20240716T192530Z
UID:10013640-1721661300-1721664000@gridphilly.com
SUMMARY:Meditations in the Garden: Shielding Meditation for Emotional Strength
DESCRIPTION:Come rest and revitalize your physical and mental health with moments of mindfulness\, meditation\, and group yoga in the Garden. This free series\, facilitated by Luna and organized in partnership with Family Practice and Counseling Network (FPCN)  requires no prior registration and welcomes participants of all abilities! \nPlease bring a yoga mat\, towel\, and water bottle. We’ll have extra water and a limited supply of mats on hand as well. While the class begins at 3:15\, participants are encouraged to gather and ground themselves in the space from 3-3:15pm. Classes will meet indoors in the Barn. Rain or shine! \n  \nFacilitator Bio:  \nMind-Body & Integrative Therapy Practitioner Luna is an International Yoga Alliance certified Yoga Instructor and a certified MINDFULNESS MEDITATION instructor. She has trained in Mindfulness education for kids & teens from Mindful Schools and Mindfulness-Based Stress Reduction (MBSR) from UMass Center for Mindfulness. These traditional & secular trainings have enabled her to create unique\, engaging mind & body wellness programs for all ages. Incorporating ancient wisdom with modern\, holistic healing tools.
URL:https://gridphilly.com/event/meditations-in-the-garden-shielding-meditation-for-emotional-strength/
LOCATION:Bartram’s Garden Barn
CATEGORIES:Classes & Workshops,Free Community Events,Series,Yoga & Meditation
ATTACH;FMTTYPE=image/jpeg:https://gridphilly.com/wp-content/uploads/2024/07/1U8A8637-DXaLK6.tmp_.jpg
END:VEVENT
BEGIN:VEVENT
DTSTART;TZID=America/New_York:20240711T160000
DTEND;TZID=America/New_York:20240711T180000
DTSTAMP:20260424T125906
CREATED:20240709T183311Z
LAST-MODIFIED:20240709T183311Z
UID:10013580-1720713600-1720720800@gridphilly.com
SUMMARY:Another Space\, Another Time
DESCRIPTION:Ars Nova Workshop invites you to Another Space\, Another Time- a partnership between Ars Nova Workshop\, Spirits Up!\, and Bartram’s Garden exploring music\, movement\, and mindfulness. \nThis program is a space led by yoga teacher Sudan Green\, a certified movement and mindfulness teacher dedicated to making these practices more accessible to communities that need them most. It is an ode to the ancestors like Milford Graves who gathered communities around whole wellness- movement\, mindfulness\, and expression. In addition to yoga training\, the class will feature music and special guests to bring in added elements of alternative healing. \nCost is free/pay what you wish. Please register in advance. \nWebsite: www.spirits.life\, arsnovaworkshop.org/
URL:https://gridphilly.com/event/another-space-another-time-3/
LOCATION:Bartram’s Garden Barn
CATEGORIES:Arts & Performance,Classes & Workshops,Free Community Events,Series,Yoga & Meditation
ATTACH;FMTTYPE=image/jpeg:https://gridphilly.com/wp-content/uploads/2024/06/spiritsup-Rxessu.tmp_.jpg
END:VEVENT
BEGIN:VEVENT
DTSTART;TZID=America/New_York:20240627T160000
DTEND;TZID=America/New_York:20240627T180000
DTSTAMP:20260424T125906
CREATED:20240606T173433Z
LAST-MODIFIED:20240606T173433Z
UID:10013258-1719504000-1719511200@gridphilly.com
SUMMARY:Another Space\, Another Time
DESCRIPTION:Ars Nova Workshop invites you to Another Space\, Another Time- a partnership between Ars Nova Workshop\, Spirits Up!\, and Bartram’s Garden exploring music\, movement\, and mindfulness. \nThis program is a space led by yoga teacher Sudan Green\, a certified movement and mindfulness teacher dedicated to making these practices more accessible to communities that need them most. It is an ode to the ancestors like Milford Graves who gathered communities around whole wellness- movement\, mindfulness\, and expression. In addition to yoga training\, the class will feature music and special guests to bring in added elements of alternative healing. \nCost is free/pay what you wish. Please register in advance. \nWebsite: www.spirits.life\, arsnovaworkshop.org/
URL:https://gridphilly.com/event/another-space-another-time-2/
LOCATION:Bartram’s Garden Barn
CATEGORIES:Arts & Performance,Classes & Workshops,Free Community Events,Series,Yoga & Meditation
ATTACH;FMTTYPE=image/jpeg:https://gridphilly.com/wp-content/uploads/2024/06/spiritsup-Rxessu.tmp_.jpg
END:VEVENT
BEGIN:VEVENT
DTSTART;TZID=America/New_York:20240624T151500
DTEND;TZID=America/New_York:20240624T160000
DTSTAMP:20260424T125906
CREATED:20240606T173335Z
LAST-MODIFIED:20240606T173335Z
UID:10013257-1719242100-1719244800@gridphilly.com
SUMMARY:Meditations in the Garden: Nurturing the Inner Child
DESCRIPTION:Come rest and revitalize your physical and mental health with moments of mindfulness\, meditation\, and group yoga in the Garden. This free series\, facilitated by Luna and organized in partnership with Family Practice and Counseling Network (FPCN)  requires no prior registration and welcomes participants of all abilities! \nPlease bring a yoga mat\, towel\, and water bottle. We’ll have extra water and a limited supply of mats on hand as well. While the class begins at 3:15\, participants are encouraged to gather and ground themselves in the space from 3-3:15pm. Classes will meet indoors in the Barn. Rain or shine! \n  \nFacilitator Bio:  \nMind-Body & Integrative Therapy Practitioner Luna is an International Yoga Alliance certified Yoga Instructor and a certified MINDFULNESS MEDITATION instructor. She has trained in Mindfulness education for kids & teens from Mindful Schools and Mindfulness-Based Stress Reduction (MBSR) from UMass Center for Mindfulness. These traditional & secular trainings have enabled her to create unique\, engaging mind & body wellness programs for all ages. Incorporating ancient wisdom with modern\, holistic healing tools.
URL:https://gridphilly.com/event/meditations-in-the-garden-nurturing-the-inner-child/
LOCATION:Bartram’s Garden Barn
CATEGORIES:Classes & Workshops,Free Community Events,Series,Yoga & Meditation
ATTACH;FMTTYPE=image/jpeg:https://gridphilly.com/wp-content/uploads/2024/06/1U8A8734-HBLKJ6.tmp_.jpg
END:VEVENT
BEGIN:VEVENT
DTSTART;TZID=America/New_York:20240613T160000
DTEND;TZID=America/New_York:20240613T180000
DTSTAMP:20260424T125906
CREATED:20240606T173112Z
LAST-MODIFIED:20240606T173112Z
UID:10013252-1718294400-1718301600@gridphilly.com
SUMMARY:Another Space\, Another Time
DESCRIPTION:Ars Nova Workshop invites you to Another Space\, Another Time- a partnership between Ars Nova Workshop\, Spirits Up!\, and Bartram’s Garden exploring music\, movement\, and mindfulness. \nThis program is a space led by yoga teacher Sudan Green\, a certified movement and mindfulness teacher dedicated to making these practices more accessible to communities that need them most. It is an ode to the ancestors like Milford Graves who gathered communities around whole wellness- movement\, mindfulness\, and expression. In addition to yoga training\, the class will feature music and special guests to bring in added elements of alternative healing. \nCost is free/pay what you wish. Please register in advance. \nWebsite: www.spirits.life\, arsnovaworkshop.org/
URL:https://gridphilly.com/event/another-space-another-time/
LOCATION:Bartram’s Garden Barn
CATEGORIES:Arts & Performance,Classes & Workshops,Free Community Events,Series,Yoga & Meditation
ATTACH;FMTTYPE=image/jpeg:https://gridphilly.com/wp-content/uploads/2024/06/spiritsup-Rxessu.tmp_.jpg
END:VEVENT
BEGIN:VEVENT
DTSTART;TZID=America/New_York:20240610T151500
DTEND;TZID=America/New_York:20240610T160000
DTSTAMP:20260424T125906
CREATED:20240522T193928Z
LAST-MODIFIED:20240522T193928Z
UID:10012955-1718032500-1718035200@gridphilly.com
SUMMARY:Meditations in the Garden: Love & Kindness Pride Meditation (LGBTQIA)
DESCRIPTION:Come rest and revitalize your physical and mental health with moments of mindfulness\, meditation\, and group yoga in the Garden. This free series\, facilitated by Luna and organized in partnership with Family Practice and Counseling Network (FPCN)  requires no prior registration and welcomes participants of all abilities! \nPlease bring a yoga mat\, towel\, and water bottle. We’ll have extra water and a limited supply of mats on hand as well. While the class begins at 3:15\, participants are encouraged to gather and ground themselves in the space from 3-3:15pm. Classes will meet indoors in the Barn. Rain or shine! \n  \nFacilitator Bio:  \nMind-Body & Integrative Therapy Practitioner Luna is an International Yoga Alliance certified Yoga Instructor and a certified MINDFULNESS MEDITATION instructor. She has trained in Mindfulness education for kids & teens from Mindful Schools and Mindfulness-Based Stress Reduction (MBSR) from UMass Center for Mindfulness. These traditional & secular trainings have enabled her to create unique\, engaging mind & body wellness programs for all ages. Incorporating ancient wisdom with modern\, holistic healing tools.
URL:https://gridphilly.com/event/meditations-in-the-garden-love-kindness-pride-meditation-lgbtqia/
LOCATION:Bartram’s Garden Barn
CATEGORIES:Classes & Workshops,Free Community Events,Series,Yoga & Meditation
ATTACH;FMTTYPE=image/jpeg:https://gridphilly.com/wp-content/uploads/2024/05/1U8A8735-wDV0wK.tmp_.jpg
END:VEVENT
BEGIN:VEVENT
DTSTART;TZID=America/New_York:20240513T151500
DTEND;TZID=America/New_York:20240513T160000
DTSTAMP:20260424T125906
CREATED:20240510T005300Z
LAST-MODIFIED:20240510T005300Z
UID:10012814-1715613300-1715616000@gridphilly.com
SUMMARY:Meditations in the Garden: Decluttering the Mind
DESCRIPTION:Come rest and revitalize your physical and mental health with moments of mindfulness\, meditation\, and group yoga in the Garden. This free series\, facilitated by Luna and organized in partnership with Family Practice and Counseling Network (FPCN)  requires no prior registration and welcomes participants of all abilities! \nPlease bring a yoga mat\, towel\, and water bottle. We’ll have extra water and a limited supply of mats on hand as well. While the class begins at 3:15\, participants are encouraged to gather and ground themselves in the space from 3-3:15pm. Classes will meet indoors in the Barn. Rain or shine! \n  \nFacilitator Bio:  \nMind-Body & Integrative Therapy Practitioner Luna is an International Yoga Alliance certified Yoga Instructor and a certified MINDFULNESS MEDITATION instructor. She has trained in Mindfulness education for kids & teens from Mindful Schools and Mindfulness-Based Stress Reduction (MBSR) from UMass Center for Mindfulness. These traditional & secular trainings have enabled her to create unique\, engaging mind & body wellness programs for all ages. Incorporating ancient wisdom with modern\, holistic healing tools.
URL:https://gridphilly.com/event/meditations-in-the-garden-decluttering-the-mind/
LOCATION:Bartram’s Garden Barn
CATEGORIES:Classes & Workshops,Free Community Events,Series,Yoga & Meditation
ATTACH;FMTTYPE=image/jpeg:https://gridphilly.com/wp-content/uploads/2024/05/1U8A8702-VRHKVu.tmp_.jpg
END:VEVENT
BEGIN:VEVENT
DTSTART;TZID=America/New_York:20240414T120000
DTEND;TZID=America/New_York:20240414T150000
DTSTAMP:20260424T125906
CREATED:20240402T180401Z
LAST-MODIFIED:20240402T180401Z
UID:10012263-1713096000-1713106800@gridphilly.com
SUMMARY:WellMama Rejuvenation Circle
DESCRIPTION:This free event is rain or shine! Programming will take place in the Upper Meadows and Barn\, but will move fully indoors to the Barn in the case of inclement weather. \nJoin Oshun Family Center for a rejuvenating and healing experience at Bartram’s Garden. Immerse yourself in the soothing practice of yoga and the transformative power of sound baths as we come together to restore balance and harmony to mind\, body\, and spirit. \nDuring this event\, you will have the opportunity to participate in revitalizing yoga sessions led by a resident Yogi guiding you through gentle movements and breathing exercises to promote relaxation and inner peace. Following the yoga practice\, you will be enveloped in the tranquil vibrations of a mesmerizing sound bath\, where the serene sounds of crystal singing bowls and other therapeutic instruments will wash over you\, promoting deep relaxation and a sense of clarity. \nWhether you are seeking to release tension\, reduce stress\, or simply reconnect with your inner self\, this healing forum offers a nurturing space for you to unwind\, recharge\, and embrace a profound sense of well-being. \nCome and join us for a transformative journey of self-care and renewal at this holistic healing event. Open your heart\, calm your mind\, and restore your energy in the company of like-minded individuals on a shared path to wellness. \nThis event is part of Oshun Family Center’s Maternal Wellness Village program. Get full details here.
URL:https://gridphilly.com/event/wellmama-rejuvenation-circle/
LOCATION:Bartram’s Garden Barn
CATEGORIES:Classes & Workshops,Free Community Events,Yoga & Meditation
ATTACH;FMTTYPE=image/jpeg:https://gridphilly.com/wp-content/uploads/2024/04/Well-Mama-Rejuvenation-Circle-Diy8Fa.tmp_.jpg
END:VEVENT
BEGIN:VEVENT
DTSTART;TZID=America/New_York:20240224T130000
DTEND;TZID=America/New_York:20240224T160000
DTSTAMP:20260424T125906
CREATED:20240121T192137Z
LAST-MODIFIED:20240121T192137Z
UID:10010624-1708779600-1708790400@gridphilly.com
SUMMARY:“Space Race” Documentary Showing
DESCRIPTION:In 1961\, U.S. President John F. Kennedy selected a young test pilot named Edward Joseph “Ed” Dwight Jr. to become the first African\nAmerican astronaut. While Ed was ultimately not selected by NASA\, his cultural impact paved the way for those that followed. In honor of\nWorld Space Week\, we’re celebrating his legacy. \nJoin us and the Black Science Coalition and Institute for a free public showing of the documentary The Space Race.  \nComing this February to Disney Plus from National Geographic Documentaries\, The Space Race takes a new look at the Space Age through the untold stories of Black astronauts.
URL:https://gridphilly.com/event/space-race-documentary-showing/
LOCATION:Bartram’s Garden Barn
CATEGORIES:Free Community Events
ATTACH;FMTTYPE=image/png:https://gridphilly.com/wp-content/uploads/2024/01/The-Space-Race-Branding-DsoX6b.tmp_.png
END:VEVENT
BEGIN:VEVENT
DTSTART;TZID=America/New_York:20231108T173000
DTEND;TZID=America/New_York:20231108T203000
DTSTAMP:20260424T125906
CREATED:20231023T185155Z
LAST-MODIFIED:20231023T230011Z
UID:10007954-1699464600-1699475400@gridphilly.com
SUMMARY:We Come from Mermaids I: African Diaspora and Water (Classroom)
DESCRIPTION:Led by Chandrika Francis of Oshun Swim School. Bartram’s Garden is partnering with Oshun Swim School this fall to offer a series of swimming and water-related workshops for Southwest Philadelphia residents. \nThis classroom-based workshop is an invitation to immerse yourself in the rich history of the African Diaspora and water!  Learn more about the ways our ancestors engaged with water for resistance and joy during slavery times and during the Middle Passage\, as well as the multitude of rich aquatic traditions in pre-European Atlantic African cultures. Through games\, conversation\, readings\, lectures\, and meditation\, we will tap into the joy\, liberation\, resistance\, and wisdom that connect us to our ancestors. \nPlease note this workshop centers the Black experience but welcomes folks of all identities. \n  \nPizza will be provided! If pizza doesn’t work for you due to dietary restrictions\, reach out to cwang@bartramsgarden.org or (215) 729-5281 x116 so we can accommodate your needs. \n  \n*COVID-19 Precautions: Class size limited to 15 students.  To increase access\, students and instructors are required to be vaccinated\, mask\, or both. Free COVID rapid tests and two-trip SEPTA passes are available. Please arrive 15 early if you plan on utilizing a COVID test.
URL:https://gridphilly.com/event/we-come-from-mermaids-i-african-diaspora-and-water-classroom/
LOCATION:Bartram’s Garden Barn
CATEGORIES:Arts & Performance,Classes & Workshops,Free Community Events,Recreation & Health,River,Series
ATTACH;FMTTYPE=image/png:https://gridphilly.com/wp-content/uploads/2023/10/OshunSwimSchoolWorkshop-1-OwqDVF.tmp_.png
END:VEVENT
END:VCALENDAR