BEGIN:VCALENDAR
VERSION:2.0
PRODID:-//Grid Magazine - ECPv6.15.20//NONSGML v1.0//EN
CALSCALE:GREGORIAN
METHOD:PUBLISH
X-WR-CALNAME:Grid Magazine
X-ORIGINAL-URL:https://gridphilly.com
X-WR-CALDESC:Events for Grid Magazine
REFRESH-INTERVAL;VALUE=DURATION:PT1H
X-Robots-Tag:noindex
X-PUBLISHED-TTL:PT1H
BEGIN:VTIMEZONE
TZID:America/New_York
BEGIN:DAYLIGHT
TZOFFSETFROM:-0500
TZOFFSETTO:-0400
TZNAME:EDT
DTSTART:20240310T070000
END:DAYLIGHT
BEGIN:STANDARD
TZOFFSETFROM:-0400
TZOFFSETTO:-0500
TZNAME:EST
DTSTART:20241103T060000
END:STANDARD
BEGIN:DAYLIGHT
TZOFFSETFROM:-0500
TZOFFSETTO:-0400
TZNAME:EDT
DTSTART:20250309T070000
END:DAYLIGHT
BEGIN:STANDARD
TZOFFSETFROM:-0400
TZOFFSETTO:-0500
TZNAME:EST
DTSTART:20251102T060000
END:STANDARD
BEGIN:DAYLIGHT
TZOFFSETFROM:-0500
TZOFFSETTO:-0400
TZNAME:EDT
DTSTART:20260308T070000
END:DAYLIGHT
BEGIN:STANDARD
TZOFFSETFROM:-0400
TZOFFSETTO:-0500
TZNAME:EST
DTSTART:20261101T060000
END:STANDARD
BEGIN:DAYLIGHT
TZOFFSETFROM:-0500
TZOFFSETTO:-0400
TZNAME:EDT
DTSTART:20270314T070000
END:DAYLIGHT
BEGIN:STANDARD
TZOFFSETFROM:-0400
TZOFFSETTO:-0500
TZNAME:EST
DTSTART:20271107T060000
END:STANDARD
END:VTIMEZONE
BEGIN:VEVENT
DTSTART;TZID=America/New_York:20260316T173000
DTEND;TZID=America/New_York:20260316T210000
DTSTAMP:20260425T160839
CREATED:20260309T021658Z
LAST-MODIFIED:20260309T021805Z
UID:10030075-1773682200-1773694800@gridphilly.com
SUMMARY:Billy Preston: That's the Way God Planned It - A WURD Radio Screening
DESCRIPTION:A Black History Month event and celebration of the legacy of the “Fifth Beatle.”\n\n\nRESCHEDULED: Join WURD Radio for our annual Black History Month signature event as we recognize the life and legacy of Billy Preston — the legendary keyboardist\, bandleader\, and songwriter known to many as the “Fifth Beatle.” \nTaking place at the Barnes Foundation on Benjamin Franklin Parkway\, this event offers a powerful opportunity to celebrate Black musical excellence\, community\, and storytelling during Black History Month. \nThe evening features a screening of the acclaimed documentary Billy Preston: That’s the Way God Planned It\, tracing Preston’s remarkable journey from gospel prodigy to one of the most influential musicians of the 20th century. His work helped shape rock\, soul\, and pop music through collaborations with artists including The Beatles\, The Rolling Stones\, Aretha Franklin\, and countless others. \nFollowing the film\, stay for a panel discussion moderated by WURD Radio host Solomon Jones exploring Preston’s musical legacy\, cultural impact\, and enduring influence. Panelists include: \n\nParis Barclay\, director\, Billy Preston: That’s The Way God Planned It\nJeanne Elfant Festa\, producer\, Billy Preston: That’s The Way God Planned It\n\n\nOrrin Evans\, acclaimed Philadelphia jazz pianist\nDyana Williams\, journalist\, documentarian\, and co-founder of Black Music Month\n\nAs part of the evening\, attendees will also enjoy an exclusive preview from WURD Radio’s Freedom Journeys series\, our ongoing project documenting the stories of phenomenal Black figures who have shaped history and culture.
URL:https://gridphilly.com/event/billy-preston-thats-the-way-god-planned-it-a-wurd-radio-screening-2/
LOCATION:Barnes Foundation\, 2025 Benjamin Franklin Parkway\, Philadelphia\, PA\, 19130\, United States
ATTACH;FMTTYPE=image/jpeg:https://gridphilly.com/wp-content/uploads/2026/03/f2d7a04c262cfd089bc293f9e61c2c27.jpg
END:VEVENT
BEGIN:VEVENT
DTSTART;TZID=America/New_York:20260223T173000
DTEND;TZID=America/New_York:20260223T210000
DTSTAMP:20260425T160840
CREATED:20260215T160121Z
LAST-MODIFIED:20260215T160146Z
UID:10029002-1771867800-1771880400@gridphilly.com
SUMMARY:Billy Preston: That's the Way God Planned It - A WURD Radio Screening
DESCRIPTION:A Black History Month event and celebration of the legacy of the “Fifth Beatle.”\n\n\nJoin WURD Radio for our annual Black History Month signature event as we recognize the life and legacy of Billy Preston — the legendary keyboardist\, bandleader\, and songwriter known to many as the “Fifth Beatle.” \nTaking place at the Barnes Foundation on Benjamin Franklin Parkway\, this event offers a powerful opportunity to celebrate Black musical excellence\, community\, and storytelling during Black History Month. \nThe evening features a screening of the acclaimed documentary Billy Preston: That’s the Way God Planned It\, tracing Preston’s remarkable journey from gospel prodigy to one of the most influential musicians of the 20th century. His work helped shape rock\, soul\, and pop music through collaborations with artists including The Beatles\, The Rolling Stones\, Aretha Franklin\, and countless others. \nFollowing the film\, stay for a panel discussion exploring Preston’s musical legacy\, cultural impact\, and enduring influence. Panelists include: \n\nParis Barclay\, Film Director\, Billy Preston: That’s The Way God Planned It\nDyana Williams\, journalist\, documentarian and co-founder of Black Music Month\nOrrin Evans\, Philadelphia jazz pianist\n\nAs part of the evening\, attendees will also enjoy an exclusive preview from WURD Radio’s Freedom Journeys series\, our ongoing project documenting the stories of phenomenal Black figures who have shaped history and culture.
URL:https://gridphilly.com/event/billy-preston-thats-the-way-god-planned-it-a-wurd-radio-screening/
LOCATION:Barnes Foundation\, 2025 Benjamin Franklin Parkway\, Philadelphia\, PA\, 19130\, United States
ATTACH;FMTTYPE=image/jpeg:https://gridphilly.com/wp-content/uploads/2026/02/3fc93f09fc8c8a93452b8d6241fb0f64.jpg
END:VEVENT
BEGIN:VEVENT
DTSTART;TZID=America/New_York:20250905T170000
DTEND;TZID=America/New_York:20250905T183000
DTSTAMP:20260425T160840
CREATED:20250822T160952Z
LAST-MODIFIED:20250822T160952Z
UID:10020664-1757091600-1757097000@gridphilly.com
SUMMARY:Ready\, Set\, Grow: Preparing Small Businesses for America’s 250th
DESCRIPTION:Is Your Business Ready for 2026? Join WURD Radio as we prepare small businesses for the influx of opportunities coming to Philly in 2026.\n\n\n*Attendees to this panel discussion can attend the Barnes Foundation’s First Fridays event immediately following the panel which features songstress Laurin Talese\, for just $5. Please look out for more details in your registration confirmation email from Eventbrite after you RSVP. \n \nJoin WURD Radio on Friday\, September 5 at 5:00 p.m. as we launch our Ready\, Set\, Grow initiative to prepare small businesses for the influx of opportunities coming to Philly in 2026\, where we will work to partner with various businesses\, tourism and government stakeholders. \nThe evening will include a panel discussion of key stakeholders\, including Visit Philly\, Philadelphia Soccer\, the PA Convention and Visitors Bureau\, Philly 250\, the Chamber of Commerce for Greater Philadelphia and several others at The Barnes Foundation\, 2025 Benjamin Franklin Parkway\, Philadelphia. \n \nConfirmed Panelists: \n· Angela Val\, Visit Philly \n· Chellie Cameron\, Chamber of Commerce for Greater Philadelphia \n· Michael Delbene\, Welcome America \n· Meg Kane\, Philadelphia Soccer \n· Kathryn Ott Lovell\, Philly 250 \n· Gregg Caren\, PHLCVB \n· Councilman Isaiah Thomas\, Philadelphia City Council \n· Moderated by: Sara Lomax\, WURD Radio
URL:https://gridphilly.com/event/ready-set-grow-preparing-small-businesses-for-americas-250th/
LOCATION:Barnes Foundation\, 2025 Benjamin Franklin Parkway\, Philadelphia\, PA\, 19130\, United States
END:VEVENT
END:VCALENDAR