BEGIN:VCALENDAR
VERSION:2.0
PRODID:-//Grid Magazine - ECPv6.15.20//NONSGML v1.0//EN
CALSCALE:GREGORIAN
METHOD:PUBLISH
X-ORIGINAL-URL:https://gridphilly.com
X-WR-CALDESC:Events for Grid Magazine
REFRESH-INTERVAL;VALUE=DURATION:PT1H
X-Robots-Tag:noindex
X-PUBLISHED-TTL:PT1H
BEGIN:VTIMEZONE
TZID:America/New_York
BEGIN:DAYLIGHT
TZOFFSETFROM:-0500
TZOFFSETTO:-0400
TZNAME:EDT
DTSTART:20220313T070000
END:DAYLIGHT
BEGIN:STANDARD
TZOFFSETFROM:-0400
TZOFFSETTO:-0500
TZNAME:EST
DTSTART:20221106T060000
END:STANDARD
BEGIN:DAYLIGHT
TZOFFSETFROM:-0500
TZOFFSETTO:-0400
TZNAME:EDT
DTSTART:20230312T070000
END:DAYLIGHT
BEGIN:STANDARD
TZOFFSETFROM:-0400
TZOFFSETTO:-0500
TZNAME:EST
DTSTART:20231105T060000
END:STANDARD
BEGIN:DAYLIGHT
TZOFFSETFROM:-0500
TZOFFSETTO:-0400
TZNAME:EDT
DTSTART:20240310T070000
END:DAYLIGHT
BEGIN:STANDARD
TZOFFSETFROM:-0400
TZOFFSETTO:-0500
TZNAME:EST
DTSTART:20241103T060000
END:STANDARD
BEGIN:DAYLIGHT
TZOFFSETFROM:-0500
TZOFFSETTO:-0400
TZNAME:EDT
DTSTART:20250309T070000
END:DAYLIGHT
BEGIN:STANDARD
TZOFFSETFROM:-0400
TZOFFSETTO:-0500
TZNAME:EST
DTSTART:20251102T060000
END:STANDARD
END:VTIMEZONE
BEGIN:VEVENT
DTSTART;TZID=America/New_York:20241016T173000
DTEND;TZID=America/New_York:20241016T193000
DTSTAMP:20260420T001725
CREATED:20241011T165933Z
LAST-MODIFIED:20241011T165933Z
UID:10015046-1729099800-1729107000@gridphilly.com
SUMMARY:Small Business Happy Hour
DESCRIPTION:Join us for a laid-back evening of networking\, drinks\, and good vibes to celebrate and support our local small businesses!\n\n\nSmall Business Happy Hour \nCome join us for a fun evening of networking and relaxation at Attic Brewing Co! This event is the perfect opportunity to unwind after a long day of work\, meet fellow small business owners\, and exchange ideas over a cold brew. Whether you’re looking to make new connections or simply enjoy a casual drink\, this happy hour is the place to be. Don’t miss out on the chance to mingle\, share stories\, and support local businesses. See you there!
URL:https://gridphilly.com/event/small-business-happy-hour-2/
LOCATION:Attic Brewing Co\, 137 Berkley Street\, Philadelphia\, PA\, 19144\, United States
ATTACH;FMTTYPE=image/jpeg:https://gridphilly.com/wp-content/uploads/2024/10/668a1fab76a29cd94c12160c19250274.jpg
END:VEVENT
BEGIN:VEVENT
DTSTART;TZID=America/New_York:20231212T173000
DTEND;TZID=America/New_York:20231212T190000
DTSTAMP:20260420T001725
CREATED:20231120T165550Z
LAST-MODIFIED:20231120T165550Z
UID:10008265-1702402200-1702407600@gridphilly.com
SUMMARY:Small Business Happy Hour
DESCRIPTION:Join us for a chill and lively Small Business Happy Hour\, where local entrepreneurs can mingle\, connect\, and unwind with great drinks and go\n\n\nSmall Business Happy Hour \nJoin us in Germantown for a fun-filled evening at the Small Business Happy Hour! Connect with fellow entrepreneurs and local business owners in a casual setting. Enjoy networking\, sharing ideas\, and building valuable relationships. Whether you’re just starting out or have an established business\, this event is the perfect opportunity to expand your network and gain insights from like-minded individuals. \nLearn about Verizon Small Business Digital Ready and a $10k grant! \nTheme: Social Media Marketing \nDate: 12/12/2023 \nTime: 5:30pm \nLocation: Attic Brewing Co\, 137 Berkley Street\, Philadelphia\, PA\, USA \nDon’t miss out on this fantastic chance to mingle\, relax\, and have a great time with fellow small business enthusiasts. Come and join us at the Small Business Happy Hour!
URL:https://gridphilly.com/event/small-business-happy-hour/
LOCATION:Attic Brewing Co\, 137 Berkley Street\, Philadelphia\, PA\, 19144\, United States
ATTACH;FMTTYPE=image/jpeg:https://gridphilly.com/wp-content/uploads/2023/11/c620fefc3c9a604b1bc25e924fabbe8f.jpg
END:VEVENT
END:VCALENDAR