BEGIN:VCALENDAR
VERSION:2.0
PRODID:-//Grid Magazine - ECPv6.15.20//NONSGML v1.0//EN
CALSCALE:GREGORIAN
METHOD:PUBLISH
X-ORIGINAL-URL:https://gridphilly.com
X-WR-CALDESC:Events for Grid Magazine
REFRESH-INTERVAL;VALUE=DURATION:PT1H
X-Robots-Tag:noindex
X-PUBLISHED-TTL:PT1H
BEGIN:VTIMEZONE
TZID:America/New_York
BEGIN:DAYLIGHT
TZOFFSETFROM:-0500
TZOFFSETTO:-0400
TZNAME:EDT
DTSTART:20220313T070000
END:DAYLIGHT
BEGIN:STANDARD
TZOFFSETFROM:-0400
TZOFFSETTO:-0500
TZNAME:EST
DTSTART:20221106T060000
END:STANDARD
BEGIN:DAYLIGHT
TZOFFSETFROM:-0500
TZOFFSETTO:-0400
TZNAME:EDT
DTSTART:20230312T070000
END:DAYLIGHT
BEGIN:STANDARD
TZOFFSETFROM:-0400
TZOFFSETTO:-0500
TZNAME:EST
DTSTART:20231105T060000
END:STANDARD
BEGIN:DAYLIGHT
TZOFFSETFROM:-0500
TZOFFSETTO:-0400
TZNAME:EDT
DTSTART:20240310T070000
END:DAYLIGHT
BEGIN:STANDARD
TZOFFSETFROM:-0400
TZOFFSETTO:-0500
TZNAME:EST
DTSTART:20241103T060000
END:STANDARD
END:VTIMEZONE
BEGIN:VEVENT
DTSTART;TZID=America/New_York:20231028T173000
DTEND;TZID=America/New_York:20231028T190000
DTSTAMP:20260421T052216
CREATED:20231023T184815Z
LAST-MODIFIED:20231023T230008Z
UID:10007946-1698514200-1698519600@gridphilly.com
SUMMARY:Mobilizing and Creating Coalitions Through Story Circles
DESCRIPTION:Led by Lizania Cruz / part of Teaching at the End of Times\n\n\nMobilizing & Building Coalitions led by artist Lizania Cruz \nIn this workshop participants will learn how to use story circles as a way of uniting\, mobilizing\, and honoring the histories of immigrant communities. And as a framework for creating coalitions based on different expressions of power: power within\, power with\, and power to. The goals of this workshop are to understand the framework of story circles and how to put it into praxis\, to draw connections between the stories shared and how these could become tools of organizing by creating “power with\,” “power to\,” and “power within.” \nWater and snacks will be provided during the event and food will be served towards the end of the workshop. \nR﻿ead more about Teaching and the End of Times and the workshop leader \nS﻿ee the full schedule of related events here
URL:https://gridphilly.com/event/mobilizing-and-creating-coalitions-through-story-circles/
LOCATION:Atelier Gallery\, 1301 N 31st St Suite 2\, Philadelphia\, PA\, 19121\, United States
ATTACH;FMTTYPE=image/jpeg:https://gridphilly.com/wp-content/uploads/2023/10/221851475e9e23c217d52314e7843cf0.jpg
END:VEVENT
END:VCALENDAR