BEGIN:VCALENDAR
VERSION:2.0
PRODID:-//Grid Magazine - ECPv6.15.20//NONSGML v1.0//EN
CALSCALE:GREGORIAN
METHOD:PUBLISH
X-ORIGINAL-URL:https://gridphilly.com
X-WR-CALDESC:Events for Grid Magazine
REFRESH-INTERVAL;VALUE=DURATION:PT1H
X-Robots-Tag:noindex
X-PUBLISHED-TTL:PT1H
BEGIN:VTIMEZONE
TZID:America/New_York
BEGIN:DAYLIGHT
TZOFFSETFROM:-0500
TZOFFSETTO:-0400
TZNAME:EDT
DTSTART:20230312T070000
END:DAYLIGHT
BEGIN:STANDARD
TZOFFSETFROM:-0400
TZOFFSETTO:-0500
TZNAME:EST
DTSTART:20231105T060000
END:STANDARD
BEGIN:DAYLIGHT
TZOFFSETFROM:-0500
TZOFFSETTO:-0400
TZNAME:EDT
DTSTART:20240310T070000
END:DAYLIGHT
BEGIN:STANDARD
TZOFFSETFROM:-0400
TZOFFSETTO:-0500
TZNAME:EST
DTSTART:20241103T060000
END:STANDARD
BEGIN:DAYLIGHT
TZOFFSETFROM:-0500
TZOFFSETTO:-0400
TZNAME:EDT
DTSTART:20250309T070000
END:DAYLIGHT
BEGIN:STANDARD
TZOFFSETFROM:-0400
TZOFFSETTO:-0500
TZNAME:EST
DTSTART:20251102T060000
END:STANDARD
BEGIN:DAYLIGHT
TZOFFSETFROM:-0500
TZOFFSETTO:-0400
TZNAME:EDT
DTSTART:20260308T070000
END:DAYLIGHT
BEGIN:STANDARD
TZOFFSETFROM:-0400
TZOFFSETTO:-0500
TZNAME:EST
DTSTART:20261101T060000
END:STANDARD
END:VTIMEZONE
BEGIN:VEVENT
DTSTART;TZID=America/New_York:20250916T103000
DTEND;TZID=America/New_York:20250916T110000
DTSTAMP:20260421T110353
CREATED:20250913T184125Z
LAST-MODIFIED:20250913T191304Z
UID:10021855-1758018600-1758020400@gridphilly.com
SUMMARY:Fall Storytime with Miss Delia in the Ambler Community Garden
DESCRIPTION:Join us for a fun and interactive Fall Storytime with Miss Delia in the beautiful Ambler Community Garden!\n\n\nFall Storytime with Miss Delia in the Ambler Community Garden \nCome join us for a fun and interactive spring storytime session with Miss Delia at the Ambler Community Garden in Knight Park! Let’s gather together in this beautiful outdoor space to enjoy stories\, songs\, and maybe even a little sunshine. Don’t forget to bring a blanket to sit on while we dive into some delightful tales and sing-a-long with Miss Delia on the ukulele. Registration is required for kids only who want to make the craft following the stories and sing-a-long. The rain location is Ambler Library.
URL:https://gridphilly.com/event/fall-storytime-with-miss-delia-in-the-ambler-community-garden-2/
LOCATION:Ambler Community Garden: Knight Park\, 38 Church Street\, Ambler\, PA\, 19002\, United States
ATTACH;FMTTYPE=image/jpeg:https://gridphilly.com/wp-content/uploads/2025/08/509498d4b7dc7bed452d6e87543498a2.jpg
END:VEVENT
BEGIN:VEVENT
DTSTART;TZID=America/New_York:20250902T103000
DTEND;TZID=America/New_York:20250902T110000
DTSTAMP:20260421T110353
CREATED:20250825T134820Z
LAST-MODIFIED:20250825T134820Z
UID:10020690-1756809000-1756810800@gridphilly.com
SUMMARY:Fall Storytime with Miss Delia in the Ambler Community Garden
DESCRIPTION:Join us for a fun and interactive Fall Storytime with Miss Delia in the beautiful Ambler Community Garden!\n\n\nFall Storytime with Miss Delia in the Ambler Community Garden \nCome join us for a fun and interactive spring storytime session with Miss Delia at the Ambler Community Garden in Knight Park! Let’s gather together in this beautiful outdoor space to enjoy stories\, songs\, and maybe even a little sunshine. Don’t forget to bring a blanket to sit on while we dive into some delightful tales and sing-a-long with Miss Delia on the ukulele. Registration is required for kids only who want to make the craft following the stories and sing-a-long. The rain location is Ambler Library.
URL:https://gridphilly.com/event/fall-storytime-with-miss-delia-in-the-ambler-community-garden/
LOCATION:Ambler Community Garden: Knight Park\, 38 Church Street\, Ambler\, PA\, 19002\, United States
ATTACH;FMTTYPE=image/jpeg:https://gridphilly.com/wp-content/uploads/2025/08/509498d4b7dc7bed452d6e87543498a2.jpg
END:VEVENT
BEGIN:VEVENT
DTSTART;TZID=America/New_York:20250610T103000
DTEND;TZID=America/New_York:20250610T110000
DTSTAMP:20260421T110353
CREATED:20250606T202306Z
LAST-MODIFIED:20250606T202306Z
UID:10019338-1749551400-1749553200@gridphilly.com
SUMMARY:Spring Storytime with Miss Delia in the Ambler Community Garden
DESCRIPTION:Join us for a fun and interactive Spring Storytime with Miss Delia in the beautiful Ambler Community Garden!\n\n\nSpring Storytime with Miss Delia in the Ambler Community Garden \nCome join us for a fun and interactive spring storytime session with Miss Delia at the Ambler Community Garden in Knight Park! Let’s gather together in this beautiful outdoor space to enjoy stories\, songs\, and maybe even a little sunshine. Don’t forget to bring a blanket to sit on  while we dive into some delightful tales and sing-a-long with Miss Delia on the ukuelele. Registration is required for the craft following the stories and sing-a-long.
URL:https://gridphilly.com/event/spring-storytime-with-miss-delia-in-the-ambler-community-garden-3/
LOCATION:Ambler Community Garden: Knight Park\, 38 Church Street\, Ambler\, PA\, 19002\, United States
ATTACH;FMTTYPE=image/jpeg:https://gridphilly.com/wp-content/uploads/2025/05/050d4f7f83cb9b07c62de6e22d587888.jpg
END:VEVENT
BEGIN:VEVENT
DTSTART;TZID=America/New_York:20250603T103000
DTEND;TZID=America/New_York:20250603T110000
DTSTAMP:20260421T110353
CREATED:20250527T174257Z
LAST-MODIFIED:20250527T174257Z
UID:10019195-1748946600-1748948400@gridphilly.com
SUMMARY:Spring Storytime with Miss Delia in the Ambler Community Garden
DESCRIPTION:Join us for a fun and interactive Spring Storytime with Miss Delia in the beautiful Ambler Community Garden!\n\n\nSpring Storytime with Miss Delia in the Ambler Community Garden \nCome join us for a fun and interactive spring storytime session with Miss Delia at the Ambler Community Garden in Knight Park! Let’s gather together in this beautiful outdoor space to enjoy stories\, songs\, and maybe even a little sunshine. Don’t forget to bring a blanket to sit on  while we dive into some delightful tales and sing-a-long with Miss Delia on the ukuelele. Registration is required for the craft following the stories and sing-a-long.
URL:https://gridphilly.com/event/spring-storytime-with-miss-delia-in-the-ambler-community-garden-2/
LOCATION:Ambler Community Garden: Knight Park\, 38 Church Street\, Ambler\, PA\, 19002\, United States
ATTACH;FMTTYPE=image/jpeg:https://gridphilly.com/wp-content/uploads/2025/05/050d4f7f83cb9b07c62de6e22d587888.jpg
END:VEVENT
BEGIN:VEVENT
DTSTART;TZID=America/New_York:20250520T103000
DTEND;TZID=America/New_York:20250520T110000
DTSTAMP:20260421T110353
CREATED:20250519T173642Z
LAST-MODIFIED:20250519T173642Z
UID:10019006-1747737000-1747738800@gridphilly.com
SUMMARY:Spring Storytime with Miss Delia in the Ambler Community Garden
DESCRIPTION:Join us for a fun and interactive Spring Storytime with Miss Delia in the beautiful Ambler Community Garden!\n\n\nSpring Storytime with Miss Delia in the Ambler Community Garden \nCome join us for a fun and interactive spring storytime session with Miss Delia at the Ambler Community Garden in Knight Park! Let’s gather together in this beautiful outdoor space to enjoy stories\, songs\, and maybe even a little sunshine. Don’t forget to bring a blanket to sit on  while we dive into some delightful tales and sing-a-long with Miss Delia on the ukuelele. Registration is required for the craft following the stories and sing-a-long.
URL:https://gridphilly.com/event/spring-storytime-with-miss-delia-in-the-ambler-community-garden/
LOCATION:Ambler Community Garden: Knight Park\, 38 Church Street\, Ambler\, PA\, 19002\, United States
ATTACH;FMTTYPE=image/jpeg:https://gridphilly.com/wp-content/uploads/2025/05/050d4f7f83cb9b07c62de6e22d587888.jpg
END:VEVENT
BEGIN:VEVENT
DTSTART;TZID=America/New_York:20240722T103000
DTEND;TZID=America/New_York:20240722T110000
DTSTAMP:20260421T110353
CREATED:20240716T173441Z
LAST-MODIFIED:20240716T192527Z
UID:10013632-1721644200-1721646000@gridphilly.com
SUMMARY:Summer Storytime at the Ambler Community Garden
DESCRIPTION:Sing-a-long with Miss Delia on the ukulele and listen to stories read aloud at the Ambler Community Garden.\n\n\nSing-a-long with Miss Delia on the ukulele and listen to stories read aloud. Those registered may participate in making a craft in the garden afterwards. \n \nAccessibility Check-in: please contact us if you would like an accommodation to access this program.
URL:https://gridphilly.com/event/summer-storytime-at-the-ambler-community-garden-3/
LOCATION:Ambler Community Garden: Knight Park\, 38 Church Street\, Ambler\, PA\, 19002\, United States
ATTACH;FMTTYPE=image/jpeg:https://gridphilly.com/wp-content/uploads/2024/06/7d9ff1d9f3233a3b8f0b7b3a951c78a5.jpg
END:VEVENT
BEGIN:VEVENT
DTSTART;TZID=America/New_York:20240708T103000
DTEND;TZID=America/New_York:20240708T110000
DTSTAMP:20260421T110353
CREATED:20240624T172547Z
LAST-MODIFIED:20240624T205713Z
UID:10013382-1720434600-1720436400@gridphilly.com
SUMMARY:Summer Storytime at the Ambler Community Garden
DESCRIPTION:Sing-a-long with Miss Delia on the ukulele and listen to stories read aloud at the Ambler Community Garden.\n\n\nSing-a-long with Miss Delia on the ukulele and listen to stories read aloud. Those registered may participate in making a craft in the garden afterwards. \n \nAccessibility Check-in: please contact us if you would like an accommodation to access this program.
URL:https://gridphilly.com/event/summer-storytime-at-the-ambler-community-garden-2/
LOCATION:Ambler Community Garden: Knight Park\, 38 Church Street\, Ambler\, PA\, 19002\, United States
ATTACH;FMTTYPE=image/jpeg:https://gridphilly.com/wp-content/uploads/2024/06/7d9ff1d9f3233a3b8f0b7b3a951c78a5.jpg
END:VEVENT
BEGIN:VEVENT
DTSTART;TZID=America/New_York:20240624T103000
DTEND;TZID=America/New_York:20240624T110000
DTSTAMP:20260421T110353
CREATED:20240614T133905Z
LAST-MODIFIED:20240614T133905Z
UID:10013321-1719225000-1719226800@gridphilly.com
SUMMARY:Summer Storytime at the Ambler Community Garden
DESCRIPTION:Sing-a-long with Miss Delia on the ukulele and listen to stories read aloud at the Ambler Community Garden.\n\n\nSing-a-long with Miss Delia on the ukulele and listen to stories read aloud. Those registered may participate in making a craft in the garden afterwards. \n \nAccessibility Check-in: please contact us if you would like an accommodation to access this program.
URL:https://gridphilly.com/event/summer-storytime-at-the-ambler-community-garden/
LOCATION:Ambler Community Garden: Knight Park\, 38 Church Street\, Ambler\, PA\, 19002\, United States
ATTACH;FMTTYPE=image/jpeg:https://gridphilly.com/wp-content/uploads/2024/06/7d9ff1d9f3233a3b8f0b7b3a951c78a5.jpg
END:VEVENT
END:VCALENDAR