BEGIN:VCALENDAR
VERSION:2.0
PRODID:-//Grid Magazine - ECPv6.15.20//NONSGML v1.0//EN
CALSCALE:GREGORIAN
METHOD:PUBLISH
X-ORIGINAL-URL:https://gridphilly.com
X-WR-CALDESC:Events for Grid Magazine
REFRESH-INTERVAL;VALUE=DURATION:PT1H
X-Robots-Tag:noindex
X-PUBLISHED-TTL:PT1H
BEGIN:VTIMEZONE
TZID:America/New_York
BEGIN:DAYLIGHT
TZOFFSETFROM:-0500
TZOFFSETTO:-0400
TZNAME:EDT
DTSTART:20240310T070000
END:DAYLIGHT
BEGIN:STANDARD
TZOFFSETFROM:-0400
TZOFFSETTO:-0500
TZNAME:EST
DTSTART:20241103T060000
END:STANDARD
BEGIN:DAYLIGHT
TZOFFSETFROM:-0500
TZOFFSETTO:-0400
TZNAME:EDT
DTSTART:20250309T070000
END:DAYLIGHT
BEGIN:STANDARD
TZOFFSETFROM:-0400
TZOFFSETTO:-0500
TZNAME:EST
DTSTART:20251102T060000
END:STANDARD
BEGIN:DAYLIGHT
TZOFFSETFROM:-0500
TZOFFSETTO:-0400
TZNAME:EDT
DTSTART:20260308T070000
END:DAYLIGHT
BEGIN:STANDARD
TZOFFSETFROM:-0400
TZOFFSETTO:-0500
TZNAME:EST
DTSTART:20261101T060000
END:STANDARD
END:VTIMEZONE
BEGIN:VEVENT
DTSTART;TZID=America/New_York:20250927T000000
DTEND;TZID=America/New_York:20250927T170000
DTSTAMP:20260421T094511
CREATED:20250922T150653Z
LAST-MODIFIED:20250922T150653Z
UID:10022178-1758931200-1758992400@gridphilly.com
SUMMARY:2025 Mt. Airy Arts Festival
DESCRIPTION:The 3rd Annual Mt. Airy Arts Festival is happening on Saturday\, September 27th!\n\n\nThe Mt. Airy Arts Festival is back for its 3rd year and will again take place on the beautiful Allens Lane Park grounds. Join us for an incredible day of community fun with art making stations\, food trucks and beverages\, live musical performances on our outdoor stage\, an art market with local artist vendors\, and more!
URL:https://gridphilly.com/event/2025-mt-airy-arts-festival/
LOCATION:Allens Lane Park\, 601 West Allens Lane\, Philadelphia\, PA\, 19119\, United States
ATTACH;FMTTYPE=image/jpeg:https://gridphilly.com/wp-content/uploads/2025/09/ac6bf729bbbda7f0b22043958e2fe9bb.jpg
END:VEVENT
BEGIN:VEVENT
DTSTART;TZID=America/New_York:20250710T180000
DTEND;TZID=America/New_York:20250710T200000
DTSTAMP:20260421T094511
CREATED:20250630T164925Z
LAST-MODIFIED:20250630T164925Z
UID:10019744-1752170400-1752177600@gridphilly.com
SUMMARY:Park Jams - Karl Blau
DESCRIPTION:PARK JAMS Summer Concert Series with Karl Blau\nThursday\, July 10\, 6:00 – 8:00 p.m.\n\n\nPark Jams is a FREE\, family-friendly outdoor concert series – right in our own beautiful Allens Lane Park. So gather your favorite people\, spread a blanket\, and join us every second Thursday evening for the best jams of the summer!
URL:https://gridphilly.com/event/park-jams-karl-blau/
LOCATION:Allens Lane Park\, 601 West Allens Lane\, Philadelphia\, PA\, 19119\, United States
ATTACH;FMTTYPE=image/jpeg:https://gridphilly.com/wp-content/uploads/2025/06/1186813ae15e7bf1b4334eae04ef111f.jpg
END:VEVENT
END:VCALENDAR