BEGIN:VCALENDAR
VERSION:2.0
PRODID:-//Grid Magazine - ECPv6.15.20//NONSGML v1.0//EN
CALSCALE:GREGORIAN
METHOD:PUBLISH
X-ORIGINAL-URL:https://gridphilly.com
X-WR-CALDESC:Events for Grid Magazine
REFRESH-INTERVAL;VALUE=DURATION:PT1H
X-Robots-Tag:noindex
X-PUBLISHED-TTL:PT1H
BEGIN:VTIMEZONE
TZID:America/New_York
BEGIN:DAYLIGHT
TZOFFSETFROM:-0500
TZOFFSETTO:-0400
TZNAME:EDT
DTSTART:20240310T070000
END:DAYLIGHT
BEGIN:STANDARD
TZOFFSETFROM:-0400
TZOFFSETTO:-0500
TZNAME:EST
DTSTART:20241103T060000
END:STANDARD
BEGIN:DAYLIGHT
TZOFFSETFROM:-0500
TZOFFSETTO:-0400
TZNAME:EDT
DTSTART:20250309T070000
END:DAYLIGHT
BEGIN:STANDARD
TZOFFSETFROM:-0400
TZOFFSETTO:-0500
TZNAME:EST
DTSTART:20251102T060000
END:STANDARD
BEGIN:DAYLIGHT
TZOFFSETFROM:-0500
TZOFFSETTO:-0400
TZNAME:EDT
DTSTART:20260308T070000
END:DAYLIGHT
BEGIN:STANDARD
TZOFFSETFROM:-0400
TZOFFSETTO:-0500
TZNAME:EST
DTSTART:20261101T060000
END:STANDARD
END:VTIMEZONE
BEGIN:VEVENT
DTSTART;TZID=America/New_York:20250927T100000
DTEND;TZID=America/New_York:20250927T130000
DTSTAMP:20260424T151145
CREATED:20250922T150758Z
LAST-MODIFIED:20250922T150758Z
UID:10022180-1758967200-1758978000@gridphilly.com
SUMMARY:Smoke Cycle's Community Clean-Up
DESCRIPTION:Join Smoke Cycle’s Philly clean-up! Gear provided. Help clear litter & build pride in our streets. All ages welcome.\n\n\nEvent Overview\nJoin Smoke Cycle LLC for a community cleanup dedicated to creating cleaner\, safer streets in Philadelphia. Volunteers will walk a designated route\, using provided gloves\, trash grabbers\, and collection bags to remove litter and cigarette waste from local streets and green spaces. \nThis hands-on event is an opportunity to make a visible difference in our neighborhoods\, protect local waterways\, and build community pride. Participants will work together to create a healthier environment while supporting Smoke Cycle’s mission to reduce pollution and repurpose waste into valuable resources. \nAll ages are welcome. Water and all cleanup materials will be provided.
URL:https://gridphilly.com/event/smoke-cycles-community-clean-up/
LOCATION:7101 Dicks Ave\, 7101 Dicks Avenue\, Philadelphia\, PA\, 19153\, United States
ATTACH;FMTTYPE=image/jpeg:https://gridphilly.com/wp-content/uploads/2025/09/4e32e6bde545b2ce99693567f2677ff4.jpg
END:VEVENT
END:VCALENDAR