BEGIN:VCALENDAR
VERSION:2.0
PRODID:-//Grid Magazine - ECPv6.15.20//NONSGML v1.0//EN
CALSCALE:GREGORIAN
METHOD:PUBLISH
X-ORIGINAL-URL:https://gridphilly.com
X-WR-CALDESC:Events for Grid Magazine
REFRESH-INTERVAL;VALUE=DURATION:PT1H
X-Robots-Tag:noindex
X-PUBLISHED-TTL:PT1H
BEGIN:VTIMEZONE
TZID:America/New_York
BEGIN:DAYLIGHT
TZOFFSETFROM:-0500
TZOFFSETTO:-0400
TZNAME:EDT
DTSTART:20220313T070000
END:DAYLIGHT
BEGIN:STANDARD
TZOFFSETFROM:-0400
TZOFFSETTO:-0500
TZNAME:EST
DTSTART:20221106T060000
END:STANDARD
BEGIN:DAYLIGHT
TZOFFSETFROM:-0500
TZOFFSETTO:-0400
TZNAME:EDT
DTSTART:20230312T070000
END:DAYLIGHT
BEGIN:STANDARD
TZOFFSETFROM:-0400
TZOFFSETTO:-0500
TZNAME:EST
DTSTART:20231105T060000
END:STANDARD
BEGIN:DAYLIGHT
TZOFFSETFROM:-0500
TZOFFSETTO:-0400
TZNAME:EDT
DTSTART:20240310T070000
END:DAYLIGHT
BEGIN:STANDARD
TZOFFSETFROM:-0400
TZOFFSETTO:-0500
TZNAME:EST
DTSTART:20241103T060000
END:STANDARD
END:VTIMEZONE
BEGIN:VEVENT
DTSTART;TZID=America/New_York:20230923T130000
DTEND;TZID=America/New_York:20230923T170000
DTSTAMP:20260422T082927
CREATED:20230829T180355Z
LAST-MODIFIED:20230829T180355Z
UID:10006666-1695474000-1695488400@gridphilly.com
SUMMARY:TAPS UNDER THE TOWERS: NEW RIDGE + FRIENDS THROW A BEER FEST!
DESCRIPTION:New Ridge Brewing Co. is hosting Roxborough’s first beer fest this fall! 20+ Local breweries! Live music! Pig roast from Green Meadow Farm!\n\n\nJoin New Ridge Brewing Co. for an afternoon of beers & cheers at TAPS UNDER THE TOWERS\, on Saturday\, September 23\, 2023! We will be announcing the list of 20+ breweries soon! \n Every ticket comes with a 5oz tasting glass for UNLIMITED pours from 1-5pm!  \n**Portion of proceeds will benefit Friends of the Wissahickon! We love our neighborhood\, and this organization conserves\, improves\, and promotes wellbeing for over 1\,800 acres of Wissahickon Valley Park. We’ve all spent quality time in the beautiful & wild Wiss…many thanks to FOW for their work!** \nFood and merch will be available for purchase…including a whole pig roast from our friends at Green Meadow Farm (don’t worry\, we’ll have veg options too!!)! There will also be live music from Mitchell Street Phillbillies! \nLooking forward to tasting ALL of the styles with you beautiful humans! \n\n\nTAPS UNDER THE TOWERS POLICIES/RULES: \nREFUND POLICY: \n\nContact New Ridge Brewing Co. to request a refund up to 09/13/2023\nTickets are not transferable\nEventbrite’s fee is nonrefundable\n\nEVENT GUIDELINES/INFO: \n\nEVENT IS 21+ ONLY!!! VALID IDS WILL BE CHECKED UPON ENTRY! For all you parents out there\, no kiddos/babes allowed! Sorry!\nEvent is located in the park/parking lot at 6170 Ridge Avenue\, Philadelphia\, PA\, 19128. Entrance will be in the park adjacent to our pub.\nFree/paid street parking is typically available. There are also 2 paid parking lots off of Leverington Avenue & Dupont Street nearby.\nNo pets allowed\, unfortunately! Service animals will be accepted. \nNo outisde food or beverage allowed inside the event…this sadly includes your favorite Nalgene. But don’t fret! We will provide plenty of water to keep everyone hydrated\, free of charge!\nTaps Under the Towers is an unlimited beer fest…however we will be following RAMP & general NRBC guidelines. Anyone that is visibily intoxicated and/or behaving in a disrespectful/unsafe manner will kindly be asked to leave. Simply put. Have fun\, drink beer\, and don’t be a dick 🙂 Please & thank you!\nSecurity will be monitoring the event. \nPlease feel free to reach out to info@newridgebrewing.com with any questions!\nCHEERS!
URL:https://gridphilly.com/event/taps-under-the-towers-new-ridge-friends-throw-a-beer-fest/
LOCATION:6170 Ridge Avenue\, Philadelphia\, PA\, USA\, 6170 Ridge Avenue\, Philadelphia\, PA\, 19128\, United States
END:VEVENT
END:VCALENDAR