BEGIN:VCALENDAR
VERSION:2.0
PRODID:-//Grid Magazine - ECPv6.15.20//NONSGML v1.0//EN
CALSCALE:GREGORIAN
METHOD:PUBLISH
X-WR-CALNAME:Grid Magazine
X-ORIGINAL-URL:https://gridphilly.com
X-WR-CALDESC:Events for Grid Magazine
REFRESH-INTERVAL;VALUE=DURATION:PT1H
X-Robots-Tag:noindex
X-PUBLISHED-TTL:PT1H
BEGIN:VTIMEZONE
TZID:America/New_York
BEGIN:DAYLIGHT
TZOFFSETFROM:-0500
TZOFFSETTO:-0400
TZNAME:EDT
DTSTART:20240310T070000
END:DAYLIGHT
BEGIN:STANDARD
TZOFFSETFROM:-0400
TZOFFSETTO:-0500
TZNAME:EST
DTSTART:20241103T060000
END:STANDARD
BEGIN:DAYLIGHT
TZOFFSETFROM:-0500
TZOFFSETTO:-0400
TZNAME:EDT
DTSTART:20250309T070000
END:DAYLIGHT
BEGIN:STANDARD
TZOFFSETFROM:-0400
TZOFFSETTO:-0500
TZNAME:EST
DTSTART:20251102T060000
END:STANDARD
BEGIN:DAYLIGHT
TZOFFSETFROM:-0500
TZOFFSETTO:-0400
TZNAME:EDT
DTSTART:20260308T070000
END:DAYLIGHT
BEGIN:STANDARD
TZOFFSETFROM:-0400
TZOFFSETTO:-0500
TZNAME:EST
DTSTART:20261101T060000
END:STANDARD
END:VTIMEZONE
BEGIN:VEVENT
DTSTART;TZID=America/New_York:20250405T100000
DTEND;TZID=America/New_York:20250405T130000
DTSTAMP:20260421T100526
CREATED:20250328T145028Z
LAST-MODIFIED:20250328T145028Z
UID:10018040-1743847200-1743858000@gridphilly.com
SUMMARY:Northwest Community Spring Clean Up Project: Round 2!
DESCRIPTION:Join us Sat\, April 5th\, 10AM-1PM for the NW Community Spring Clean-Up! Meet at 5549 Germantown Ave. Tools & coffee provided!\n\n\nJoin us for the Northwest Community Spring Clean-Up Project — Round 2! \nLet’s come together to make our community shine! On Saturday\, April 5th\, from 10 AM to 1 PM\, we’ll be gathering at Treasures (5549 Germantown Ave.) for a neighborhood clean-up effort as part of the Philly Spring Cleanup initiative. \nWe’ll provide all tools and gloves — just bring your energy and community spirit! \n☕ Coffee and refreshments provided📍 Meeting Place: Treasures\, 5549 Germantown Ave.🧤 Supplies: Tools and gloves provided \nThis clean-up is hosted by a coalition of incredible local organizations working together to make a difference in Northwest Philly. Last year we had over 125+ volunteers and this year we are making it even beter!  \nLet’s get out\, meet our neighbors\, and show some Germantown pride! \nQuestions? Contact Germantown United CDC or any of the hosting organizations. \n#PhillySpringCleanup #Germantown #CommunityInAction #KeepGermantownClean
URL:https://gridphilly.com/event/northwest-community-spring-clean-up-project-round-2/
LOCATION:5549 Germantown Ave\, 5549 Germantown Avenue\, Philadelphia\, PA\, 19144\, United States
ATTACH;FMTTYPE=image/jpeg:https://gridphilly.com/wp-content/uploads/2025/03/b784372133a91efddbc95c64397646dd.jpg
END:VEVENT
END:VCALENDAR