BEGIN:VCALENDAR
VERSION:2.0
PRODID:-//Grid Magazine - ECPv6.15.20//NONSGML v1.0//EN
CALSCALE:GREGORIAN
METHOD:PUBLISH
X-WR-CALNAME:Grid Magazine
X-ORIGINAL-URL:https://gridphilly.com
X-WR-CALDESC:Events for Grid Magazine
REFRESH-INTERVAL;VALUE=DURATION:PT1H
X-Robots-Tag:noindex
X-PUBLISHED-TTL:PT1H
BEGIN:VTIMEZONE
TZID:America/New_York
BEGIN:DAYLIGHT
TZOFFSETFROM:-0500
TZOFFSETTO:-0400
TZNAME:EDT
DTSTART:20240310T070000
END:DAYLIGHT
BEGIN:STANDARD
TZOFFSETFROM:-0400
TZOFFSETTO:-0500
TZNAME:EST
DTSTART:20241103T060000
END:STANDARD
BEGIN:DAYLIGHT
TZOFFSETFROM:-0500
TZOFFSETTO:-0400
TZNAME:EDT
DTSTART:20250309T070000
END:DAYLIGHT
BEGIN:STANDARD
TZOFFSETFROM:-0400
TZOFFSETTO:-0500
TZNAME:EST
DTSTART:20251102T060000
END:STANDARD
BEGIN:DAYLIGHT
TZOFFSETFROM:-0500
TZOFFSETTO:-0400
TZNAME:EDT
DTSTART:20260308T070000
END:DAYLIGHT
BEGIN:STANDARD
TZOFFSETFROM:-0400
TZOFFSETTO:-0500
TZNAME:EST
DTSTART:20261101T060000
END:STANDARD
END:VTIMEZONE
BEGIN:VEVENT
DTSTART;TZID=America/New_York:20251107T130000
DTEND;TZID=America/New_York:20251107T150000
DTSTAMP:20260420T004044
CREATED:20251105T193132Z
LAST-MODIFIED:20251105T194357Z
UID:10024258-1762520400-1762527600@gridphilly.com
SUMMARY:African Market Day Mural Dedication
DESCRIPTION:Join us to celebrate a new mural created in collaboration with the African Cultural Alliance of North America (ACANA).\n\n\nJoin us to celebrate a new mural created in collaboration with the African Cultural Alliance of North America (ACANA). Mural Arts Philadelphia partnered with ACANA to strengthen connections among long-time residents and members of African diaspora communities in Southwest Philadelphia. \nAfrican Market Day\, designed by Liberian artist Abu Fofana and painted by Philadelphia native Parris Stancell\, celebrates the neighborhood’s identity as part of Africatown—a place shaped by migration\, tradition\, and community pride. The mural honors the spirit of home that links Southwest Philadelphia to cultures across the African continent and beyond.
URL:https://gridphilly.com/event/african-market-day-mural-dedication/
LOCATION:5521 Chester Ave\, 5521 Chester Avenue\, Philadelphia\, PA\, 19143\, United States
ATTACH;FMTTYPE=image/jpeg:https://gridphilly.com/wp-content/uploads/2025/11/269ae05ed5e413d092f67e5ba2795f9b.jpg
END:VEVENT
END:VCALENDAR