BEGIN:VCALENDAR
VERSION:2.0
PRODID:-//Grid Magazine - ECPv6.15.20//NONSGML v1.0//EN
CALSCALE:GREGORIAN
METHOD:PUBLISH
X-ORIGINAL-URL:https://gridphilly.com
X-WR-CALDESC:Events for Grid Magazine
REFRESH-INTERVAL;VALUE=DURATION:PT1H
X-Robots-Tag:noindex
X-PUBLISHED-TTL:PT1H
BEGIN:VTIMEZONE
TZID:America/New_York
BEGIN:DAYLIGHT
TZOFFSETFROM:-0500
TZOFFSETTO:-0400
TZNAME:EDT
DTSTART:20240310T070000
END:DAYLIGHT
BEGIN:STANDARD
TZOFFSETFROM:-0400
TZOFFSETTO:-0500
TZNAME:EST
DTSTART:20241103T060000
END:STANDARD
BEGIN:DAYLIGHT
TZOFFSETFROM:-0500
TZOFFSETTO:-0400
TZNAME:EDT
DTSTART:20250309T070000
END:DAYLIGHT
BEGIN:STANDARD
TZOFFSETFROM:-0400
TZOFFSETTO:-0500
TZNAME:EST
DTSTART:20251102T060000
END:STANDARD
BEGIN:DAYLIGHT
TZOFFSETFROM:-0500
TZOFFSETTO:-0400
TZNAME:EDT
DTSTART:20260308T070000
END:DAYLIGHT
BEGIN:STANDARD
TZOFFSETFROM:-0400
TZOFFSETTO:-0500
TZNAME:EST
DTSTART:20261101T060000
END:STANDARD
END:VTIMEZONE
BEGIN:VEVENT
DTSTART;TZID=America/New_York:20251004T130000
DTEND;TZID=America/New_York:20251004T150000
DTSTAMP:20260424T203146
CREATED:20251002T143655Z
LAST-MODIFIED:20251002T143655Z
UID:10022915-1759582800-1759590000@gridphilly.com
SUMMARY:Ribbon Cutting for JSM Cuisine – Authentic West African Dining in Lansdowne
DESCRIPTION:Join us in celebrating the grand opening of JSM Cuisine’s Lansdowne location!\n\n\nThis new full-service restaurant brings the vibrant flavors of West Africa to 55 East Baltimore Avenue. Founded by Josephine Larmena\, Sam Glaweah\, and Chef Musu Kun\, JSM Cuisine will be a gathering place rooted in tradition\, community\, and love. \nCome meet the owners\, take part in the ribbon cutting\, and experience the warmth of Lansdowne’s newest dining destination. \nFree and open to the public. RSVP today! \nDetails:📍 JSM Cuisine – 55 East Baltimore Avenue\, Lansdowne\, PA📅 October 4 | 1:00 PM \nSneak Peek at the Menu:Appetizers Roasted meat/kebab Skewers (Beef or Chicken) – $10 Plantain Chips with Spicy Dip (Vegan) – $6  \nMain Courses Jollof Rice with Grilled Chicken – $20 Classic West African tomato-based rice dish Egusi Stew with Fufu – $20 Traditional melon seed stew with your choice of meat or smoked fish\, served with fufu (vegan option available without meat/fish). Vegetable and Peanut Stew (Vegan) – $20 Rich peanut sauce with seasonal vegetables\, served with rice or fufu. Goat Pepper Soup – $25 Spicy\, hearty West African goat soup with herbs and spices.  \nSides Fried Plantains (Vegan) – $5 Spicy pepper Sauce – $2  \nDesserts Cheese Cake $5 Eclairs $5  \nBeverages $Life taste $5 Ginger Beer $5 Seamoss $5 \nHours of Operation:11am-11pm 11pm-3am Pickup only
URL:https://gridphilly.com/event/ribbon-cutting-for-jsm-cuisine-authentic-west-african-dining-in-lansdowne/
LOCATION:55 E Baltimore Ave\, 55 East Baltimore Avenue\, Lansdowne\, PA\, 19050\, United States
ATTACH;FMTTYPE=image/jpeg:https://gridphilly.com/wp-content/uploads/2025/10/5b649ece80ee19ecf89f6305dd278143.jpg
END:VEVENT
END:VCALENDAR