BEGIN:VCALENDAR
VERSION:2.0
PRODID:-//Grid Magazine - ECPv6.15.20//NONSGML v1.0//EN
CALSCALE:GREGORIAN
METHOD:PUBLISH
X-WR-CALNAME:Grid Magazine
X-ORIGINAL-URL:https://gridphilly.com
X-WR-CALDESC:Events for Grid Magazine
REFRESH-INTERVAL;VALUE=DURATION:PT1H
X-Robots-Tag:noindex
X-PUBLISHED-TTL:PT1H
BEGIN:VTIMEZONE
TZID:America/New_York
BEGIN:DAYLIGHT
TZOFFSETFROM:-0500
TZOFFSETTO:-0400
TZNAME:EDT
DTSTART:20240310T070000
END:DAYLIGHT
BEGIN:STANDARD
TZOFFSETFROM:-0400
TZOFFSETTO:-0500
TZNAME:EST
DTSTART:20241103T060000
END:STANDARD
BEGIN:DAYLIGHT
TZOFFSETFROM:-0500
TZOFFSETTO:-0400
TZNAME:EDT
DTSTART:20250309T070000
END:DAYLIGHT
BEGIN:STANDARD
TZOFFSETFROM:-0400
TZOFFSETTO:-0500
TZNAME:EST
DTSTART:20251102T060000
END:STANDARD
BEGIN:DAYLIGHT
TZOFFSETFROM:-0500
TZOFFSETTO:-0400
TZNAME:EDT
DTSTART:20260308T070000
END:DAYLIGHT
BEGIN:STANDARD
TZOFFSETFROM:-0400
TZOFFSETTO:-0500
TZNAME:EST
DTSTART:20261101T060000
END:STANDARD
BEGIN:DAYLIGHT
TZOFFSETFROM:-0500
TZOFFSETTO:-0400
TZNAME:EDT
DTSTART:20270314T070000
END:DAYLIGHT
BEGIN:STANDARD
TZOFFSETFROM:-0400
TZOFFSETTO:-0500
TZNAME:EST
DTSTART:20271107T060000
END:STANDARD
END:VTIMEZONE
BEGIN:VEVENT
DTSTART;TZID=America/New_York:20260415T183000
DTEND;TZID=America/New_York:20260415T193000
DTSTAMP:20260424T085637
CREATED:20260223T201922Z
LAST-MODIFIED:20260223T201958Z
UID:10029131-1776277800-1776281400@gridphilly.com
SUMMARY:CCCG Education Series 2026
DESCRIPTION:CCCG Education Series: Join us in person for the CCCG Education Series monthly this January  to December 2026!\n\n\nCCCG Education Series:\nJoin us monthly in person for the CCCG Education Series this January to December 2026! It’s a great chance to dive into exciting topics\, connect with others\, and boost your skills. Don’t miss out on this fun and informative event—mark your calendar and get ready to learn and engage live! \n \nDate Topic Description \n1/28/2026 Winter Sowing \nLearn how to start seeds in milk jugs for spring planting – receive milk jug/seeds \n2/25/2026 Hydroponics \nLearn about hydroponics (growing in water) and receive produce \n3/25/2026 Starting a Vegetable Garden \nLearn about planting vegetables and receive seeds \n4/15/2026 Composting /Container Gardening \nLearn about composting and receive bin or container \n5/6/2026 Bee Friendly/ No Mow Gardens \nLearn about bees and other pollinators and how to protect their environment \n6/24/2026 Roses and Tea \nLearn about roses and how to use botanicals for tea \n7/22/2026 Replacing Lawn/creating Pollinator Habitat \nLearn how to reduce your lawn and plan for various types of gardens \n8/26/2026 Monarch Friendly/Native Gardens \nLearn about the Monarch butterfly and how to sustain them \n9/23/2026 Botanicals \nLearn how to use botanicals\, sample mocktails \n10/28/2026 Creating a Terrarium \nLearn about terrariums and the plants used in them – create a mini terrarium \n11/18/2026 Herbs and Herbal Teas \nLearn how to grow herbs and how to use them in teas \n12/16/2026 Houseplants  \nLearn how to grow and care for houseplants – go home with a spider plant
URL:https://gridphilly.com/event/cccg-education-series-2026-2/
LOCATION:508 Lakeland Rd\, 508 Lakeland Road\, Gloucester Township\, NJ\, 08012\, United States
ATTACH;FMTTYPE=image/jpeg:https://gridphilly.com/wp-content/uploads/2026/01/abac905be884b54cd9a8ecaffddbc979.jpg
END:VEVENT
BEGIN:VEVENT
DTSTART;TZID=America/New_York:20260207T100000
DTEND;TZID=America/New_York:20260207T120000
DTSTAMP:20260424T085637
CREATED:20260202T174803Z
LAST-MODIFIED:20260202T175003Z
UID:10028702-1770458400-1770465600@gridphilly.com
SUMMARY:Make & Take: Bulb Forcing
DESCRIPTION:Join us for a class on bulb forcing and learn the techniques to bring a little spring happiness into your home.\n\n\nBulb Forcing \nDate: Saturday\, February 7\, 2026 \nTime: 10:00am – 12:00pm \nPresenters & Team: Elizabeth Ackroyd\, Betsy Saunders \nTrying to beat the winter blues? Join us for a class on bulb forcing and learn the techniques to bring a little spring happiness into your home. Participants will make small bulb garden to take home to watch grow and bloom. All supplies and bulbs will be provided. \nParticipant Level: Adult \nClass size: 30 people \nCost: $25.00 per person
URL:https://gridphilly.com/event/make-take-bulb-forcing/
LOCATION:508 Lakeland Rd\, 508 Lakeland Road\, Gloucester Township\, NJ\, 08012\, United States
ATTACH;FMTTYPE=image/jpeg:https://gridphilly.com/wp-content/uploads/2026/02/17216c65ab1d536a728d67a66cb49053.jpg
END:VEVENT
BEGIN:VEVENT
DTSTART;TZID=America/New_York:20260128T183000
DTEND;TZID=America/New_York:20260128T193000
DTSTAMP:20260424T085637
CREATED:20260126T144218Z
LAST-MODIFIED:20260126T144412Z
UID:10028605-1769625000-1769628600@gridphilly.com
SUMMARY:CCCG Education Series 2026
DESCRIPTION:CCCG Education Series: Join us in person for the CCCG Education Series monthly this January  to December 2026!\n\n\nCCCG Education Series:\nJoin us monthly in person for the CCCG Education Series this January to December 2026! It’s a great chance to dive into exciting topics\, connect with others\, and boost your skills. Don’t miss out on this fun and informative event—mark your calendar and get ready to learn and engage live! \n \nDate Topic Description \n1/28/2026 Winter Sowing \nLearn how to start seeds in milk jugs for spring planting – receive milk jug/seeds \n2/25/2026 Hydroponics \nLearn about hydroponics (growing in water) and receive produce \n3/25/2026 Starting a Vegetable Garden \nLearn about planting vegetables and receive seeds \n4/15/2026 Composting /Container Gardening \nLearn about composting and receive bin or container \n5/6/2026 Bee Friendly/ No Mow Gardens \nLearn about bees and other pollinators and how to protect their environment \n6/24/2026 Roses and Tea \nLearn about roses and how to use botanicals for tea \n7/22/2026 Replacing Lawn/creating Pollinator Habitat \nLearn how to reduce your lawn and plan for various types of gardens \n8/26/2026 Monarch Friendly/Native Gardens \nLearn about the Monarch butterfly and how to sustain them \n9/23/2026 Botanicals \nLearn how to use botanicals\, sample mocktails \n10/28/2026 Creating a Terrarium \nLearn about terrariums and the plants used in them – create a mini terrarium \n11/18/2026 Herbs and Herbal Teas \nLearn how to grow herbs and how to use them in teas \n12/16/2026 Houseplants  \nLearn how to grow and care for houseplants – go home with a spider plant
URL:https://gridphilly.com/event/cccg-education-series-2026/
LOCATION:508 Lakeland Rd\, 508 Lakeland Road\, Gloucester Township\, NJ\, 08012\, United States
ATTACH;FMTTYPE=image/jpeg:https://gridphilly.com/wp-content/uploads/2026/01/abac905be884b54cd9a8ecaffddbc979.jpg
END:VEVENT
BEGIN:VEVENT
DTSTART;TZID=America/New_York:20260110T100000
DTEND;TZID=America/New_York:20260110T120000
DTSTAMP:20260424T085637
CREATED:20260104T231623Z
LAST-MODIFIED:20260104T231623Z
UID:10027952-1768039200-1768046400@gridphilly.com
SUMMARY:Make & Take:  Winter Sowing
DESCRIPTION:Learn about Winter Sowing\n\n\nWinter Sowing \nDate: Saturday\, January 10\, 2026 \nTime: 10:00am – 12:00pm \nPresenters & Team: Elizabeth Blauvelt\, Lisa Howard\, Cali Bledy \nBelieve it or not you can garden in the winter! Please join us for this class and learn all about the process for winter sowing. Participants will make three seed sowing jugs to jump start their spring gardens. All supplies and seeds provided. \nParticipant Level: Adult \nClass size: 30 people \nCost: $15.00 per person
URL:https://gridphilly.com/event/make-take-winter-sowing/
LOCATION:508 Lakeland Rd\, 508 Lakeland Road\, Gloucester Township\, NJ\, 08012\, United States
ATTACH;FMTTYPE=image/jpeg:https://gridphilly.com/wp-content/uploads/2026/01/d8f3ed011f5dcbe10af46c7123476cd2.jpg
END:VEVENT
BEGIN:VEVENT
DTSTART;TZID=America/New_York:20250405T130000
DTEND;TZID=America/New_York:20250405T150000
DTSTAMP:20260424T085637
CREATED:20250328T150113Z
LAST-MODIFIED:20250328T150113Z
UID:10018053-1743858000-1743865200@gridphilly.com
SUMMARY:CCCG April 2025 Make & Take:  Afternoon Session: From Seed to Plant
DESCRIPTION:Afternoon Session: From Seed to Plant 1pm – 3pm. Learn the ins and outs of seed starting.\n\n\nDate: Saturday\, April 5\, 2025 1:00pm – 3:00pm \nFrom Seed to Plant – Develop your skills in seed starting and in seed up-potting in this greenhouse hands-on afternoon session. Participants will learn the ins and outs of seed starting and will take home an entire tray of their newly planted seeds for their bounty-full vegetable and herb plot. Afternoon class 1:00pm – 3:00pm. \nAfternoon Sessions Fee: $15.00 per adult\, $10.00 for children ages 10-16 with an adult. \nRegister Today! \nPlease note\, the morning session\, Vegetable Garden Design\, requires separate registration. \nFollow this link to register for the morning session.
URL:https://gridphilly.com/event/cccg-april-2025-make-take-afternoon-session-from-seed-to-plant/
LOCATION:508 Lakeland Rd\, 508 Lakeland Road\, Gloucester Township\, NJ\, 08012\, United States
ATTACH;FMTTYPE=image/jpeg:https://gridphilly.com/wp-content/uploads/2025/03/eabf82156c78eba28d9666fc85861a25.jpg
END:VEVENT
BEGIN:VEVENT
DTSTART;TZID=America/New_York:20250125T100000
DTEND;TZID=America/New_York:20250125T120000
DTSTAMP:20260424T085637
CREATED:20241217T011040Z
LAST-MODIFIED:20241217T011040Z
UID:10016074-1737799200-1737806400@gridphilly.com
SUMMARY:Community Gardens Networking Event
DESCRIPTION:Join us for a day of connection\, learning\, and sharing!\n\n\nJoin us for a day of connection\, learning\, and sharing! \nWhen: Saturday\, January 25\, 2025 \nTime: 10 am – 12 pm \nWhere: Camden County Sustainability Building \n508 Lakeland Road\, Blackwood \nConnect with other garden leaders and gardeners \n\nShare experiences and best practices\nLearn about new techniques and resources\nDiscuss pressing issues facing community gardens\n\nParticipate in a seed swap starting at noon \n\nExchange seeds with fellow gardeners\nHelp preserve local biodiversity\n\nEvent is FREE and all are welcome to learn and join the conversation \nOrganized by: Camden County Certified Gardeners (CCCG) and Camden County Office of Sustainability (CCOS)
URL:https://gridphilly.com/event/community-gardens-networking-event/
LOCATION:508 Lakeland Rd\, 508 Lakeland Road\, Gloucester Township\, NJ\, 08012\, United States
ATTACH;FMTTYPE=image/jpeg:https://gridphilly.com/wp-content/uploads/2024/12/ea96fb4e6b9234adb44df751acc16728.jpg
END:VEVENT
END:VCALENDAR