BEGIN:VCALENDAR
VERSION:2.0
PRODID:-//Grid Magazine - ECPv6.15.20//NONSGML v1.0//EN
CALSCALE:GREGORIAN
METHOD:PUBLISH
X-WR-CALNAME:Grid Magazine
X-ORIGINAL-URL:https://gridphilly.com
X-WR-CALDESC:Events for Grid Magazine
REFRESH-INTERVAL;VALUE=DURATION:PT1H
X-Robots-Tag:noindex
X-PUBLISHED-TTL:PT1H
BEGIN:VTIMEZONE
TZID:UTC
BEGIN:STANDARD
TZOFFSETFROM:+0000
TZOFFSETTO:+0000
TZNAME:UTC
DTSTART:20230101T000000
END:STANDARD
END:VTIMEZONE
BEGIN:VEVENT
DTSTART;TZID=UTC:20240604T080000
DTEND;TZID=UTC:20240605T210000
DTSTAMP:20260422T082115
CREATED:20240528T190417Z
LAST-MODIFIED:20240528T190604Z
UID:10013088-1717488000-1717621200@gridphilly.com
SUMMARY:SPEAK UP for Parking-Protected Bike Lanes
DESCRIPTION:SPEAK UP for Parking-Protected Bike Lanes\n\nWhat do we want? Parking-protected bike lanes!\nWhen do want them? NOW!\n\nJoin the Bicycle Coalition and Families for Safe Streets Greater Philadelphia as we head back to Harrisburg on Tuesday\, June 4th to talk to elected officials about the benefits of Parking Protected Bike Lanes and why it’s urgent they be legalized across the commonwealth.\nCurrently\, PennDOT does not allow for the installation of parking-separated bike lanes on state-owned roads. Amending state legislation is an issue that the Bicycle Coalition\, the City of Philadelphia\, and our partners have been working on since the 2017-2018 legislative session. As an interim solution\, PennDOT has permitted a pilot program to demonstrate protected bike lanes on selected state roads in Philadelphia. An interim solution is not enough — we need this program to be made permanent.\nJoin us in calling on our state legislators to save lives by passing HB1283.\nAdditional information & sign-up available here.\nIf you can’t attend on June 4th\, you can still SPEAK UP — send a letter to your state legislators using our easy template: bit.ly/yes2ppbl
URL:https://gridphilly.com/event/speak-up-for-parking-protected-bike-lanes/
LOCATION:501 N 3rd St Harrisburg\, Pennsylvania 17120
CATEGORIES:Advocacy
END:VEVENT
END:VCALENDAR