BEGIN:VCALENDAR
VERSION:2.0
PRODID:-//Grid Magazine - ECPv6.15.20//NONSGML v1.0//EN
CALSCALE:GREGORIAN
METHOD:PUBLISH
X-WR-CALNAME:Grid Magazine
X-ORIGINAL-URL:https://gridphilly.com
X-WR-CALDESC:Events for Grid Magazine
REFRESH-INTERVAL;VALUE=DURATION:PT1H
X-Robots-Tag:noindex
X-PUBLISHED-TTL:PT1H
BEGIN:VTIMEZONE
TZID:America/New_York
BEGIN:DAYLIGHT
TZOFFSETFROM:-0500
TZOFFSETTO:-0400
TZNAME:EDT
DTSTART:20250309T070000
END:DAYLIGHT
BEGIN:STANDARD
TZOFFSETFROM:-0400
TZOFFSETTO:-0500
TZNAME:EST
DTSTART:20251102T060000
END:STANDARD
BEGIN:DAYLIGHT
TZOFFSETFROM:-0500
TZOFFSETTO:-0400
TZNAME:EDT
DTSTART:20260308T070000
END:DAYLIGHT
BEGIN:STANDARD
TZOFFSETFROM:-0400
TZOFFSETTO:-0500
TZNAME:EST
DTSTART:20261101T060000
END:STANDARD
BEGIN:DAYLIGHT
TZOFFSETFROM:-0500
TZOFFSETTO:-0400
TZNAME:EDT
DTSTART:20270314T070000
END:DAYLIGHT
BEGIN:STANDARD
TZOFFSETFROM:-0400
TZOFFSETTO:-0500
TZNAME:EST
DTSTART:20271107T060000
END:STANDARD
END:VTIMEZONE
BEGIN:VEVENT
DTSTART;TZID=America/New_York:20260507T170000
DTEND;TZID=America/New_York:20260507T193000
DTSTAMP:20260419T160111
CREATED:20260419T023159Z
LAST-MODIFIED:20260419T023159Z
UID:10032419-1778173200-1778182200@gridphilly.com
SUMMARY:Afro STEAM Youth Sciences Fair
DESCRIPTION:An in-person and livestream conference showcasing youth STEAM research\, development\, and artistic Design!\n\n\nAn in-person and livestream conference showcasing youth Robotics\, Environmental Science Research\, Animation\, and Comic Book Production for registered community and Philly Tech Week attendees. \nThe event aims to: \n\nShowcase youth to STEAM career pathways\nHighlight culturally responsive Afro STEAM education\nPlatform Youth STEAM research and developed skillset\nBridge universities\, community organizations\, and youth education advocates\nPromote student-centered education models\nIncrease community representation in STEAM industries
URL:https://gridphilly.com/event/afro-steam-youth-sciences-fair/
LOCATION:4821 Germantown Ave\, 4821 Germantown Avenue\, Philadelphia\, PA\, 19144\, United States
ATTACH;FMTTYPE=image/jpeg:https://gridphilly.com/wp-content/uploads/2026/04/efa135e041b1f3b8b7e285bad191b3ca.jpg
END:VEVENT
END:VCALENDAR