BEGIN:VCALENDAR
VERSION:2.0
PRODID:-//Grid Magazine - ECPv6.15.20//NONSGML v1.0//EN
CALSCALE:GREGORIAN
METHOD:PUBLISH
X-ORIGINAL-URL:https://gridphilly.com
X-WR-CALDESC:Events for Grid Magazine
REFRESH-INTERVAL;VALUE=DURATION:PT1H
X-Robots-Tag:noindex
X-PUBLISHED-TTL:PT1H
BEGIN:VTIMEZONE
TZID:America/New_York
BEGIN:DAYLIGHT
TZOFFSETFROM:-0500
TZOFFSETTO:-0400
TZNAME:EDT
DTSTART:20240310T070000
END:DAYLIGHT
BEGIN:STANDARD
TZOFFSETFROM:-0400
TZOFFSETTO:-0500
TZNAME:EST
DTSTART:20241103T060000
END:STANDARD
BEGIN:DAYLIGHT
TZOFFSETFROM:-0500
TZOFFSETTO:-0400
TZNAME:EDT
DTSTART:20250309T070000
END:DAYLIGHT
BEGIN:STANDARD
TZOFFSETFROM:-0400
TZOFFSETTO:-0500
TZNAME:EST
DTSTART:20251102T060000
END:STANDARD
BEGIN:DAYLIGHT
TZOFFSETFROM:-0500
TZOFFSETTO:-0400
TZNAME:EDT
DTSTART:20260308T070000
END:DAYLIGHT
BEGIN:STANDARD
TZOFFSETFROM:-0400
TZOFFSETTO:-0500
TZNAME:EST
DTSTART:20261101T060000
END:STANDARD
END:VTIMEZONE
BEGIN:VEVENT
DTSTART;TZID=America/New_York:20250308T113000
DTEND;TZID=America/New_York:20250308T133000
DTSTAMP:20260422T042555
CREATED:20250303T203508Z
LAST-MODIFIED:20250303T203508Z
UID:10017446-1741433400-1741440600@gridphilly.com
SUMMARY:VU PHL + Books Through Bars
DESCRIPTION:Join VU PHL as we help Books Through Bars sort/process books to send to incarcerated people for free\n\n\nBooks Through Bars has been sending free books to incarcerated people in six mid-Atlantic states (Pennsylvania\, New York\, New Jersey\, Delaware\, Maryland\, and Virginia) for over 30 years.  \nThey do their best to send the books people ask them for\, whatever those may be. By fulfilling all requests to the best of their ability\, they work to support self-determination\, self-education\, and healing behind bars. \nBy donating books\, you can help ensure that incarcerated people receive the books they need! \nWhat we will be doing on Saturday\, March 8th \, 11:30AM – 1 :30PM: \nYou’ll have the chance to review heartfelt letters\, select the perfect books for each request\, and help prepare orders by invoicing and packing. With a variety of tasks available each day\, we ensure your experience is both engaging and accommodating—including tailored support for mobility needs. Come be a part of something special! \nNotes ahead of the event! \n\nFace masks are required for this event. \nAfter volunteering\, we will go to a local bar/restaurant for a celebratory afterjawn!\n\n \nParking & Transportation \n\nParking: There is a lot next to Books Through Bars space\, as well as street parking.\nSEPTA:  Books Through Bars is right on the 34 line and close to the 13 or the El.\n\n \nA note about cancellations: \nIf your schedule changes and you can no longer make it\, please email volunteeringuntappedphl@gmail.com ASAP to let us know. This way your spot can be given to someone else on the waitlist. THANK YOU!
URL:https://gridphilly.com/event/vu-phl-books-through-bars-3/
LOCATION:4722 Baltimore Ave\, 4722 Baltimore Avenue\, Philadelphia\, PA\, 19143\, United States
ATTACH;FMTTYPE=image/jpeg:https://gridphilly.com/wp-content/uploads/2025/03/4056be0e7e209d4c1d2f51ac026a55cb.jpg
END:VEVENT
END:VCALENDAR