BEGIN:VCALENDAR
VERSION:2.0
PRODID:-//Grid Magazine - ECPv6.15.20//NONSGML v1.0//EN
CALSCALE:GREGORIAN
METHOD:PUBLISH
X-ORIGINAL-URL:https://gridphilly.com
X-WR-CALDESC:Events for Grid Magazine
REFRESH-INTERVAL;VALUE=DURATION:PT1H
X-Robots-Tag:noindex
X-PUBLISHED-TTL:PT1H
BEGIN:VTIMEZONE
TZID:America/New_York
BEGIN:DAYLIGHT
TZOFFSETFROM:-0500
TZOFFSETTO:-0400
TZNAME:EDT
DTSTART:20250309T070000
END:DAYLIGHT
BEGIN:STANDARD
TZOFFSETFROM:-0400
TZOFFSETTO:-0500
TZNAME:EST
DTSTART:20251102T060000
END:STANDARD
BEGIN:DAYLIGHT
TZOFFSETFROM:-0500
TZOFFSETTO:-0400
TZNAME:EDT
DTSTART:20260308T070000
END:DAYLIGHT
BEGIN:STANDARD
TZOFFSETFROM:-0400
TZOFFSETTO:-0500
TZNAME:EST
DTSTART:20261101T060000
END:STANDARD
BEGIN:DAYLIGHT
TZOFFSETFROM:-0500
TZOFFSETTO:-0400
TZNAME:EDT
DTSTART:20270314T070000
END:DAYLIGHT
BEGIN:STANDARD
TZOFFSETFROM:-0400
TZOFFSETTO:-0500
TZNAME:EST
DTSTART:20271107T060000
END:STANDARD
END:VTIMEZONE
BEGIN:VEVENT
DTSTART;TZID=America/New_York:20260412T180000
DTEND;TZID=America/New_York:20260412T210000
DTSTAMP:20260425T232230
CREATED:20260329T232000Z
LAST-MODIFIED:20260409T024158Z
UID:10030611-1776016800-1776027600@gridphilly.com
SUMMARY:Become the Light | Group Mediation
DESCRIPTION:Join us in person to vibe together and brighten your soul at Become the Light | Group Meditation!\n\n\nBecome the Light | Group Mediation\nJoin us in person for a relaxing and uplifting group meditation session. This is your chance to connect with like-minded souls\, find your inner peace\, and truly become the light you wish to see. No experience needed—just bring your open heart and calm mind. Let’s meditate\, breathe\, and shine together!
URL:https://gridphilly.com/event/become-the-light-group-mediation/
LOCATION:4250 Wissahickon Ave\, 4250 Wissahickon Avenue\, Philadelphia\, PA\, 19129\, United States
ATTACH;FMTTYPE=image/jpeg:https://gridphilly.com/wp-content/uploads/2026/04/2dfd97a6e94c0995e068a2f6673bc7da.jpg
END:VEVENT
END:VCALENDAR