BEGIN:VCALENDAR
VERSION:2.0
PRODID:-//Grid Magazine - ECPv6.15.20//NONSGML v1.0//EN
CALSCALE:GREGORIAN
METHOD:PUBLISH
X-WR-CALNAME:Grid Magazine
X-ORIGINAL-URL:https://gridphilly.com
X-WR-CALDESC:Events for Grid Magazine
REFRESH-INTERVAL;VALUE=DURATION:PT1H
X-Robots-Tag:noindex
X-PUBLISHED-TTL:PT1H
BEGIN:VTIMEZONE
TZID:America/New_York
BEGIN:DAYLIGHT
TZOFFSETFROM:-0500
TZOFFSETTO:-0400
TZNAME:EDT
DTSTART:20220313T070000
END:DAYLIGHT
BEGIN:STANDARD
TZOFFSETFROM:-0400
TZOFFSETTO:-0500
TZNAME:EST
DTSTART:20221106T060000
END:STANDARD
BEGIN:DAYLIGHT
TZOFFSETFROM:-0500
TZOFFSETTO:-0400
TZNAME:EDT
DTSTART:20230312T070000
END:DAYLIGHT
BEGIN:STANDARD
TZOFFSETFROM:-0400
TZOFFSETTO:-0500
TZNAME:EST
DTSTART:20231105T060000
END:STANDARD
BEGIN:DAYLIGHT
TZOFFSETFROM:-0500
TZOFFSETTO:-0400
TZNAME:EDT
DTSTART:20240310T070000
END:DAYLIGHT
BEGIN:STANDARD
TZOFFSETFROM:-0400
TZOFFSETTO:-0500
TZNAME:EST
DTSTART:20241103T060000
END:STANDARD
BEGIN:DAYLIGHT
TZOFFSETFROM:-0500
TZOFFSETTO:-0400
TZNAME:EDT
DTSTART:20250309T070000
END:DAYLIGHT
BEGIN:STANDARD
TZOFFSETFROM:-0400
TZOFFSETTO:-0500
TZNAME:EST
DTSTART:20251102T060000
END:STANDARD
END:VTIMEZONE
BEGIN:VEVENT
DTSTART;TZID=America/New_York:20240210T183000
DTEND;TZID=America/New_York:20240210T203000
DTSTAMP:20260420T033455
CREATED:20240129T191101Z
LAST-MODIFIED:20240129T191101Z
UID:10010712-1707589800-1707597000@gridphilly.com
SUMMARY:Blk Ivy Thrift Open Mic Night
DESCRIPTION:In Celebration of Black Joy Month Join Us for our First Open Mic Night Series\n\n\nCalling all poets and poetry lovers! We look forward to celebrating #BlackJoyMonth (and our one year anniversary!) with our beloved community all February long\, and kicking off the festivities will be our first ever open mic\, hosted by @mayaisangelique on Saturday\, February 10th at 6:30pm! \n \nComplimentary alcoholic and non-alcoholic beverages will be served\, so come join us for a drink and a vibe\, on the house! \n \nWe kindly ask our performers to prepare to recite pieces surrounding joy\, optimism\, liberation and progress for our people. \n \nDue to the intimate setting of this event\, seats ar limited so get your ticket today! We look forward to seeing you soon! \n \nFor Performers: \nWe will begin the welcoming of our lineup promptly at 6:45pm\, so we are requesting all poets to arrive on time\, as we will be going in the order of our list of registered performers. \nOf course\, all are most welcome to browse the store and mingle beforehand! \n \nTo ensure a cohesive show run\, we ask that each person limit their piece(s) to 5 minutes or less.
URL:https://gridphilly.com/event/blk-ivy-thrift-open-mic-night/
LOCATION:3605 Lancaster Ave\, 3605 Lancaster Avenue\, Philadelphia\, PA\, 19104\, United States
ATTACH;FMTTYPE=image/jpeg:https://gridphilly.com/wp-content/uploads/2024/01/80cb330e53f903f8274e9165b279ed65.jpg
END:VEVENT
BEGIN:VEVENT
DTSTART;TZID=America/New_York:20230902T140000
DTEND;TZID=America/New_York:20230902T180000
DTSTAMP:20260420T033455
CREATED:20230825T180250Z
LAST-MODIFIED:20230825T180250Z
UID:10006582-1693663200-1693677600@gridphilly.com
SUMMARY:The Preservation Project
DESCRIPTION:Blk Ivy Thrift and Philadelphia Printworks Presents to you: The Preservation Project!\n\n\nIn commemoration of the 60th anniversary of the March on Washington we’ve teamed up with the phenomenal Philadelphia Printworks to create this special capsule collection. The Preservation Project will feature special edition commemorative tee-shirts available in store to purchase at Blk Ivy Thrift. All proceeds will be split evenly between Philadelphia Printworks and Blk Ivy Thrift as we are equal partners in creating The Preservation Project.  \nAs we gear up for the collection going live\, we’re hosting a collection launch party on Saturday\, September 2nd from 2pm-6pm at 3605 Lancaster Avenue. Join us for a live-screen printing activation led by Philadelphia Printworks\, conversations with the founders and of course a handful of commemorative tees available in-store. \nAnd if you’re looking for ways to engage with the project before the launch be sure to check out our “We Demand” Campaign\, installed by the talented street artist\, Symone Salib!  You can find the “We Demand” Campaign in North Philly at 18th & Fairmount and Broad & Spring Garden; in South Philly at Broad & Wharton; and in West Philly at 33rd & Powelton.  \nJoin us Saturday\, Sept. 2nd to be in community with other forward-thinkers while enjoying great food and fun. We hope to see you in the building!
URL:https://gridphilly.com/event/the-preservation-project/
LOCATION:3605 Lancaster Ave\, 3605 Lancaster Avenue\, Philadelphia\, PA\, 19104\, United States
ATTACH;FMTTYPE=image/jpeg:https://gridphilly.com/wp-content/uploads/2023/08/3d9424ae6f275fb9eef51d5bbdc7d4af.jpg
END:VEVENT
END:VCALENDAR