BEGIN:VCALENDAR
VERSION:2.0
PRODID:-//Grid Magazine - ECPv6.15.20//NONSGML v1.0//EN
CALSCALE:GREGORIAN
METHOD:PUBLISH
X-WR-CALNAME:Grid Magazine
X-ORIGINAL-URL:https://gridphilly.com
X-WR-CALDESC:Events for Grid Magazine
REFRESH-INTERVAL;VALUE=DURATION:PT1H
X-Robots-Tag:noindex
X-PUBLISHED-TTL:PT1H
BEGIN:VTIMEZONE
TZID:America/New_York
BEGIN:DAYLIGHT
TZOFFSETFROM:-0500
TZOFFSETTO:-0400
TZNAME:EDT
DTSTART:20230312T070000
END:DAYLIGHT
BEGIN:STANDARD
TZOFFSETFROM:-0400
TZOFFSETTO:-0500
TZNAME:EST
DTSTART:20231105T060000
END:STANDARD
BEGIN:DAYLIGHT
TZOFFSETFROM:-0500
TZOFFSETTO:-0400
TZNAME:EDT
DTSTART:20240310T070000
END:DAYLIGHT
BEGIN:STANDARD
TZOFFSETFROM:-0400
TZOFFSETTO:-0500
TZNAME:EST
DTSTART:20241103T060000
END:STANDARD
BEGIN:DAYLIGHT
TZOFFSETFROM:-0500
TZOFFSETTO:-0400
TZNAME:EDT
DTSTART:20250309T070000
END:DAYLIGHT
BEGIN:STANDARD
TZOFFSETFROM:-0400
TZOFFSETTO:-0500
TZNAME:EST
DTSTART:20251102T060000
END:STANDARD
END:VTIMEZONE
BEGIN:VEVENT
DTSTART;TZID=America/New_York:20241230T000000
DTEND;TZID=America/New_York:20241230T233000
DTSTAMP:20260421T084633
CREATED:20241016T133740Z
LAST-MODIFIED:20241126T164926Z
UID:10015147-1735516800-1735601400@gridphilly.com
SUMMARY:Racial Equity\, Environmental Justice & Community Stewardship of Real Estate
DESCRIPTION:Community Land Stewardship work is one way to create climate resilience in a way that centers equity and racial justice.\n\n\nAs low-income BIPOC communities across the US continue to grapple with increasing racial\, health\, and economic disparities\, the root cause of these inequities remains the same—a country founded upon the slavery of Black People and the genocide of Indigengous People\, as well as extending US imperialism to other parts of the world. As a result of racist policies and practices\, our communities have become sacrifice zones for the benefit of whiter\, wealthier communities and community voices have been silenced\, limiting access to critical resources\, including health and housing. \n \nCommunity Ownership & Stewardship both center collective economics and self-determination which ensure residents have control over their own communities\, and that they share in all its work and wealth. Since traditional forms of land and resource ownership have extracted value from our communities\, we propose community control of assets as a strategy toward healing and justice by shifting toward a living economy. We create community control of assets and resources through community decision-making\, uplifting a model of public control over public resources for public good.
URL:https://gridphilly.com/event/racial-equity-environmental-justice-community-stewardship-of-real-estate/
LOCATION:322 W 21st St\, 322 West 21st Street\, Chester\, PA\, 19013\, United States
ATTACH;FMTTYPE=image/jpeg:https://gridphilly.com/wp-content/uploads/2024/10/1925219fd8cf355c78c431ed681fa1c3.jpg
END:VEVENT
END:VCALENDAR