BEGIN:VCALENDAR
VERSION:2.0
PRODID:-//Grid Magazine - ECPv6.15.20//NONSGML v1.0//EN
CALSCALE:GREGORIAN
METHOD:PUBLISH
X-WR-CALNAME:Grid Magazine
X-ORIGINAL-URL:https://gridphilly.com
X-WR-CALDESC:Events for Grid Magazine
REFRESH-INTERVAL;VALUE=DURATION:PT1H
X-Robots-Tag:noindex
X-PUBLISHED-TTL:PT1H
BEGIN:VTIMEZONE
TZID:America/New_York
BEGIN:DAYLIGHT
TZOFFSETFROM:-0500
TZOFFSETTO:-0400
TZNAME:EDT
DTSTART:20240310T070000
END:DAYLIGHT
BEGIN:STANDARD
TZOFFSETFROM:-0400
TZOFFSETTO:-0500
TZNAME:EST
DTSTART:20241103T060000
END:STANDARD
BEGIN:DAYLIGHT
TZOFFSETFROM:-0500
TZOFFSETTO:-0400
TZNAME:EDT
DTSTART:20250309T070000
END:DAYLIGHT
BEGIN:STANDARD
TZOFFSETFROM:-0400
TZOFFSETTO:-0500
TZNAME:EST
DTSTART:20251102T060000
END:STANDARD
BEGIN:DAYLIGHT
TZOFFSETFROM:-0500
TZOFFSETTO:-0400
TZNAME:EDT
DTSTART:20260308T070000
END:DAYLIGHT
BEGIN:STANDARD
TZOFFSETFROM:-0400
TZOFFSETTO:-0500
TZNAME:EST
DTSTART:20261101T060000
END:STANDARD
END:VTIMEZONE
BEGIN:VEVENT
DTSTART;TZID=America/New_York:20250122T090000
DTEND;TZID=America/New_York:20250122T110000
DTSTAMP:20260424T091558
CREATED:20241223T142625Z
LAST-MODIFIED:20250101T195038Z
UID:10016151-1737536400-1737543600@gridphilly.com
SUMMARY:Coffee Talk: Tour & Networking w/ Habitat ReStore + Circular Philadelphia
DESCRIPTION:Join Circular Philadelphia for a fun morning of touring Habitat ReStore\, networking\, and chatting over coffee and pastries!\n\n\n☕Coffee Talk: Tour & Networking with Habitat ReStore and Circular Philadelphia \nJoin us for a morning of exploration and connection at our event at Habitat for Humanity’s ReStore on Allegheny Ave! \nCircular Philadelphia is excited to be working with the Habitat ReStore to showcase a great example of reuse in the home goods and built environment space. Habitat has been a longtime force for good in both home building and furnishing nationwide\, and they are excited to invite the Philadelphia community for a tour of their new location on Allegheny Avenue. Attendees will learn more about Habitat’s mission and operations for enabling reuse. There will also be coffee and pastries provided as well as time for Circular Philadelphia members and other attendees to network with each other. \n \nEvent Details \n📅 Date : 1/22/25 \n🕰️ When: 9 – 11 AM \n🏠 Location: Habitat ReStore\, 3111 W Allegheny Ave\, Philadelphia \n👥 Who: Open to all circularity enthusiasts and curious minds \n☕Why: To learn\, connect\, and contribute to a thriving Philadelphia – plus: coffee! \n🎫 Price: FREE for members\, $20 for non-members \nBecome a Circular Philadelphia today and attend our inspiring and fun events all year long! Space is limited\, so reserve your spot today. \n \n👞Please wear close-toe & comfortable shoes for the tour! \nSip coffee\, meet new people\, and learn about ReStore’s work. \n \nDon’t miss out on this unique opportunity to engage with like-minded individuals and support circular initiatives in our community. Join Circular Philadelphia now. \n \nSee you there!
URL:https://gridphilly.com/event/coffee-talk-tour-networking-w-habitat-restore-circular-philadelphia/
LOCATION:3111 W Allegheny Ave\, 3111 West Allegheny Avenue\, Philadelphia\, PA\, 19132\, United States
ATTACH;FMTTYPE=image/jpeg:https://gridphilly.com/wp-content/uploads/2024/12/56b82483b9e1c13758dff99dc3c9e85c.jpg
END:VEVENT
END:VCALENDAR