BEGIN:VCALENDAR
VERSION:2.0
PRODID:-//Grid Magazine - ECPv6.15.20//NONSGML v1.0//EN
CALSCALE:GREGORIAN
METHOD:PUBLISH
X-WR-CALNAME:Grid Magazine
X-ORIGINAL-URL:https://gridphilly.com
X-WR-CALDESC:Events for Grid Magazine
REFRESH-INTERVAL;VALUE=DURATION:PT1H
X-Robots-Tag:noindex
X-PUBLISHED-TTL:PT1H
BEGIN:VTIMEZONE
TZID:America/New_York
BEGIN:DAYLIGHT
TZOFFSETFROM:-0500
TZOFFSETTO:-0400
TZNAME:EDT
DTSTART:20230312T070000
END:DAYLIGHT
BEGIN:STANDARD
TZOFFSETFROM:-0400
TZOFFSETTO:-0500
TZNAME:EST
DTSTART:20231105T060000
END:STANDARD
BEGIN:DAYLIGHT
TZOFFSETFROM:-0500
TZOFFSETTO:-0400
TZNAME:EDT
DTSTART:20240310T070000
END:DAYLIGHT
BEGIN:STANDARD
TZOFFSETFROM:-0400
TZOFFSETTO:-0500
TZNAME:EST
DTSTART:20241103T060000
END:STANDARD
BEGIN:DAYLIGHT
TZOFFSETFROM:-0500
TZOFFSETTO:-0400
TZNAME:EDT
DTSTART:20250309T070000
END:DAYLIGHT
BEGIN:STANDARD
TZOFFSETFROM:-0400
TZOFFSETTO:-0500
TZNAME:EST
DTSTART:20251102T060000
END:STANDARD
BEGIN:DAYLIGHT
TZOFFSETFROM:-0500
TZOFFSETTO:-0400
TZNAME:EDT
DTSTART:20260308T070000
END:DAYLIGHT
BEGIN:STANDARD
TZOFFSETFROM:-0400
TZOFFSETTO:-0500
TZNAME:EST
DTSTART:20261101T060000
END:STANDARD
END:VTIMEZONE
BEGIN:VEVENT
DTSTART;TZID=America/New_York:20250810T080000
DTEND;TZID=America/New_York:20250810T170000
DTSTAMP:20260424T114514
CREATED:20250707T161748Z
LAST-MODIFIED:20250707T161748Z
UID:10019814-1754812800-1754845200@gridphilly.com
SUMMARY:*Assembly Required – Designer Toy Art Festival
DESCRIPTION:For the first time ever\, art toy culture comes to Philadelphia with cutting edge independent toy creators at The Designer Toy Art Festival. As the premiere destination for independent designer\, bootleg and art toy artists and collectors from across North America\, the successful *Assembly Required event team shows up with pop culture powerhouse GoHero and local creative agency POP Solutions\, to bring over 100 indie brands together for a unique experience. Honoring this melting pot of artistic expression\, inspired by pop culture and street art\, the exhibition starts August 1st with creative events\, food\, music\, entertainment\, and leads to the main event August 9-10\, at the historic 23rd Street Armory.
URL:https://gridphilly.com/event/assembly-required-designer-toy-art-festival/2025-08-10/
LOCATION:23rd Street Armory\, 22 South 23rd Street\, Philadelphia\, PA\, 19103\, United States
CATEGORIES:Art,Event,Events,Festival,Gallery,general,General Events,Other,Social,Special Event
ATTACH;FMTTYPE=image/jpeg:https://gridphilly.com/wp-content/uploads/2025/07/Poster-2025-PHL.jpg
ORGANIZER;CN="*Assembly Required":MAILTO:info@assembly-required.net
END:VEVENT
BEGIN:VEVENT
DTSTART;TZID=America/New_York:20250809T110000
DTEND;TZID=America/New_York:20250809T170000
DTSTAMP:20260424T114514
CREATED:20250707T161748Z
LAST-MODIFIED:20250707T161748Z
UID:10019800-1754737200-1754758800@gridphilly.com
SUMMARY:*Assembly Required – Designer Toy Art Festival
DESCRIPTION:For the first time ever\, art toy culture comes to Philadelphia with cutting edge independent toy creators at The Designer Toy Art Festival. As the premiere destination for independent designer\, bootleg and art toy artists and collectors from across North America\, the successful *Assembly Required event team shows up with pop culture powerhouse GoHero and local creative agency POP Solutions\, to bring over 100 indie brands together for a unique experience. Honoring this melting pot of artistic expression\, inspired by pop culture and street art\, the exhibition starts August 1st with creative events\, food\, music\, entertainment\, and leads to the main event August 9-10\, at the historic 23rd Street Armory.
URL:https://gridphilly.com/event/assembly-required-designer-toy-art-festival/2025-08-09/
LOCATION:23rd Street Armory\, 22 South 23rd Street\, Philadelphia\, PA\, 19103\, United States
CATEGORIES:Art,Event,Events,Festival,Gallery,general,General Events,Other,Social,Special Event
ATTACH;FMTTYPE=image/jpeg:https://gridphilly.com/wp-content/uploads/2025/07/Poster-2025-PHL.jpg
ORGANIZER;CN="*Assembly Required":MAILTO:info@assembly-required.net
END:VEVENT
BEGIN:VEVENT
DTSTART;TZID=America/New_York:20250202T100000
DTEND;TZID=America/New_York:20250202T170000
DTSTAMP:20260424T114514
CREATED:20250127T182947Z
LAST-MODIFIED:20250127T182947Z
UID:10016830-1738490400-1738515600@gridphilly.com
SUMMARY:Punk Rock Flea Market
DESCRIPTION:The Punk Rock Flea Market is the place to shop for awesome clothing\, records\, crafts\, art\, and most of all old punk junk – Feb 1-2 2025 at the 23rd St Armory! \n10AM to 5PM Saturday and Sunday the 1st and 2nd. \nThis is an indoor event\, rain or shine\, inside the Armory! 22 S 23rd St\, Philadelphia\, PA 19103 is the event location! \n$10 at the door\, kids 12 and under free\n(ticket good for both days!) \nDogs on leashes are welcome! (please\, only one dog per attendee) \nRSVP and invite your friends today! \nParking: there is a parking garage next door to the armory\, and a surface lot at 24th and Sansom.
URL:https://gridphilly.com/event/punk-rock-flea-market/2025-02-02/
LOCATION:23rd Street Armory\, 22 South 23rd Street\, Philadelphia\, PA\, 19103\, United States
ATTACH;FMTTYPE=image/jpeg:https://gridphilly.com/wp-content/uploads/2025/01/PRFMFeb2025.jpg
END:VEVENT
BEGIN:VEVENT
DTSTART;TZID=America/New_York:20250201T100000
DTEND;TZID=America/New_York:20250201T170000
DTSTAMP:20260424T114514
CREATED:20250127T182947Z
LAST-MODIFIED:20250127T182947Z
UID:10016829-1738404000-1738429200@gridphilly.com
SUMMARY:Punk Rock Flea Market
DESCRIPTION:The Punk Rock Flea Market is the place to shop for awesome clothing\, records\, crafts\, art\, and most of all old punk junk – Feb 1-2 2025 at the 23rd St Armory! \n10AM to 5PM Saturday and Sunday the 1st and 2nd. \nThis is an indoor event\, rain or shine\, inside the Armory! 22 S 23rd St\, Philadelphia\, PA 19103 is the event location! \n$10 at the door\, kids 12 and under free\n(ticket good for both days!) \nDogs on leashes are welcome! (please\, only one dog per attendee) \nRSVP and invite your friends today! \nParking: there is a parking garage next door to the armory\, and a surface lot at 24th and Sansom.
URL:https://gridphilly.com/event/punk-rock-flea-market/2025-02-01/
LOCATION:23rd Street Armory\, 22 South 23rd Street\, Philadelphia\, PA\, 19103\, United States
ATTACH;FMTTYPE=image/jpeg:https://gridphilly.com/wp-content/uploads/2025/01/PRFMFeb2025.jpg
END:VEVENT
BEGIN:VEVENT
DTSTART;TZID=America/New_York:20241208T120000
DTEND;TZID=America/New_York:20241208T170000
DTSTAMP:20260424T114514
CREATED:20241125T174923Z
LAST-MODIFIED:20241125T195002Z
UID:10015819-1733659200-1733677200@gridphilly.com
SUMMARY:Philadelphia Rare Book and Print Fair
DESCRIPTION:The Philadelphia Rare Book and Print Fair will bring over 60 rare book and print fairs to the heart of Philadelphia.\n\n\nBuilding on the success of the Philadelphia Rare Book and Print Fair\, we will move the fair to an exciting new venue which can accommodate three times as many exhibitors. The Philadelphia Rare Book Fair will be held at the 23rd Street Armory\, with space for over 60 exhibitors.
URL:https://gridphilly.com/event/philadelphia-rare-book-and-print-fair/
LOCATION:23rd Street Armory\, 22 South 23rd Street\, Philadelphia\, PA\, 19103\, United States
ATTACH;FMTTYPE=image/jpeg:https://gridphilly.com/wp-content/uploads/2024/11/1ca6b8c6bba336cec42a8d75786f158c.jpg
END:VEVENT
BEGIN:VEVENT
DTSTART;TZID=America/New_York:20240511T090000
DTEND;TZID=America/New_York:20240511T170000
DTSTAMP:20260424T114514
CREATED:20240401T131433Z
LAST-MODIFIED:20240401T131433Z
UID:10012200-1715418000-1715446800@gridphilly.com
SUMMARY:Philly in Full Bloom: A Junior League Market
DESCRIPTION:Join the Junior League of Philadelphia during Mother’s Day weekend for Philly in Full Bloom: A Junior League Market! Taking place on Saturday May 11 at Philadelphia’s historic 23rd Street Armory the event will feature the city’s many sights and sounds of the spring season and allow patrons to shop from some of Philadelphia’s best artisans creators and vendors. Tickets are on sale now for $10 as part of a pre-sale discount and will go to $20 on March 20. Tickets will also be sold at the door for an increased price.
URL:https://gridphilly.com/event/philly-in-full-bloom-a-junior-league-market/
LOCATION:23rd Street Armory\, 22 South 23rd Street\, Philadelphia\, PA\, 19103\, United States
CATEGORIES:Event
ATTACH;FMTTYPE=image/png:https://gridphilly.com/wp-content/uploads/2024/03/sm-logo.png
ORGANIZER;CN="Junior League of Philadelphia":MAILTO:info@jlphiladelphia.org
END:VEVENT
END:VCALENDAR