BEGIN:VCALENDAR
VERSION:2.0
PRODID:-//Grid Magazine - ECPv6.15.20//NONSGML v1.0//EN
CALSCALE:GREGORIAN
METHOD:PUBLISH
X-WR-CALNAME:Grid Magazine
X-ORIGINAL-URL:https://gridphilly.com
X-WR-CALDESC:Events for Grid Magazine
REFRESH-INTERVAL;VALUE=DURATION:PT1H
X-Robots-Tag:noindex
X-PUBLISHED-TTL:PT1H
BEGIN:VTIMEZONE
TZID:America/New_York
BEGIN:DAYLIGHT
TZOFFSETFROM:-0500
TZOFFSETTO:-0400
TZNAME:EDT
DTSTART:20250309T070000
END:DAYLIGHT
BEGIN:STANDARD
TZOFFSETFROM:-0400
TZOFFSETTO:-0500
TZNAME:EST
DTSTART:20251102T060000
END:STANDARD
BEGIN:DAYLIGHT
TZOFFSETFROM:-0500
TZOFFSETTO:-0400
TZNAME:EDT
DTSTART:20260308T070000
END:DAYLIGHT
BEGIN:STANDARD
TZOFFSETFROM:-0400
TZOFFSETTO:-0500
TZNAME:EST
DTSTART:20261101T060000
END:STANDARD
BEGIN:DAYLIGHT
TZOFFSETFROM:-0500
TZOFFSETTO:-0400
TZNAME:EDT
DTSTART:20270314T070000
END:DAYLIGHT
BEGIN:STANDARD
TZOFFSETFROM:-0400
TZOFFSETTO:-0500
TZNAME:EST
DTSTART:20271107T060000
END:STANDARD
END:VTIMEZONE
BEGIN:VEVENT
DTSTART;TZID=America/New_York:20260110T100000
DTEND;TZID=America/New_York:20260110T120000
DTSTAMP:20260421T183234
CREATED:20260102T194149Z
LAST-MODIFIED:20260102T194149Z
UID:10027931-1768039200-1768046400@gridphilly.com
SUMMARY:VU PHL + Global Citizen
DESCRIPTION:Join VU PHL help Global Citizen prep for MLK’s Day of Service!\n\n\nGlobal Citizen is non-partisan organization dedicated to promoting civic engagement\, community volunteering\, civic responsibility\, and sustained active citizenship among diverse groups\, particularly young people. Global Citizen promotes democracy building\, voter education and participation\, locally and globally. We bring together people of all ages and backgrounds to build diverse partnerships through serving others\, thus realizing how much more we have in common than our difference. \n \nWhat we will be doing on Saturday\, January 10th \, 10AM – 12 PM: \nVolunteers will help bundle pallets of t-shirts into bundles requested by King Day organizers for their volunteers. It involves unpacking boxes of shirts and repacking bags and boxes of specific size breakdowns and labeling them for organizations to pick up later that weekend. \n \nNotes ahead of the event! \n\nRecommended Dress: Casual\, gloves recommended\nAfter volunteering\, we will go to a local bar/restaurant for a celebratory afterjawn!\n\n \nParking & Transportation \n\nParking: Free street parking on 15th St\, W Montgomery St\, W Norris St and 16th St. Entrance is located on the north side of the building off 15th St.\n\n\nSEPTA: 0.2 miles from Cecil B. Moore Station\n\n \nA note about cancellations: \nIf your schedule changes and you can no longer make it\, please email volunteeringuntappedphl@gmail.com ASAP to let us know. This way\, your spot can be given to someone else on the waitlist. THANK YOU!
URL:https://gridphilly.com/event/vu-phl-global-citizen-2/
LOCATION:1816 N 15th St\, 1816 North 15th Street\, Philadelphia\, PA\, 19121\, United States
ATTACH;FMTTYPE=image/jpeg:https://gridphilly.com/wp-content/uploads/2025/01/21509bccf404c88128d3c9c787f635cf.jpg
END:VEVENT
END:VCALENDAR