BEGIN:VCALENDAR
VERSION:2.0
PRODID:-//Grid Magazine - ECPv6.15.20//NONSGML v1.0//EN
CALSCALE:GREGORIAN
METHOD:PUBLISH
X-ORIGINAL-URL:https://gridphilly.com
X-WR-CALDESC:Events for Grid Magazine
REFRESH-INTERVAL;VALUE=DURATION:PT1H
X-Robots-Tag:noindex
X-PUBLISHED-TTL:PT1H
BEGIN:VTIMEZONE
TZID:America/New_York
BEGIN:DAYLIGHT
TZOFFSETFROM:-0500
TZOFFSETTO:-0400
TZNAME:EDT
DTSTART:20230312T070000
END:DAYLIGHT
BEGIN:STANDARD
TZOFFSETFROM:-0400
TZOFFSETTO:-0500
TZNAME:EST
DTSTART:20231105T060000
END:STANDARD
BEGIN:DAYLIGHT
TZOFFSETFROM:-0500
TZOFFSETTO:-0400
TZNAME:EDT
DTSTART:20240310T070000
END:DAYLIGHT
BEGIN:STANDARD
TZOFFSETFROM:-0400
TZOFFSETTO:-0500
TZNAME:EST
DTSTART:20241103T060000
END:STANDARD
BEGIN:DAYLIGHT
TZOFFSETFROM:-0500
TZOFFSETTO:-0400
TZNAME:EDT
DTSTART:20250309T070000
END:DAYLIGHT
BEGIN:STANDARD
TZOFFSETFROM:-0400
TZOFFSETTO:-0500
TZNAME:EST
DTSTART:20251102T060000
END:STANDARD
END:VTIMEZONE
BEGIN:VEVENT
DTSTART;TZID=America/New_York:20241109T120000
DTEND;TZID=America/New_York:20241109T153000
DTSTAMP:20260421T183226
CREATED:20241101T172138Z
LAST-MODIFIED:20241101T172138Z
UID:10015525-1731153600-1731166200@gridphilly.com
SUMMARY:VU PHL & The Everywhere Project
DESCRIPTION:Join The Everywhere Project and Volunteer Untapped Philadelphia to distribute hot food\, water\, and clothing in Kensington.\n\n\nJoin The Everywhere Project and Volunteer Untapped Philadelphia on Saturday\, Nov. 9th at Ruth & Clearfield\, where hot food\, water\, clothing\, and harm reduction supplies will be provided to the Kensington community. \nThere will be a Harm Reduction and Wound Care station\, and volunteers with medical training can opt-in for this station. \nAdditionally\, depending on the number of volunteers\, The Everywhere Project may organize mobile teams and clean-up crews. Volunteers interested in these roles should be willing to receive naloxone training. \nSeveral Everywhere Project team members will be there to assist and answer any questions along the way. \nWhat we will be doing on 11/9: \nWe will be supporting a community outreach event in Kensington: \n\nSetting up tables and supplies\nDistributing food\, clothing\, and harm reduction supplies\nBreaking down and cleaning up\n\nAdditional Details: \n\nWe will be outside. Dress appropriately.\nVolunteers must RSVP for the event on The Everywhere Projects Volunteer Page. This RSVP form is not available as of 10/19. The link will be shared with all registered volunteers.\n\nA fterjawn at Kensignton Pub! \nWe’ll all head to Kensington Pub (2116 E Tioga St Phila\, PA) around 4pm to celebrate a job well done! It’s a great chance to get to know the VU Crew and celebrate the good work we’re all doing together!
URL:https://gridphilly.com/event/vu-phl-the-everywhere-project/
LOCATION:1810 E Clearfield St\, 1810 East Clearfield Street\, Philadelphia\, PA\, 19134\, United States
ATTACH;FMTTYPE=image/jpeg:https://gridphilly.com/wp-content/uploads/2024/11/b9c34101fd3057060e5094576c16164a.jpg
END:VEVENT
END:VCALENDAR