BEGIN:VCALENDAR
VERSION:2.0
PRODID:-//Grid Magazine - ECPv6.15.20//NONSGML v1.0//EN
CALSCALE:GREGORIAN
METHOD:PUBLISH
X-ORIGINAL-URL:https://gridphilly.com
X-WR-CALDESC:Events for Grid Magazine
REFRESH-INTERVAL;VALUE=DURATION:PT1H
X-Robots-Tag:noindex
X-PUBLISHED-TTL:PT1H
BEGIN:VTIMEZONE
TZID:America/New_York
BEGIN:DAYLIGHT
TZOFFSETFROM:-0500
TZOFFSETTO:-0400
TZNAME:EDT
DTSTART:20230312T070000
END:DAYLIGHT
BEGIN:STANDARD
TZOFFSETFROM:-0400
TZOFFSETTO:-0500
TZNAME:EST
DTSTART:20231105T060000
END:STANDARD
BEGIN:DAYLIGHT
TZOFFSETFROM:-0500
TZOFFSETTO:-0400
TZNAME:EDT
DTSTART:20240310T070000
END:DAYLIGHT
BEGIN:STANDARD
TZOFFSETFROM:-0400
TZOFFSETTO:-0500
TZNAME:EST
DTSTART:20241103T060000
END:STANDARD
BEGIN:DAYLIGHT
TZOFFSETFROM:-0500
TZOFFSETTO:-0400
TZNAME:EDT
DTSTART:20250309T070000
END:DAYLIGHT
BEGIN:STANDARD
TZOFFSETFROM:-0400
TZOFFSETTO:-0500
TZNAME:EST
DTSTART:20251102T060000
END:STANDARD
END:VTIMEZONE
BEGIN:VEVENT
DTSTART;TZID=America/New_York:20240824T120000
DTEND;TZID=America/New_York:20240824T180000
DTSTAMP:20260421T063910
CREATED:20240803T174612Z
LAST-MODIFIED:20240803T174612Z
UID:10013853-1724500800-1724522400@gridphilly.com
SUMMARY:Philly Peace Fest
DESCRIPTION:A vibrant celebration of unity\, designed to foster trauma healing & violence prevention while offering fun and engaging activities for youth\n\n\nThe day will feature a variety of workshops and therapy sessions focused on emotional well-being and personal growth. Enjoy free food\, including delicious funnel cakes\, hot dogs\, sausages\, hamburgers\, while the kids have fun with face painting and games. Entertainment will be provided throughout the event\, ensuring there’s something for everyone.
URL:https://gridphilly.com/event/philly-peace-fest/
LOCATION:1400 S Paxon St\, 1400 South Paxon Street\, Philadelphia\, PA\, 19143\, United States
ATTACH;FMTTYPE=image/jpeg:https://gridphilly.com/wp-content/uploads/2024/08/dce45876f7d64c254c5764a29ab1839a.jpg
END:VEVENT
END:VCALENDAR