BEGIN:VCALENDAR
VERSION:2.0
PRODID:-//Grid Magazine - ECPv6.15.20//NONSGML v1.0//EN
CALSCALE:GREGORIAN
METHOD:PUBLISH
X-WR-CALNAME:Grid Magazine
X-ORIGINAL-URL:https://gridphilly.com
X-WR-CALDESC:Events for Grid Magazine
REFRESH-INTERVAL;VALUE=DURATION:PT1H
X-Robots-Tag:noindex
X-PUBLISHED-TTL:PT1H
BEGIN:VTIMEZONE
TZID:America/New_York
BEGIN:DAYLIGHT
TZOFFSETFROM:-0500
TZOFFSETTO:-0400
TZNAME:EDT
DTSTART:20230312T070000
END:DAYLIGHT
BEGIN:STANDARD
TZOFFSETFROM:-0400
TZOFFSETTO:-0500
TZNAME:EST
DTSTART:20231105T060000
END:STANDARD
BEGIN:DAYLIGHT
TZOFFSETFROM:-0500
TZOFFSETTO:-0400
TZNAME:EDT
DTSTART:20240310T070000
END:DAYLIGHT
BEGIN:STANDARD
TZOFFSETFROM:-0400
TZOFFSETTO:-0500
TZNAME:EST
DTSTART:20241103T060000
END:STANDARD
BEGIN:DAYLIGHT
TZOFFSETFROM:-0500
TZOFFSETTO:-0400
TZNAME:EDT
DTSTART:20250309T070000
END:DAYLIGHT
BEGIN:STANDARD
TZOFFSETFROM:-0400
TZOFFSETTO:-0500
TZNAME:EST
DTSTART:20251102T060000
END:STANDARD
END:VTIMEZONE
BEGIN:VEVENT
DTSTART;TZID=America/New_York:20240507T173000
DTEND;TZID=America/New_York:20240507T193000
DTSTAMP:20260421T200635
CREATED:20240502T185516Z
LAST-MODIFIED:20240502T185516Z
UID:10012682-1715103000-1715110200@gridphilly.com
SUMMARY:B Local Philly Spring Info Social
DESCRIPTION:B Local Spring Info Social\n\n\nB Local Friends! \nWe are excited to invite the B Local Philly Community to our Spring Info Social hosted by recently Certfied B Corp Seer at The Piazza 1033 N 2nd St 2nd floor\, Philadelphia\, PA 19123. Our Info Social will be a time to report on our experiences at the Annual Champions Retreat and hear from others’ experiences\, the impact the retreat had on the Philadelphia Impact Ecosystem\, and what this all means for B Local Philly. We will also use this time to gather input on programming and share the Q2 B Lab updates. There will be appetizers and drinks. \nWe can’t wait to see you there!!
URL:https://gridphilly.com/event/b-local-philly-spring-info-social/
LOCATION:1033 N 2nd St 2nd floor\, 1033 North 2nd Street\, #2nd floor\, Philadelphia\, PA\, 19123\, United States
ATTACH;FMTTYPE=image/jpeg:https://gridphilly.com/wp-content/uploads/2024/05/f93fe48be0aec32b7c04a885e0631609.jpg
END:VEVENT
END:VCALENDAR